BEGIN:VCALENDAR
VERSION:2.0
PRODID:-// - ECPv6.15.14//NONSGML v1.0//EN
CALSCALE:GREGORIAN
METHOD:PUBLISH
X-ORIGINAL-URL:https://nhccnm.org
X-WR-CALDESC:Events for 
REFRESH-INTERVAL;VALUE=DURATION:PT1H
X-Robots-Tag:noindex
X-PUBLISHED-TTL:PT1H
BEGIN:VTIMEZONE
TZID:America/Denver
BEGIN:DAYLIGHT
TZOFFSETFROM:-0700
TZOFFSETTO:-0600
TZNAME:MDT
DTSTART:20170312T090000
END:DAYLIGHT
BEGIN:STANDARD
TZOFFSETFROM:-0600
TZOFFSETTO:-0700
TZNAME:MST
DTSTART:20171105T080000
END:STANDARD
BEGIN:DAYLIGHT
TZOFFSETFROM:-0700
TZOFFSETTO:-0600
TZNAME:MDT
DTSTART:20180311T090000
END:DAYLIGHT
BEGIN:STANDARD
TZOFFSETFROM:-0600
TZOFFSETTO:-0700
TZNAME:MST
DTSTART:20181104T080000
END:STANDARD
BEGIN:DAYLIGHT
TZOFFSETFROM:-0700
TZOFFSETTO:-0600
TZNAME:MDT
DTSTART:20190310T090000
END:DAYLIGHT
BEGIN:STANDARD
TZOFFSETFROM:-0600
TZOFFSETTO:-0700
TZNAME:MST
DTSTART:20191103T080000
END:STANDARD
END:VTIMEZONE
BEGIN:VEVENT
DTSTART;TZID=America/Denver:20180814T000000
DTEND;TZID=America/Denver:20180814T235959
DTSTAMP:20260419T114830
CREATED:20180728T213049Z
LAST-MODIFIED:20180728T213049Z
UID:5296-1534204800-1534291199@nhccnm.org
SUMMARY:¡Baile! Rueda de Casino (Cuban Salsa) Dance Class
DESCRIPTION:6 pm to 7 pm Beginning and Intermediate – This class is geared for teenagers and adults. Come learn footwork\, partner skills and choreography. No experience necessary. \n7 pm to 8 pm Intermediate and Advanced – In order to participate in this class\, dancers must know how to keep time\, closed position calls\, dame\, enchufla\, and outside turn. \nDance classes taught by Sarita Streng\, Nick Babic\, Adam “El Caballo” Metcalf\, Larry Heard\, and Rueda 505 Friends. \nIn the meantime\, a fun video from Rueda Con Ritmo Dance Group who was just in Cuba Rueda con Ritmo with Jorge Luna Roque in Holguín.\nClick Here. \nThere is no need to pre-register. Just show up in comfortable clothes ready to dance! For more information\, contact elsa.menendez@state.nm.us or 505-246-2261 ext.34744\n$5 – $10 per class (pay what you can)
URL:https://nhccnm.org/event/baile-rueda-de-casino-cuban-salsa-dance-class-26/
LOCATION:NHCC-Newsletter-August-11-–-24
CATEGORIES:Dance,Dance Classes,Education,Workshops
ATTACH;FMTTYPE=image/jpeg:https://nhccnm.org/wp-content/uploads/2016/12/BaileHomeBanner-tall.jpg
END:VEVENT
BEGIN:VEVENT
DTSTART;VALUE=DATE:20180824
DTEND;VALUE=DATE:20180827
DTSTAMP:20260419T114830
CREATED:20180814T203743Z
LAST-MODIFIED:20180814T203743Z
UID:5349-1535068800-1535327999@nhccnm.org
SUMMARY:ABQ Latin Dance Festival 2018: Class Schedule
DESCRIPTION:Albuquerque Latin Dance Festival is proud to welcome both local and guest instructors to this year’s festival.  Check out the full schedule below. \n \n*schedule subject to change \n\n\n\nDAte \nTime\nLocation \nInstructor \nDescription\nLevel \n\n\n\n\nFriday August 24th\n10:00AM – 11:00AM\nPNM-A\nPatti Smith\nConnections\nAll Levels\n\n\nFriday August 24th\n10:00AM – 11:00AM\nPNM-B\nSarita and Shawn Claude\nIntro to Bachata\nBeginning\n\n\nFriday August 24th\n11:15AM – 12:15AM\nPNM-A\nRob Grisko\nBody Movements\nAll Levels\n\n\nFriday August 24th\n11:15AM – 12:15AM\nPNM-B\nTony Espinoza\nIntro to Tango\nBeginning\n\n\nFriday August 24th\n1:30PM – 2:30PM\nPNM-A\nDaybert Linares\nMusicality: Understanding What We Dance To\nAll Levels\n\n\nFriday August 24th\n1:30PM – 2:30PM\nPNM-B\nBetura Madrid\nSalsa on2: an Introduction\nBeginning\n\n\nFriday August 24th\n2:45PM – 3:45PM\nPNM-A\nCarlos Cinta\nMerengue\nAll Levels\n\n\nFriday August 24th\n2:45PM – 3:45PM\nPNM-B\nDaybert Linares\nA Different Type of Basics for Rueda de Casino\nAll Levels\n\n\nFriday August 24th\n4:00PM – 5:00PM\nPNM-A\nRob Grikso\nRob Grikso\nAll Levels\n\n\nFriday August 24th\n4:00PM – 5:00PM\nPNM-B\nCarlota Silva\nLatin Hip Hop\nAll Levels\n\n\nSaturday August 25th\n10:00AM – 11:00AM\nJournal Theater Stage\nRueda 505\nCasino for Beginners\nBeginning\n\n\nSaturday August 25th\n10:00AM – 11:00AM\nPNM-A\nRoy Hernandez\nCha Cha Cha\nAll Levels\n\n\nSaturday August 25th\n10:00AM – 11:00AM\nPNM-B\nJohn Henry and Adrienne Cozza\nLatin Swing from the 1940s\nBeginning /         Intermediate\n\n\nSaturday August 25th\n10:00AM – 11:00AM\nSALON ORTEGA\nStephen Woodberry\nSalsa Caliente Cardio\nAll Levels\n\n\nSaturday August 25th\n10:30PM – 12:00PM\nPrivates\nKarim\nKids/Family Class\n\n\n\nSaturday August 25th\n11:15AM – 12:15PM\nJournal Theater Stage\nDaybert Linares\nIntroduction to Son Montuno: Part1\nBeginning\n\n\nSaturday August 25th\n11:15AM – 12:15PM\nPNM-A\nCarlos Cinta\nBachata Musicality 1: Instrumentality\nAll Levels\n\n\nSaturday August 25th\n11:15AM – 12:15PM\nPNM-B\nJerika Turnbow\nWest Coast Swing for Salsa Dancers\nBeginning\n\n\nSaturday August 25th\n11:15AM – 12:15PM\nSALON ORTEGA\nAna Granados\nSalsa on1 for Beginners\nBeginning\n\n\nSaturday August 25th\n1:30PM – 2:30PM\nJournal Theater Stage\nDaybert Linares\nIntroduction to Son Montuno: Part2\nBeginning\n\n\nSaturday August 25th\n1:30PM – 2:30PM\nPNM-A\nCarlos Cinta\nBachata Musicality 2: Interpretology\nAll Levels\n\n\nSaturday August 25th\n1:30PM – 2:30PM\nPNM-B\nRachel Meth\nIntro Zouk\nBeginning\n\n\nSaturday August 25th\n1:30PM – 2:30PM\nSALON ORTEGA\nJesus Munoz\nFlamenco (use it for your salsa styling)\nAll Levels\n\n\nSaturday August 25th\n2:45PM – 3:45PM\nJournal Theater Stage\nNathan Hook\nMoves for Rueda de Casino\nIntermediate\n\n\nSaturday August 25th\n2:45PM – 3:45PM\nPNM-A\nRob Grisko\nSensual Bachata\nAll Levels\n\n\nSaturday August 25th\n2:45PM – 3:45PM\nPNM-B\nJerika Turnbow\nBody Movement\nAll Levels\n\n\nSaturday August 25th\n2:45PM – 3:45PM\nSALON ORTEGA\nEvelyn Mora\nFolklorico de Mexico\nAll Levels\n\n\nSaturday August 25th\n4:00PM – 5:00PM\nJournal Theater Stage\nDaybert Linares\nMusicality: Learning to Switch Counts While Dancing\nAll Levels\n\n\nSaturday August 25th\n4:00PM – 5:00PM\nPNM-A\nRoy Hernandez\nPartner Work\n\n\n\nSaturday August 25th\n4:00PM – 5:00PM\nPNM-B\nRachel Meth\nIntro Kizomba\nBeginning\n\n\nSaturday August 25th\n4:00PM – 5:00PM\nSALON ORTEGA\nKarim\nSalsa Ladies Styling\nAll Levels\n\n\nSunday August 26th\n10:00AM – 11:00AM\nJournal Theater Stage\nSooz Klalila\nLatin Dance with Bellydance Hip Movement\nAll Levels\n\n\nSunday August 26th\n10:00AM – 11:00AM\nPNM-A\nRoy Hernandez\nMusicality\nAll Levels\n\n\nSunday August 26th\n10:00AM – 11:00AM\nPNM-B\nCarlos Mora\nRueda de Casino: Choreography Building\nIntermediate\n\n\nSunday August 26th\n10:00AM – 11:00AM\nSALON ORTEGA\nPatti Smith\nTurns and Spins\nAll Levels\n\n\nSunday August 26th\n11:15AM – 12:15AM\nJournal Theater Stage\nRachel Meth\nTarraxinha\nAll Levels\n\n\nSunday August 26th\n11:15AM – 12:15AM\nPNM-A\nRob Grisko\nOn1 salsa choreography challenge part1\nIntermediate\n\n\nSunday August 26th\n11:15AM – 12:15AM\nPNM-B\nRueda 505\nIntermediate Casino\nIntermediate\n\n\nSunday August 26th\n11:15AM – 12:15AM\nSALON ORTEGA\nJohn Henry and Adrienne\nSalsa Simple Fundamentals – Shoulder twist with variations\nBeginning /         Intermediate\n\n\nSunday August 26th\n1:30PM – 2:30PM\nJournal Theater Stage\nRachel Meth\nZouk: Body Flow\nAll Levels\n\n\nSunday August 26th\n1:30PM – 2:30PM\nPNM-A\nRob Grisko\nOn1 salsa choreography challenge part2\nIntermediate\n\n\nSunday August 26th\n1:30PM – 2:30PM\nPNM-B\nNathan Hook\nRueda de Casino: Chaining Moves Together\nIntermediate\n\n\nSunday August 26th\n1:30PM – 2:30PM\nSALON ORTEGA\nBentura Madrid\n Samba de Gafieria\n All Levels\n\n\nSunday August 26th\n2:45PM – 3:45PM\nJournal Theater Stage\nJerika Turnbow\nWest Coast Swing and Salsa Fusion: Moves for Both Dances\nAll Levels\n\n\nSunday August 26th\n2:45PM – 3:45PM\nPNM-A\nCarlos Cinta\nBachata Island Body Movement\nAll Levels\n\n\nSunday August 26th\n2:45PM – 3:45PM\nPNM-B\nJim Bucklew\nMultiple partner Casino\nIntermediate\n\n\nSunday August 26th\n2:45PM – 3:45PM\nSALON ORTEGA\nKarim\nCha Cha Cha\nIntermediate/Advanced\n\n\nSunday August 26th\n4:00PM – 5:00PM\nJournal Theater Stage\nCarlota Silva\nReggaton\nAll Levels\n\n\nSunday August 26th\n4:00PM – 5:00PM\nPNM-A\nRoy Hernandez\nFootwork\n\n\n\nSunday August 26th\n4:00PM – 5:00PM\nPNM-B\nAdam Metcalf\nSalsa Suelta\nIntermediate\n\n\nSunday August 26th\n4:00PM – 5:00PM\nSALON ORTEGA\nDeanna Encinas\nFlamenco–Sevillanas\nAll Levels\n\n\n\n 
URL:https://nhccnm.org/event/abq-latin-dance-festival-2018-class-schedule/
LOCATION:PNM Rehearsal Hall\, 1701 4th Street SW\, Albuquerque\, NM\, 87102\, United States
CATEGORIES:Dance,Dance Classes,Performing Arts
ATTACH;FMTTYPE=image/png:https://nhccnm.org/wp-content/uploads/2018/07/ABQ-Latin-Dance-Fest-Logo.png
END:VEVENT
END:VCALENDAR