BEGIN:VCALENDAR
VERSION:2.0
PRODID:-// - ECPv6.15.14//NONSGML v1.0//EN
CALSCALE:GREGORIAN
METHOD:PUBLISH
X-ORIGINAL-URL:https://nhccnm.org
X-WR-CALDESC:Events for 
REFRESH-INTERVAL;VALUE=DURATION:PT1H
X-Robots-Tag:noindex
X-PUBLISHED-TTL:PT1H
BEGIN:VTIMEZONE
TZID:America/Denver
BEGIN:DAYLIGHT
TZOFFSETFROM:-0700
TZOFFSETTO:-0600
TZNAME:MDT
DTSTART:20160313T090000
END:DAYLIGHT
BEGIN:STANDARD
TZOFFSETFROM:-0600
TZOFFSETTO:-0700
TZNAME:MST
DTSTART:20161106T080000
END:STANDARD
BEGIN:DAYLIGHT
TZOFFSETFROM:-0700
TZOFFSETTO:-0600
TZNAME:MDT
DTSTART:20170312T090000
END:DAYLIGHT
BEGIN:STANDARD
TZOFFSETFROM:-0600
TZOFFSETTO:-0700
TZNAME:MST
DTSTART:20171105T080000
END:STANDARD
BEGIN:DAYLIGHT
TZOFFSETFROM:-0700
TZOFFSETTO:-0600
TZNAME:MDT
DTSTART:20180311T090000
END:DAYLIGHT
BEGIN:STANDARD
TZOFFSETFROM:-0600
TZOFFSETTO:-0700
TZNAME:MST
DTSTART:20181104T080000
END:STANDARD
END:VTIMEZONE
BEGIN:VEVENT
DTSTART;VALUE=DATE:20170819
DTEND;VALUE=DATE:20170820
DTSTAMP:20260422T015801
CREATED:20170607T175311Z
LAST-MODIFIED:20170607T175311Z
UID:3855-1503100800-1503187199@nhccnm.org
SUMMARY:Bosque Chile Festival
DESCRIPTION:10 am to 7 pm \nA celebration of food\, art\, and culture on the Rio Grande\, presented by Bernalillo County and the National Hispanic Cultural Center. Join in the celebration of the chile harvest with entertainment\, kids’ activities\, arts and crafts vendors\, food trucks\, beer and wine\, a salsa competition\, and chef demonstrations. \nNew this year—agricultural education workshops and a green chile stew competition. \nEntertainment Schedule: \n10 a.m. – 11:15 a.m. | School of Rock\n11:30 a.m. – 1:15 p.m. | Jagg\n1:30 p.m. – 2:30 p.m. | Rebecca Arscott\n2:30 p.m. – 3:30 p.m. | On Point Dance\n3:30 p.m. – 5 p.m. | Hartless\n5:30 p.m. – 7 p.m. | Red Wine \nFor more information\, call 505-468-1418 or e-mail bosquechilefestival@bernco.gov.\n$5 adults; free for children age 5 and younger
URL:https://nhccnm.org/event/bernalillo-county-nhcc-present-bosque-chile-festival/
LOCATION:NHCC Campus\, 1701 4th Street SW\, Albuquerque\, NM\, 87102
CATEGORIES:Dance,Film,Music,Performing Arts,Seasonal Events
ATTACH;FMTTYPE=image/jpeg:https://nhccnm.org/wp-content/uploads/2017/06/final-chile-festival-logo.jpg
END:VEVENT
BEGIN:VEVENT
DTSTART;VALUE=DATE:20170827
DTEND;VALUE=DATE:20170828
DTSTAMP:20260422T015801
CREATED:20170805T180525Z
LAST-MODIFIED:20170805T180525Z
UID:4000-1503792000-1503878399@nhccnm.org
SUMMARY:High Spirit Dance Recital:  Dancing for Jesus (Rental)
DESCRIPTION:2 pm \nA ballet\, jazz\, and hip-hop dance recital featuring children\, young adults\, and professional dancers—an exciting ensemble of students and teachers bringing today’s music to life in high-quality dance productions.\n$12\, $15\, $17 \n\nThe title\, content\, photos/images and description for this event were provided to the NHCC by the organization renting the NHCC venue for the event. By serving as a venue and posting the event on its website\, the NHCC is not endorsing any views expressed in the title or description of the event\, nor is it endorsing the content of the event.
URL:https://nhccnm.org/event/high-spirit-dance-recital-dancing-jesus-rental-4/
LOCATION:Roy E. Disney Center for Performing Arts: Albuquerque Journal Theatre\, 1701 4th St SW\, Albuquerque\, NM\, 87102
CATEGORIES:Dance,Music,Performing Arts,Theatre
ATTACH;FMTTYPE=image/jpeg:https://nhccnm.org/wp-content/uploads/2016/01/high-spirit-dance-logo1-300x162-1.jpg
END:VEVENT
END:VCALENDAR