BEGIN:VCALENDAR
VERSION:2.0
PRODID:-// - ECPv6.15.14//NONSGML v1.0//EN
CALSCALE:GREGORIAN
METHOD:PUBLISH
X-ORIGINAL-URL:https://nhccnm.org
X-WR-CALDESC:Events for 
REFRESH-INTERVAL;VALUE=DURATION:PT1H
X-Robots-Tag:noindex
X-PUBLISHED-TTL:PT1H
BEGIN:VTIMEZONE
TZID:America/Denver
BEGIN:DAYLIGHT
TZOFFSETFROM:-0700
TZOFFSETTO:-0600
TZNAME:MDT
DTSTART:20160313T090000
END:DAYLIGHT
BEGIN:STANDARD
TZOFFSETFROM:-0600
TZOFFSETTO:-0700
TZNAME:MST
DTSTART:20161106T080000
END:STANDARD
BEGIN:DAYLIGHT
TZOFFSETFROM:-0700
TZOFFSETTO:-0600
TZNAME:MDT
DTSTART:20170312T090000
END:DAYLIGHT
BEGIN:STANDARD
TZOFFSETFROM:-0600
TZOFFSETTO:-0700
TZNAME:MST
DTSTART:20171105T080000
END:STANDARD
BEGIN:DAYLIGHT
TZOFFSETFROM:-0700
TZOFFSETTO:-0600
TZNAME:MDT
DTSTART:20180311T090000
END:DAYLIGHT
BEGIN:STANDARD
TZOFFSETFROM:-0600
TZOFFSETTO:-0700
TZNAME:MST
DTSTART:20181104T080000
END:STANDARD
END:VTIMEZONE
BEGIN:VEVENT
DTSTART;VALUE=DATE:20171019
DTEND;VALUE=DATE:20171020
DTSTAMP:20260421T180320
CREATED:20170915T193152Z
LAST-MODIFIED:20170915T193152Z
UID:4131-1508371200-1508457599@nhccnm.org
SUMMARY:¡Salud y Sabor! Día de los Muertos/México
DESCRIPTION:5:30 pm to 7:30 pm \nSalud y Sabor\, a partnership between the Agri-cultura Network\, Street Food Institute\, and the NHCC\, is a free evening of food\, art\, and entertainment aimed at providing families with an opportunity to connect around nutrition\, cooking\, healthy lifestyles\, and culture. \nOnce a month\, community members gather for cooking demonstrations using fresh\, locally grown ingredients\, as well as fun art activities for kids and adults\, health screenings\, and live entertainment. An emphasis is placed on exploring traditional Hispanic dishes\, providing basic information/free screenings from local Western and alternative health practitioners\, and creating a vibrant atmosphere with art activities and live music. In most months\, free samples of local produce are available. \nFor more information on Salud y Sabor\, contact David Torres at 505/246-2261 or email him DavidM.Torres@state.nm.us\nFree public event \nThank you to Holman’s USA for sponsoring all of our Día de los Muertos activities!
URL:https://nhccnm.org/event/salud-y-sabor-6/
LOCATION:Domenici Education Building\, 1701 4th Street SW\, Albuquerque\, NM\, 87102
CATEGORIES:Dance,Education,Food,Music,Performing Arts,Theatre,Workshops
ATTACH;FMTTYPE=image/jpeg:https://nhccnm.org/wp-content/uploads/2017/09/Salud-y-Sabor-photo-b0x.jpg
END:VEVENT
END:VCALENDAR