BEGIN:VCALENDAR
VERSION:2.0
PRODID:-// - ECPv6.15.14//NONSGML v1.0//EN
CALSCALE:GREGORIAN
METHOD:PUBLISH
X-ORIGINAL-URL:https://nhccnm.org
X-WR-CALDESC:Events for 
REFRESH-INTERVAL;VALUE=DURATION:PT1H
X-Robots-Tag:noindex
X-PUBLISHED-TTL:PT1H
BEGIN:VTIMEZONE
TZID:America/Denver
BEGIN:DAYLIGHT
TZOFFSETFROM:-0700
TZOFFSETTO:-0600
TZNAME:MDT
DTSTART:20160313T090000
END:DAYLIGHT
BEGIN:STANDARD
TZOFFSETFROM:-0600
TZOFFSETTO:-0700
TZNAME:MST
DTSTART:20161106T080000
END:STANDARD
BEGIN:DAYLIGHT
TZOFFSETFROM:-0700
TZOFFSETTO:-0600
TZNAME:MDT
DTSTART:20170312T090000
END:DAYLIGHT
BEGIN:STANDARD
TZOFFSETFROM:-0600
TZOFFSETTO:-0700
TZNAME:MST
DTSTART:20171105T080000
END:STANDARD
BEGIN:DAYLIGHT
TZOFFSETFROM:-0700
TZOFFSETTO:-0600
TZNAME:MDT
DTSTART:20180311T090000
END:DAYLIGHT
BEGIN:STANDARD
TZOFFSETFROM:-0600
TZOFFSETTO:-0700
TZNAME:MST
DTSTART:20181104T080000
END:STANDARD
END:VTIMEZONE
BEGIN:VEVENT
DTSTART;VALUE=DATE:20171201
DTEND;VALUE=DATE:20171203
DTSTAMP:20260421T102619
CREATED:20171006T222201Z
LAST-MODIFIED:20171006T222201Z
UID:4192-1512086400-1512259199@nhccnm.org
SUMMARY:Shoes for the Santo Niño
DESCRIPTION:Friday at 7 pm\nSaturday at 2 pm \nShoes for the Santo Niño is the story of Julianita\, the youngest of eleven children\, who slips out of her home one evening to take a pair of “practical” shoes that she has made to the Santo Niño de Atocha. When she enters the church\, the Santo Niño and the saints come to life\, and Julianita is whisked off into an evening of mystery\, magic\, and miracles. \nThis joyous piece by the Santa Fe Opera depicts the important role of the Santo Niño de Atocha as part of the traditional cultural fabric of northern New Mexico in both Hispanic and Native American families. The tale of Julianita and the Santo Niño\, passed down from generation to generation\, is adapted from the charming children’s story by Peggy Pond Church. The Santo Niño is known as an advocate for healing\, primarily of children\, and many believe that he wears the shoes left by pilgrims who visit his shrines to walk abroad and heal sick children while they sleep. \nPhoto by Brandon Soder.\n$7 for everyone
URL:https://nhccnm.org/event/shoes-santo-nino/
LOCATION:Roy E. Disney Center for Performing Arts: Albuquerque Journal Theatre\, 1701 4th St SW\, Albuquerque\, NM\, 87102
CATEGORIES:Dance,Music,Performing Arts,Theatre
ATTACH;FMTTYPE=image/jpeg:https://nhccnm.org/wp-content/uploads/2017/10/Shoes-for-the-Santo-Nino-box.jpg
END:VEVENT
BEGIN:VEVENT
DTSTART;VALUE=DATE:20171205
DTEND;VALUE=DATE:20171206
DTSTAMP:20260421T102619
CREATED:20171130T230639Z
LAST-MODIFIED:20171130T230639Z
UID:4400-1512432000-1512518399@nhccnm.org
SUMMARY:NHCC Library Latin Dance Book Collection Open House
DESCRIPTION:6:30 pm to 8:30 pm \nThe NHCC Library would like to introduce you to its recently acquired Latin Dance Book Collection\, made possible through a grant from the New Mexico Library Foundation. Join us Tuesday December 5th from 6:30-8:30 pm to view the books\, make free photocopies from the collection\, and enjoy a dance demonstration by the Rueda505 dancers at 6:45 pm. Refreshments will be served. Or on Thursday\, December 14th 4-6 pm\, when once again you will be able to peruse the books\, make free photocopies of pages\, and enjoy refreshments.\nFree public event
URL:https://nhccnm.org/event/nhcc-library-latin-dance-book-collection-open-houses/
LOCATION:NHCC-Newsletter-August-26–September-7
CATEGORIES:Dance,Dance Classes,Education,Workshops
ATTACH;FMTTYPE=image/jpeg:https://nhccnm.org/wp-content/uploads/2017/11/HomeBanner.Latin-DanceBox.jpg
END:VEVENT
BEGIN:VEVENT
DTSTART;VALUE=DATE:20171208
DTEND;VALUE=DATE:20171211
DTSTAMP:20260421T102619
CREATED:20170916T194732Z
LAST-MODIFIED:20170916T194732Z
UID:4135-1512691200-1512950399@nhccnm.org
SUMMARY:Performers Ballet & Jazz Company Presents Christmas Joy (Rental)
DESCRIPTION:7 pm—Friday & Saturday\n 2 pm—Saturday & Sunday \nCome…. Experience the Miracle! Awaken your heart to the true Spirit of Christmas in dance\, as The Performers Ballet & Jazz Company presents the 33rd season of its Bravos Award-winning holiday production\, Christmas Joy. Over fifty classically trained dancers will once again inspire audiences with a repertoire of moving and inspirational classical ballet\, jazz\, and contemporary dance performances choreographed to traditional and contemporary Christmas music. \nA moving and uplifting production\, Christmas Joy has become an Albuquerque holiday tradition. In 1999\, members of the Albuquerque Arts Alliance conferred the Bravos Award for Dance Excellence on The Performers Ballet & Jazz Company. Additionally\, in 2012\, Christmas Joy was given the Albuquerque Community Live Art and Performance Service (Q-Claps) Applause Award for favorite performance.\n$20\, $33 w/ $2 discount for students/seniors/NHCC members; group rates available \n\nThe title\, content\, photos/images and description for this event were provided to the NHCC by the organization renting the NHCC venue for the event. By serving as a venue and posting the event on its website\, the NHCC is not endorsing any views expressed in the title or description of the event\, nor is it endorsing the content of the event.
URL:https://nhccnm.org/event/performers-ballet-jazz-company-presents-christmas-joy-rental/
LOCATION:Roy E. Disney Center for Performing Arts: Albuquerque Journal Theatre\, 1701 4th St SW\, Albuquerque\, NM\, 87102
CATEGORIES:Dance,Music,Performing Arts,Seasonal Events,Theatre
END:VEVENT
BEGIN:VEVENT
DTSTART;VALUE=DATE:20171214
DTEND;VALUE=DATE:20171215
DTSTAMP:20260421T102619
CREATED:20171130T230808Z
LAST-MODIFIED:20171130T230808Z
UID:4403-1513209600-1513295999@nhccnm.org
SUMMARY:NHCC Library Latin Dance Book Collection Open House
DESCRIPTION:4 pm to 6:30 pm  \nThe NHCC Library would like to introduce you to its recently acquired Latin Dance Book Collection\, made possible through a grant from the New Mexico Library Foundation. Join us Tuesday December 5th from 6:30-8:30 pm to view the books\, make free photocopies from the collection\, and enjoy a dance demonstration by the Rueda505 dancers at 6:45 pm. Refreshments will be served. Or on Thursday\, December 14th 4-6 pm\, when once again you will be able to peruse the books\, make free photocopies of pages\, and enjoy refreshments.\nFree public event
URL:https://nhccnm.org/event/nhcc-library-latin-dance-book-collection-open-houses-2/
LOCATION:NHCC-Newsletter-August-26–September-7
CATEGORIES:Dance,Dance Classes,Education,Workshops
ATTACH;FMTTYPE=image/jpeg:https://nhccnm.org/wp-content/uploads/2017/11/HomeBanner.Latin-DanceBox.jpg
END:VEVENT
BEGIN:VEVENT
DTSTART;VALUE=DATE:20171215
DTEND;VALUE=DATE:20171216
DTSTAMP:20260421T102619
CREATED:20160324T235049Z
LAST-MODIFIED:20160324T235049Z
UID:2536-1513296000-1513382399@nhccnm.org
SUMMARY:School Day Event: The Nutcracker Ballet in the Land of Enchantment
DESCRIPTION:10 am \nFestival Ballet Albuquerque and the NHCC\, with choreography by Patricia Dickinson Wells\, present The Nutcracker Ballet in the Land of Enchantment. This beloved holiday classic comes to life in the late 1800s in territorial New Mexico\, with many surprises including Spanish and flamenco dancers\, dancing southwestern snakes\, sheep and shepherdesses\, hummingbirds\, a lively fandango\, and a storyteller doll with children. Traditional favorites such as the Sugar Plum Fairy\, Snowflakes\, and Flowers are also preserved in all their splendor\, while beautiful sets\, lavish western Victorian-era costumes in the first-act Party\, and never-before-seen pyrotechnics in the Battle light up the stage in this all-new production. Resplendent with New Mexico heritage and traditions while maintaining the classical grace of its origins\, The Nutcracker Ballet in the Land of Enchantment is the perfect holiday treat for the whole family!\n$4 \nTo make your reservations call (505) 296-9465 or e-mail festivalballetabq@gmail.com   \n 
URL:https://nhccnm.org/event/festival-ballet-albuquerque-presents-nutcracker-ballet-land-enchantment-community-day-event/
LOCATION:Roy E. Disney Center for Performing Arts: Albuquerque Journal Theatre\, 1701 4th St SW\, Albuquerque\, NM\, 87102
CATEGORIES:Dance,Education,Performing Arts,Workshops
END:VEVENT
BEGIN:VEVENT
DTSTART;VALUE=DATE:20171215
DTEND;VALUE=DATE:20171218
DTSTAMP:20260421T102619
CREATED:20170906T201152Z
LAST-MODIFIED:20170906T201152Z
UID:4111-1513296000-1513555199@nhccnm.org
SUMMARY:The Nutcracker Ballet in the Land of Enchantment
DESCRIPTION:7 pm—Friday & Saturday\n 2 pm—Saturday & Sunday \nFestival Ballet Albuquerque\, with choreography by Patricia Dickinson Wells\, and full live orchestra under the baton of Maestro Guillermo Figueroa\, present The Nutcracker Ballet in the Land of Enchantment. This beloved holiday classic comes to life in the late 1800s in territorial New Mexico\, with many surprises including Spanish and flamenco dancers\, dancing southwestern snakes\, sheep and shepherdesses\, hummingbirds\, a lively fandango\, and a storyteller doll with children. Traditional favorites such as the Sugar Plum Fairy\, Snowflakes\, and Flowers are also preserved in all their splendor\, while beautiful sets\, lavish western Victorian-era costumes in the first-act Party\, and never-before-seen pyrotechnics in the Battle light up the stage in this all-new production. Resplendent with New Mexico heritage and traditions while maintaining the classical grace of its origins\, The Nutcracker Ballet in the Land of Enchantment is the perfect holiday treat for the whole family!\n$14\, $20\, $29\, $38\, $47 w/ $2 off for seniors\, children and NHCC Members. Groups rates available. \nTry our new restaurant! La Fonda del Bosque\, the newest restaurant on the NHCC campus will be open before each performance for dinner or lunch. On Friday and Saturday\, the restaurant will be open from 4:30 pm to 7 pm\, and on Saturday and Sunday it will be open for lunch from 11:30 pm to 2 pm. You can see the menu and regular restaurant hours on the La Fonda del Bosque website here: www.lafondadelbosqueabq.com. Please make a reservation with La Fonda del Bosque if you’d like to attend dinner there on one of these dates. \nThank you to our Performing Arts Season Sponsors Heritage Hotels and Resorts\, the Albuquerque Journal and Southwest Airlines!
URL:https://nhccnm.org/event/nutcracker-ballet-land-enchantment/
LOCATION:Roy E. Disney Center for Performing Arts: Albuquerque Journal Theatre\, 1701 4th St SW\, Albuquerque\, NM\, 87102
CATEGORIES:Dance,Music,Performing Arts,Theatre
ATTACH;FMTTYPE=image/jpeg:https://nhccnm.org/wp-content/uploads/2015/05/nutcracker-in-the-land-of-enchantment-calendar.jpg
END:VEVENT
END:VCALENDAR