BEGIN:VCALENDAR
VERSION:2.0
PRODID:-// - ECPv6.15.14//NONSGML v1.0//EN
CALSCALE:GREGORIAN
METHOD:PUBLISH
X-ORIGINAL-URL:https://nhccnm.org
X-WR-CALDESC:Events for 
REFRESH-INTERVAL;VALUE=DURATION:PT1H
X-Robots-Tag:noindex
X-PUBLISHED-TTL:PT1H
BEGIN:VTIMEZONE
TZID:America/Denver
BEGIN:DAYLIGHT
TZOFFSETFROM:-0700
TZOFFSETTO:-0600
TZNAME:MDT
DTSTART:20170312T090000
END:DAYLIGHT
BEGIN:STANDARD
TZOFFSETFROM:-0600
TZOFFSETTO:-0700
TZNAME:MST
DTSTART:20171105T080000
END:STANDARD
BEGIN:DAYLIGHT
TZOFFSETFROM:-0700
TZOFFSETTO:-0600
TZNAME:MDT
DTSTART:20180311T090000
END:DAYLIGHT
BEGIN:STANDARD
TZOFFSETFROM:-0600
TZOFFSETTO:-0700
TZNAME:MST
DTSTART:20181104T080000
END:STANDARD
BEGIN:DAYLIGHT
TZOFFSETFROM:-0700
TZOFFSETTO:-0600
TZNAME:MDT
DTSTART:20190310T090000
END:DAYLIGHT
BEGIN:STANDARD
TZOFFSETFROM:-0600
TZOFFSETTO:-0700
TZNAME:MST
DTSTART:20191103T080000
END:STANDARD
END:VTIMEZONE
BEGIN:VEVENT
DTSTART;VALUE=DATE:20180301
DTEND;VALUE=DATE:20180303
DTSTAMP:20260420T035800
CREATED:20180127T215220Z
LAST-MODIFIED:20180127T215220Z
UID:4520-1519862400-1520035199@nhccnm.org
SUMMARY:PAPA\, Public Academy for Performing Arts: DREAM Spring Dance Concert 2018 (Rental)
DESCRIPTION:7 pm \nThe Public Academy for Performing Arts (PAPA) presents Dream\, its annual spring dance concert featuring beginning to pre-professional ballet\, contemporary\, flamenco\, hip-hop\, jazz\, and musical theatre dance students from grades 6-12. Approximate length of the event is two hours.\n$7\, $12\, $17 no other discounts \n\nThe title\, content\, photos/images and description for this event were provided to the NHCC by the organization renting the NHCC venue for the event. By serving as a venue and posting the event on its website\, the NHCC is not endorsing any views expressed in the title or description of the event\, nor is it endorsing the content of the event.
URL:https://nhccnm.org/event/papa-public-academy-performing-arts-dream-spring-dance-concert-2018-rental/
LOCATION:Roy E. Disney Center for Performing Arts: Albuquerque Journal Theatre\, 1701 4th St SW\, Albuquerque\, NM\, 87102
CATEGORIES:Dance,Music,Performing Arts,School and Youth Programs,Theatre
ATTACH;FMTTYPE=image/jpeg:https://nhccnm.org/wp-content/uploads/2018/01/PAPA-2018-box.jpg
END:VEVENT
BEGIN:VEVENT
DTSTART;VALUE=DATE:20180303
DTEND;VALUE=DATE:20180305
DTSTAMP:20260420T035800
CREATED:20171222T184210Z
LAST-MODIFIED:20171222T184210Z
UID:4462-1520035200-1520207999@nhccnm.org
SUMMARY:Abrepaso Flamenco & Alice Blumenfeld: Vacío/Void
DESCRIPTION:8 pm Saturday\,\n 2 pm Saturday & Sunday \nAbrepaso seeks to create honest flamenco dance that provokes the audience to think\, feel\, question\, and remember our shared humanity. The name Abrepaso comes from the Spanish phrase “abrir paso\,” which can signify making or paving the way and breaking open space. The company aims to establish a contemporary approach to flamenco in the United States\, breaking down boundaries and stereotypes through professional\, quality performances and education. This flamenco performance explores the voids that thwart us from seeing our own interconnectedness to others and nature. Using environmentalist Rachel Carson’s work as a starting point\, the flamenco movements and new music develop a dynamic approach to the figurative and literal voids we experience in our lives. Featuring Alice Blumenfeld\, composer Lauren Valerie Coons\, guitarist Misael Barraza\, and singer Meagan Chandler.\n$28\, $34 w/ a $2 discount for NHCC members \nThank you to our Performing Arts Season Sponsors Heritage Hotels and Resorts\, the Albuquerque Journal and Southwest Airlines!
URL:https://nhccnm.org/event/abrepaso-flamenco-alice-blumenfeld-vaciovoid/
LOCATION:NHCC-Newsletter-November-2-30
CATEGORIES:Dance,Music,Performing Arts,Theatre
ATTACH;FMTTYPE=image/jpeg:https://nhccnm.org/wp-content/uploads/2017/12/Lisa-Greenberg-5-box.jpg
END:VEVENT
BEGIN:VEVENT
DTSTART;VALUE=DATE:20180306
DTEND;VALUE=DATE:20180307
DTSTAMP:20260420T035800
CREATED:20171111T221053Z
LAST-MODIFIED:20171111T221053Z
UID:4349-1520294400-1520380799@nhccnm.org
SUMMARY:¡Baile! Rueda de Casino (Cuban Salsa) Dance Class
DESCRIPTION:6 pm to 7 pm Beginning and Intermediate – This class is geared for teenagers and adults. Come learn footwork\, partner skills and choreography. No experience necessary. \n7 pm to 8 pm Intermediate and Advanced – In order to participate in this class\, dancers must know how to keep time\, closed position calls\, dame\, enchufla\, and outside turn. \nDance classes taught by Sarita Streng\, Nick Babic\, Adam “El Caballo” Metcalf\, Larry Heard\, and Rueda 505 Friends. \nIn the meantime\, a fun video from Rueda Con Ritmo Dance Group who was just in Cuba Rueda con Ritmo with Jorge Luna Roque in Holguín Click Here. \nThere is no need to pre-register. Just show up in comfortable clothes ready to dance! For more information\, contact elsa.menendez@state.nm.us or 505-246-2261 ext.34744\n$5 – $10 per class (pay what you can)
URL:https://nhccnm.org/event/baile-rueda-de-casino-cuban-salsa-dance-class-9/
LOCATION:NHCC-Newsletter-August-11-–-24
CATEGORIES:Dance,Dance Classes,Education,Performing Arts,Workshops
ATTACH;FMTTYPE=image/jpeg:https://nhccnm.org/wp-content/uploads/2016/12/BaileHomeBanner-tall.jpg
END:VEVENT
BEGIN:VEVENT
DTSTART;VALUE=DATE:20180310
DTEND;VALUE=DATE:20180311
DTSTAMP:20260420T035800
CREATED:20180228T230935Z
LAST-MODIFIED:20180228T230935Z
UID:4784-1520640000-1520726399@nhccnm.org
SUMMARY:Yankwik Xiwitl/Aztec New Year
DESCRIPTION:10 am \nKalpulli Ehekatl\, Kalpulli Izkalli\, y Danza Mayahuel invita la conformidad de Danzas Aztecas de NM y la comunidad a celebrar Yankwik Xiwitl/Año Nuevo Azteca/Mexika Azteca New Year. \nJoin us for a Mexika (Aztec) New Year ceremony\, ushering in Xiwitl Chicwasen Tochtli/Año Seis Conejo/Year Six Rabbit. The schedule is as follows: \n10 am—Arranging the tlamanalli/ofrenda/offering\n12 pm– Mitotiliztli/Danza/Ceremonial dance \nAt 3.30 pm\, the ceremony will be followed by a tlakwalli/comida compartida/potluck at Kalpulli Izkalli\, 1028 Ann Avenue (Isleta and Lopez Road). Please bring your favorite dish to share/traiga su favorito plato de comida para compartir. \nIf you wish to donate flowers\, please bring them to the NHCC before 10 am. \nFor more information call Kalpulli Izkalli at: 452-9208 or 804-4602. \nKalpulli Izkalli—“Celebrating 20 years of Cultura\, Healing\, and Justice.”\nFree public event
URL:https://nhccnm.org/event/yankwik-xiwitlaztec-new-year-2/
LOCATION:NM
CATEGORIES:Dance,Music,Performing Arts,Theatre
ATTACH;FMTTYPE=image/jpeg:https://nhccnm.org/wp-content/uploads/2016/03/Aztec-New-Year2016.jpg
END:VEVENT
BEGIN:VEVENT
DTSTART;VALUE=DATE:20180310
DTEND;VALUE=DATE:20180312
DTSTAMP:20260420T035800
CREATED:20180110T234838Z
LAST-MODIFIED:20180110T234838Z
UID:4485-1520640000-1520812799@nhccnm.org
SUMMARY:Festival Ballet Albuquerque: Sacred Journeys with Robert Mirabal
DESCRIPTION:Saturday at 7 pm and Sunday at 2 pm \nSacred Journeys\, presented by Festival Ballet Albuquerque in partnership with the NHCC\, is a reflection of our New Mexican cultures and storytelling through dance\, music\, and spoken word. Our Hispanic culture is prominent in the story “Las Soldaderas\,” choreographed by Dominic Guerra and depicting the story of the young lovers and the many brave women who fought in the Mexican Revolution. Two-time Grammy award-winning Taos Pueblo musician Robert Mirabal joins FBA onstage\, integrating Native American Pueblo culture of northern New Mexico with the Hispanic culture of the region. Choreographers for the project include featured choreographer Jock Soto\, Patricia Dickinson Wells\, Trey Pickett\, and Natalee Maxwell\, presenting Robert Mirabal favorites from the albums Songs from the Painted Cave\, The River\, and others. Mirabal\, a world-renowned musician\, composer\, poet\, actor\, and screenwriter\, is dedicated to keeping alive the centuries-old customs of Taos Pueblo\, as well as merging his Indigenous American sound with the music of Africa\, Asia\, and the Caribbean in a world music style that defies categorization. \nJock Soto was born on the Navajo reservation in Gallup\, NM to a Navajo Mother and a Puerto Rican father.  Following in the footsteps of his mother\, he first learned to hoop dance — an early foundation for what became one of the most celebrated careers at the New York City Ballet.  On the eve of his retirement from stage 2005\, The New York Times wrote “Ballet is a man called Jock.” \nOf Jock Soto’s memoir “Every Step You Take\,”ten-time Tony Award winner and recipient of the National Medal of Arts\, Tommy Tune said “Airborne in spirit\, earthbound in truth\, the words are moving and masterful.  Like the dancer himself.” \n$14\, $20\, $29\, $38\, $47 w/ $2 off for seniors\, children 10 and younger and NHCC members.\nGroup rates available.
URL:https://nhccnm.org/event/festival-ballet-albuquerque-sacred-journeys-robert-mirabal/
LOCATION:NM
CATEGORIES:Dance,Music,Performing Arts,Theatre
ATTACH;FMTTYPE=image/jpeg:https://nhccnm.org/wp-content/uploads/2018/01/RobertMirabal_InNature_585.jpg
END:VEVENT
BEGIN:VEVENT
DTSTART;VALUE=DATE:20180313
DTEND;VALUE=DATE:20180314
DTSTAMP:20260420T035800
CREATED:20171111T221248Z
LAST-MODIFIED:20171111T221248Z
UID:4350-1520899200-1520985599@nhccnm.org
SUMMARY:¡Baile! Rueda de Casino (Cuban Salsa) Dance Class
DESCRIPTION:6 pm to 7 pm Beginning and Intermediate – This class is geared for teenagers and adults. Come learn footwork\, partner skills and choreography. No experience necessary. \n7 pm to 8 pm Intermediate and Advanced – In order to participate in this class\, dancers must know how to keep time\, closed position calls\, dame\, enchufla\, and outside turn. \nDance classes taught by Sarita Streng\, Nick Babic\, Adam “El Caballo” Metcalf\, Larry Heard\, and Rueda 505 Friends. \nIn the meantime\, a fun video from Rueda Con Ritmo Dance Group who was just in Cuba Rueda con Ritmo with Jorge Luna Roque in Holguín Click Here. \nThere is no need to pre-register. Just show up in comfortable clothes ready to dance! For more information\, contact elsa.menendez@state.nm.us or 505-246-2261 ext.34744\n$5 – $10 per class (pay what you can)
URL:https://nhccnm.org/event/baile-rueda-de-casino-cuban-salsa-dance-class-10/
LOCATION:NHCC-Newsletter-August-11-–-24
CATEGORIES:Dance,Dance Classes,Education,Performing Arts,Workshops
ATTACH;FMTTYPE=image/jpeg:https://nhccnm.org/wp-content/uploads/2016/12/BaileHomeBanner-tall.jpg
END:VEVENT
BEGIN:VEVENT
DTSTART;VALUE=DATE:20180317
DTEND;VALUE=DATE:20180318
DTSTAMP:20260420T035800
CREATED:20180209T002854Z
LAST-MODIFIED:20180209T002854Z
UID:4658-1521244800-1521331199@nhccnm.org
SUMMARY:Jenny and the Mexicats St. Patrick’s Day Dance Party
DESCRIPTION:7:30 pm\nEducation Building Grand Hall \nNHCC and Pop Fizz invite you to celebrate St. Patrick’s Day with a night of dancing and fun with the world-renowned Jenny and The Mexicats. Known for their infectious style of genre-bending music that borrows from pop\, flamenco\, reggae\, mariachi\, jazz\, folk and cumbia this band will knock your socks off and keep you moving all night.  Pop Fizz will have food\, paletas\, beer and alcohol for sale.  This concert is a part of the Revolutions Festival and supported by AMP Concerts.\n$25 \nCheck out some Jenny and the Mexicats videos HERE.
URL:https://nhccnm.org/event/jenny-mexicats-st-patricks-day-dance-party/
LOCATION:Domenici Education Building\, 1701 4th Street SW\, Albuquerque\, NM\, 87102
CATEGORIES:Dance,Music,Performing Arts,Theatre
ATTACH;FMTTYPE=image/jpeg:https://nhccnm.org/wp-content/uploads/2018/02/JM-LOGO-box.jpg
END:VEVENT
BEGIN:VEVENT
DTSTART;VALUE=DATE:20180320
DTEND;VALUE=DATE:20180321
DTSTAMP:20260420T035800
CREATED:20171111T221505Z
LAST-MODIFIED:20171111T221505Z
UID:4351-1521504000-1521590399@nhccnm.org
SUMMARY:¡Baile! Rueda de Casino (Cuban Salsa) Dance Class
DESCRIPTION:6 pm to 7 pm Beginning and Intermediate – This class is geared for teenagers and adults. Come learn footwork\, partner skills and choreography. No experience necessary. \n7 pm to 8 pm Intermediate and Advanced – In order to participate in this class\, dancers must know how to keep time\, closed position calls\, dame\, enchufla\, and outside turn. \nDance classes taught by Sarita Streng\, Nick Babic\, Adam “El Caballo” Metcalf\, Larry Heard\, and Rueda 505 Friends. \nIn the meantime\, a fun video from Rueda Con Ritmo Dance Group who was just in Cuba Rueda con Ritmo with Jorge Luna Roque in Holguín Click Here. \nThere is no need to pre-register. Just show up in comfortable clothes ready to dance! For more information\, contact elsa.menendez@state.nm.us or 505-246-2261 ext.34744\n$5 – $10 per class (pay what you can)
URL:https://nhccnm.org/event/baile-rueda-de-casino-cuban-salsa-dance-class-11/
LOCATION:NHCC-Newsletter-August-11-–-24
CATEGORIES:Dance,Dance Classes,Education,Performing Arts,Workshops
ATTACH;FMTTYPE=image/jpeg:https://nhccnm.org/wp-content/uploads/2016/12/BaileHomeBanner-tall.jpg
END:VEVENT
BEGIN:VEVENT
DTSTART;VALUE=DATE:20180324
DTEND;VALUE=DATE:20180326
DTSTAMP:20260420T035800
CREATED:20180119T182134Z
LAST-MODIFIED:20180119T182134Z
UID:4504-1521849600-1522022399@nhccnm.org
SUMMARY:Performers Ballet & Jazz Company Presents How Love Wins (Rental)
DESCRIPTION:2 pm \nNow celebrating its 5th anniversary\, How Love Wins is a sequel to The Performers Ballet and Jazz Company’s award-winning holiday production of Christmas Joy. Inspired by the Gospel and expressed through dance\, the story of How Love Wins is filled with meaningful and engaging choreography. Progressing from the birth of Jesus through His life\, death and resurrection\, this newest addition to The Performers’ repertoire carries on the professionalism and extraordinary level of performance our audiences have come to expect. How Love Wins came alive as a new opportunity for The Performers to share the redeeming love of our Savior with our audiences.\n$30 w/ $2 discount for students\, seniors and NHCC members. Group rates available \n\nThe title\, content\, photos/images and description for this event were provided to the NHCC by the organization renting the NHCC venue for the event. By serving as a venue and posting the event on its website\, the NHCC is not endorsing any views expressed in the title or description of the event\, nor is it endorsing the content of the event.
URL:https://nhccnm.org/event/performers-ballet-jazz-company-love-wins-rental/
LOCATION:Roy E. Disney Center for Performing Arts: Albuquerque Journal Theatre\, 1701 4th St SW\, Albuquerque\, NM\, 87102
CATEGORIES:Dance,School and Youth Programs,Theatre
ATTACH;FMTTYPE=image/png:https://nhccnm.org/wp-content/uploads/2016/01/How-Love-Wins-Graphic.png
END:VEVENT
BEGIN:VEVENT
DTSTART;VALUE=DATE:20180327
DTEND;VALUE=DATE:20180328
DTSTAMP:20260420T035800
CREATED:20171111T221643Z
LAST-MODIFIED:20171111T221643Z
UID:4352-1522108800-1522195199@nhccnm.org
SUMMARY:¡Baile! Rueda de Casino (Cuban Salsa) Dance Class
DESCRIPTION:6 pm to 7 pm Beginning and Intermediate – This class is geared for teenagers and adults. Come learn footwork\, partner skills and choreography. No experience necessary. \n7 pm to 8 pm Intermediate and Advanced – In order to participate in this class\, dancers must know how to keep time\, closed position calls\, dame\, enchufla\, and outside turn. \nDance classes taught by Sarita Streng\, Nick Babic\, Adam “El Caballo” Metcalf\, Larry Heard\, and Rueda 505 Friends. \nIn the meantime\, a fun video from Rueda Con Ritmo Dance Group who was just in Cuba Rueda con Ritmo with Jorge Luna Roque in Holguín Click Here. \nThere is no need to pre-register. Just show up in comfortable clothes ready to dance! For more information\, contact elsa.menendez@state.nm.us or 505-246-2261 ext.34744\n$5 – $10 per class (pay what you can)
URL:https://nhccnm.org/event/baile-rueda-de-casino-cuban-salsa-dance-class-12/
LOCATION:NHCC-Newsletter-August-11-–-24
CATEGORIES:Dance,Dance Classes,Education,Performing Arts,Workshops
ATTACH;FMTTYPE=image/jpeg:https://nhccnm.org/wp-content/uploads/2016/12/BaileHomeBanner-tall.jpg
END:VEVENT
BEGIN:VEVENT
DTSTART;VALUE=DATE:20180330
DTEND;VALUE=DATE:20180401
DTSTAMP:20260420T035800
CREATED:20180214T221846Z
LAST-MODIFIED:20180214T221846Z
UID:4668-1522368000-1522540799@nhccnm.org
SUMMARY:Yjastros: The American Flamenco Repertory Company 32nd Season
DESCRIPTION:Friday-Saturday\, March 30-31\, 2018\n8 pm \nMystical and innovative\, Yjastros 32 is a flamenco epic featuring world premiere choreographic masterpieces. This breathtaking season features new dances and music by Spanish flamenco master artists Jesús Carmona\, Pedro Córdoba\, Daniel Doña\, and Adrián Santana\, who intertwine the roots of flamenco dance with modern interpretations to create a visually exquisite tapestry of stunning and powerful choreography. Yjastros proudly brings the creative visions of world-renowned flamenco artists to the American public\, while cultivating the living art of flamenco in the United States. \nCelebrating their 32nd season\, the members of Yjastros come together after a year of profound individual growth. Within the past year\, company members have honed their artistic expression both through the spontaneous\, improvisational world of the tablao and through their own artistic projects. This season’s choreographies\, simultaneously traditional and innovative\, perfectly embody the company’s triumphant return to the stage.\n$20\, $30\, $40\, $50 w/ $5 discount for students/seniors/NHCC members \nThank you to our Performing Arts Season Sponsors Heritage Hotels and Resorts\, the Albuquerque Journal and Southwest Airlines!
URL:https://nhccnm.org/event/yjastros-american-flamenco-repertory-company-32nd-season/
LOCATION:Roy E. Disney Center for Performing Arts: Albuquerque Journal Theatre\, 1701 4th St SW\, Albuquerque\, NM\, 87102
CATEGORIES:Dance,Music,Performing Arts,Theatre
ATTACH;FMTTYPE=image/jpeg:https://nhccnm.org/wp-content/uploads/2018/02/yjastros-box.jpg
END:VEVENT
END:VCALENDAR