BEGIN:VCALENDAR
VERSION:2.0
PRODID:-// - ECPv6.15.14//NONSGML v1.0//EN
CALSCALE:GREGORIAN
METHOD:PUBLISH
X-ORIGINAL-URL:https://nhccnm.org
X-WR-CALDESC:Events for 
REFRESH-INTERVAL;VALUE=DURATION:PT1H
X-Robots-Tag:noindex
X-PUBLISHED-TTL:PT1H
BEGIN:VTIMEZONE
TZID:America/Denver
BEGIN:DAYLIGHT
TZOFFSETFROM:-0700
TZOFFSETTO:-0600
TZNAME:MDT
DTSTART:20170312T090000
END:DAYLIGHT
BEGIN:STANDARD
TZOFFSETFROM:-0600
TZOFFSETTO:-0700
TZNAME:MST
DTSTART:20171105T080000
END:STANDARD
BEGIN:DAYLIGHT
TZOFFSETFROM:-0700
TZOFFSETTO:-0600
TZNAME:MDT
DTSTART:20180311T090000
END:DAYLIGHT
BEGIN:STANDARD
TZOFFSETFROM:-0600
TZOFFSETTO:-0700
TZNAME:MST
DTSTART:20181104T080000
END:STANDARD
BEGIN:DAYLIGHT
TZOFFSETFROM:-0700
TZOFFSETTO:-0600
TZNAME:MDT
DTSTART:20190310T090000
END:DAYLIGHT
BEGIN:STANDARD
TZOFFSETFROM:-0600
TZOFFSETTO:-0700
TZNAME:MST
DTSTART:20191103T080000
END:STANDARD
END:VTIMEZONE
BEGIN:VEVENT
DTSTART;VALUE=DATE:20180506
DTEND;VALUE=DATE:20180507
DTSTAMP:20260419T115721
CREATED:20180315T201104Z
LAST-MODIFIED:20180315T201104Z
UID:4817-1525564800-1525651199@nhccnm.org
SUMMARY:Una Celebración de México with Antonio Reyna
DESCRIPTION:2 pm \nThe NHCC and Haverland Carter Lifestyle Group present Una Celebración de México\, paying tribute to the beautiful song and dance of Mexico with award-winning\, internationally renowned mariachi recording artist Antonio Reyna and a cast of talented musicians and performers. Reyna is joined by Mariachi Femenil Flores Mexicanas\, with special guests Reynaldo Maestas and Baile Ilusión.\n$22 w/ $2 discount for seniors\, children 12 and younger\, and NHCC members \n \nCelebrating 22 years as an entertainer\, Antonio Reyna is a New Mexican treasure who is beloved throughout the Southwest and Mexico\, and whose performances have influenced the trajectory of traditional mariachi music. Born in Gallup\, NM\, he began his career as a mariachi vocalist in 1996\, touring with Nelson Martinez before going solo in 2002. In the course of his career\, he has received numerous awards from the New Mexico Hispano Music Association and the New Mexico Hispano Entertainers Association and has released five albums. His latest album\, Recordando a José Alfredo Jiménez\, continues to generate international recognition. \nEstablished in 2001\, El Paso’s Mariachi Femenil Flores Mexicanas is recognized as the premiere all-female mariachi group in the Southwest\, with a repertoire that includes boleros\, huapangos\, corridos\, sones\, cumbias\, and more. The group has shared the stage with world-renowned mariachi groups including Mariachi Vargas\, Mariachi Los Camperos de Nati Cano\, and Grammy-nominated Mariachi Sol de México de José Hernández\, as well as international recording artists Lila Downs and Ozomatli. \nFrom Rociada\, NM\, mariachi soloist Reynaldo Maestas has been performing for 12 years throughout New Mexico and the southwest. He has recorded two CDs\, and received seven New Mexico Hispano Music Association nominations. In 2012\, he accompanied other New Mexico groups to represent the state and the U.S. at the Summer Olympics in London. Together with Antonio Reyna\, he shares his unique\, passionate interpretations of mariachi repertoire in this joyous celebration of the music and dance of Mexico. \nBaile Ilusión\, from Pojoaque\, NM\, was established in 1999. The all-age group performs traditional Mexican ballet folklórico\, sharing the colorful costumes and intricate footwork of dances from the states of Jalisco\, Veracruz\, Chihuahua\, and Sinaloa.
URL:https://nhccnm.org/event/una-celebracion-de-mexico-antonio-reyna/
LOCATION:Roy E. Disney Center for Performing Arts: Albuquerque Journal Theatre\, 1701 4th St SW\, Albuquerque\, NM\, 87102
CATEGORIES:Dance,Music,Performing Arts,Theatre
ATTACH;FMTTYPE=image/jpeg:https://nhccnm.org/wp-content/uploads/2018/03/Antonio-Reyna-PROMO-600.jpg
END:VEVENT
BEGIN:VEVENT
DTSTART;VALUE=DATE:20180520
DTEND;VALUE=DATE:20180521
DTSTAMP:20260419T115721
CREATED:20180329T221151Z
LAST-MODIFIED:20180329T221151Z
UID:4864-1526774400-1526860799@nhccnm.org
SUMMARY:4th Annual South American Folk Festival
DESCRIPTION:2 pm \nThe 4th Annual South American Folk Festival seeks to unite Albuquerque’s South American community in a day of cultural experience and connection through music\, dance\, and food. In addition to food vendors from participating countries\, the festival will feature traditional dancers from Colombia\, Peru\, Venezuela\, Chile\, Brazil\, Argentina\, and Ecuador. \nHighlights of the event include local band Baracutanga performing a traditional batucada and performances by Argentine Tango instructors Eva Garlez and Pablo Rodriguez\, Peruvian dance/choreographers Fiorella Vera Adrianzen and Yessenia Lentz\, and the Odara Dance Ensemble. The featured band will be Houston-based Bamuayā\, led by Venezuelan percussionist Reinaldo Araujo. A Latin fusion group with musicians from all over Latin America as well as the United States\, Bamuayā will be releasing their latest CD in Albuquerque. \nAnd\, proudly representing the Colombian culture\, this event will again welcome Raices Colombianas who\, for the past four years have delighted us with their traditional dances\, folkloric costumes\, and energetic choreographies. They will be presenting two songs\, both of which have folkloric rhythms with roots in the African cultures that integrated with the native Colombian culture.  These dances reflect the themes of courtship and slavery\, but\, at the same time\, tell the stories of ordinary activities like fishing and agriculture. The costumes have a Spanish influence.  Men’s costumes in general are white and in light materials with hats and scarves. The women use wide skirts called polleras.  In addition\, women wear big floral arrangements in their hair to complete the costume.  Instruments commonly heard in this music include drums\, flutes\, marimbas\, and maracas. \n$14 in advance\, $16 day of show w/ $2 discount for NHCC members; free for children age 12 and younger
URL:https://nhccnm.org/event/4th-annual-south-american-folk-festival/
LOCATION:Patio | Fountain Courtyard\, 1701 4th Street SW\, Albuquerque\, NM\, 87102\, United States
CATEGORIES:Dance,Food,Music,Performing Arts
ATTACH;FMTTYPE=image/jpeg:https://nhccnm.org/wp-content/uploads/2018/03/4th-Annual-South-American-Folk-Festival-logo.jpg
END:VEVENT
END:VCALENDAR