BEGIN:VCALENDAR
VERSION:2.0
PRODID:-// - ECPv6.15.14//NONSGML v1.0//EN
CALSCALE:GREGORIAN
METHOD:PUBLISH
X-ORIGINAL-URL:https://nhccnm.org
X-WR-CALDESC:Events for 
REFRESH-INTERVAL;VALUE=DURATION:PT1H
X-Robots-Tag:noindex
X-PUBLISHED-TTL:PT1H
BEGIN:VTIMEZONE
TZID:America/Denver
BEGIN:DAYLIGHT
TZOFFSETFROM:-0700
TZOFFSETTO:-0600
TZNAME:MDT
DTSTART:20160313T090000
END:DAYLIGHT
BEGIN:STANDARD
TZOFFSETFROM:-0600
TZOFFSETTO:-0700
TZNAME:MST
DTSTART:20161106T080000
END:STANDARD
BEGIN:DAYLIGHT
TZOFFSETFROM:-0700
TZOFFSETTO:-0600
TZNAME:MDT
DTSTART:20170312T090000
END:DAYLIGHT
BEGIN:STANDARD
TZOFFSETFROM:-0600
TZOFFSETTO:-0700
TZNAME:MST
DTSTART:20171105T080000
END:STANDARD
BEGIN:DAYLIGHT
TZOFFSETFROM:-0700
TZOFFSETTO:-0600
TZNAME:MDT
DTSTART:20180311T090000
END:DAYLIGHT
BEGIN:STANDARD
TZOFFSETFROM:-0600
TZOFFSETTO:-0700
TZNAME:MST
DTSTART:20181104T080000
END:STANDARD
END:VTIMEZONE
BEGIN:VEVENT
DTSTART;VALUE=DATE:20170530
DTEND;VALUE=DATE:20170531
DTSTAMP:20260419T221355
CREATED:20170510T205401Z
LAST-MODIFIED:20170510T205401Z
UID:3582-1496102400-1496188799@nhccnm.org
SUMMARY:Spanish Cooking Classes:  Paella!
DESCRIPTION:6 pm \nThere are national dishes that are universally appreciated\, and paella\, from the Spanish gastronomic tradition\, is undeniably one of them. Instituto Cervantes Albuquerque\, in partnership with the National Hispanic Cultural Center and Pop Fizz\, presents a new Spanish cooking class in the series of monthly classes that we have been presenting since 2013. In these classes\, students participate in the creative process along with the chef. Join chef Rosario Arellano from Cádiz\, Spain\, in preparing a delicious menu including: \nAppetizer: Revuelto de espárragos (asparagus omelet)\nMain course: Seafood and chicken paella (a classic rice-based dish from Valencia)\nDessert: Olive oil “magdalenas” (madeleines)\nDrink: One glass of wine provided per person; additional wine may be purchased from Pop Fizz \nRSVP to this e-mail at prensa.albuquerque@cervantes.es or 505-724-4777 by May 26 \nThere’s a reason why the Mediterranean diet is considered one of the most balanced and healthy on Earth\, and you are invited to find out! \n$35 per person
URL:https://nhccnm.org/event/spanish-cooking-class-paella/
LOCATION:Domenici Education Building\, 1701 4th Street SW\, Albuquerque\, NM\, 87102
CATEGORIES:Food,Instituto Cervantes,Workshops
ATTACH;FMTTYPE=image/jpeg:https://nhccnm.org/wp-content/uploads/2017/05/Paella-tall.jpg
END:VEVENT
END:VCALENDAR