BEGIN:VCALENDAR
VERSION:2.0
PRODID:-// - ECPv6.15.14//NONSGML v1.0//EN
CALSCALE:GREGORIAN
METHOD:PUBLISH
X-ORIGINAL-URL:https://nhccnm.org
X-WR-CALDESC:Events for 
REFRESH-INTERVAL;VALUE=DURATION:PT1H
X-Robots-Tag:noindex
X-PUBLISHED-TTL:PT1H
BEGIN:VTIMEZONE
TZID:America/Denver
BEGIN:DAYLIGHT
TZOFFSETFROM:-0700
TZOFFSETTO:-0600
TZNAME:MDT
DTSTART:20160313T090000
END:DAYLIGHT
BEGIN:STANDARD
TZOFFSETFROM:-0600
TZOFFSETTO:-0700
TZNAME:MST
DTSTART:20161106T080000
END:STANDARD
BEGIN:DAYLIGHT
TZOFFSETFROM:-0700
TZOFFSETTO:-0600
TZNAME:MDT
DTSTART:20170312T090000
END:DAYLIGHT
BEGIN:STANDARD
TZOFFSETFROM:-0600
TZOFFSETTO:-0700
TZNAME:MST
DTSTART:20171105T080000
END:STANDARD
BEGIN:DAYLIGHT
TZOFFSETFROM:-0700
TZOFFSETTO:-0600
TZNAME:MDT
DTSTART:20180311T090000
END:DAYLIGHT
BEGIN:STANDARD
TZOFFSETFROM:-0600
TZOFFSETTO:-0700
TZNAME:MST
DTSTART:20181104T080000
END:STANDARD
END:VTIMEZONE
BEGIN:VEVENT
DTSTART;VALUE=DATE:20170914
DTEND;VALUE=DATE:20170918
DTSTAMP:20260419T143127
CREATED:20170825T191206Z
LAST-MODIFIED:20170825T191206Z
UID:4088-1505347200-1505692799@nhccnm.org
SUMMARY:¡Cine Magnífico! Albuquerque's Latino Film Festival 2017
DESCRIPTION:Welcome to the 5th annual\n ¡Cine Magnífico! Latino Film Festival\nInstituto Cervantes is proud to present ¡Cine Magnífico! to the New Mexico community once again. \nThis festival has become an important event in our community – it marks a transition time between summer and autumn\, when families are returning to the routine of the school year. These films provide inspiration as the aroma of roasting green chile lofts into the late summer air. They remind us to savor the most subtle\, elegant\, and profound aspects of our daily lives here in our beautiful New Mexico communities\, and to enjoy our time at the cinema. \nOpening night has evolved into a lively community event on South 4th Street & Bridge Street in the beautiful National Hispanic Cultural Center\, with its iconic vaulted ceilings and stunning architecture. Families\, academics\, students\, filmmakers\, artists\, community leaders\, and so many others mingle before the theatre opens\, with beverages and food from our community’s finest restaurants and cameras flashing. It has truly evolved into a beautiful event. \nThis year\, our team has selected a lineup of films which perfectly illustrate enriching points of view about emerging issues and topics that shape the current Hispanic-Latino cultures and landscapes\, both here in New Mexico and beyond. This year’s screenings will take place at the National Hispanic Cultural Center\, UNM\, and the Guild Cinema. Central themes include immigration and children’s film\, as well as New Mexico filmmaking. This year’s festival features films from Spain\, Cuba\, Argentina\, Honduras\, Chile\, Mexico\, Venezuela\, Brazil\, and the United States. \n¡Cine Magnífico!’s vision is to present the newest films by and about Latinos to promote our culture through film and enrich our local art community. We showcase a diverse set of films\, from award-winning to local and up-and-coming filmmakers. We also offer year-round film programming. \nThank you for supporting ¡Cine Magnífico! Enjoy the shows! \nFor more information please go to the ¡Cine Magnífico! website HERE or call the Instituto Cervantes at 505-724-4777
URL:https://nhccnm.org/event/cine-magnifico-albuquerque-latino-film-festival-2017/
LOCATION:NHCC-Newsletter-November-2-30
CATEGORIES:Film,Instituto Cervantes,Performing Arts,Theatre
ATTACH;FMTTYPE=image/jpeg:https://nhccnm.org/wp-content/uploads/2017/08/Cine-Magnifico-2017-poster-half.jpg
END:VEVENT
END:VCALENDAR