BEGIN:VCALENDAR
VERSION:2.0
PRODID:-// - ECPv6.15.14//NONSGML v1.0//EN
CALSCALE:GREGORIAN
METHOD:PUBLISH
X-ORIGINAL-URL:https://nhccnm.org
X-WR-CALDESC:Events for 
REFRESH-INTERVAL;VALUE=DURATION:PT1H
X-Robots-Tag:noindex
X-PUBLISHED-TTL:PT1H
BEGIN:VTIMEZONE
TZID:America/Denver
BEGIN:DAYLIGHT
TZOFFSETFROM:-0700
TZOFFSETTO:-0600
TZNAME:MDT
DTSTART:20250309T090000
END:DAYLIGHT
BEGIN:STANDARD
TZOFFSETFROM:-0600
TZOFFSETTO:-0700
TZNAME:MST
DTSTART:20251102T080000
END:STANDARD
BEGIN:DAYLIGHT
TZOFFSETFROM:-0700
TZOFFSETTO:-0600
TZNAME:MDT
DTSTART:20260308T090000
END:DAYLIGHT
BEGIN:STANDARD
TZOFFSETFROM:-0600
TZOFFSETTO:-0700
TZNAME:MST
DTSTART:20261101T080000
END:STANDARD
BEGIN:DAYLIGHT
TZOFFSETFROM:-0700
TZOFFSETTO:-0600
TZNAME:MDT
DTSTART:20270314T090000
END:DAYLIGHT
BEGIN:STANDARD
TZOFFSETFROM:-0600
TZOFFSETTO:-0700
TZNAME:MST
DTSTART:20271107T080000
END:STANDARD
END:VTIMEZONE
BEGIN:VEVENT
DTSTART;VALUE=DATE:20260425
DTEND;VALUE=DATE:20260426
DTSTAMP:20260425T081047
CREATED:20200414T184439Z
LAST-MODIFIED:20260424T192024Z
UID:26075-1777075200-1777161599@nhccnm.org
SUMMARY:Instituto Cervantes de Albuquerque: Día del Libro
DESCRIPTION:Instituto Cervantes de Albuquerque: Día del Libro\nSaturday\, April 25\, 2026\n10:00 am – 6:00 pm \nNHCC Campus \nInstituto Cervantes de Albuquerque celebrates International Book Day\, Día del Libro\, with an outdoor event open to the public\, featuring a variety of activities. The centerpiece of the event will be a fair featuring booth from independent Albuquerque bookstores offering books in both Spanish and English. The Center will present the first 50 attendees with a complimentary book and a rose. \nFree Community Event \nActivities Include: \nDía del Libro\nSaturday\, April 25\, 2026\n10:00 am – 6:00 pm \nNHCC Campus \nInstituto Cervantes de Albuquerque celebrates International Book Day\, Día del Libro\, with a free outdoor event that is open to the public featuring a variety of activities. The centerpiece of the event will be a fair featuring booths from independent Albuquerque bookstores offering books in both Spanish and English. The Center will present the first 50 attendees with a complimentary book and a rose. \nFree Community Event \nActivities to include:\n10:00 am: Opening ceremonies with Albuquerque Mayor Tim Keller\, Guest of Honor; Patricia Pinzón\, Cónsul General of México in Albuquerque; Zack Quintero\, National Hispanic Cultural Center Executive Director; Carlos Madrid\, Director of Instituto Cervantes de Albuquerque; Master of Ceremonies and former Poet Laureate of the City of Albuquerque\, Jessica Helen López. \n11:00 am: Peruvian Dance and Music performance by Peru-Dance Abq\, in collaboration with the Consulate General of Peru in Denver. Main Stage. \n11:00 am: Docent-guided tour of the NHCC’s Torreón fresco\, Mundos de Mestizaje. NHCC Welcome Center \n11:30 am: Free demonstration Spanish class\, honoring not only World Book Day but also Spanish Language Day—both celebrated on April 23. Instituto Cervantes\, Rm. 128 \n12:00 pm: Poesía on the Plaza\, a poetry session hosted by local group Chicharra Press\, featuring local poets Marcial Delgado\, Manuel González\, Kristin Patton\, Zach Kluckman\, Jessica López\, Marissa Prada\, and students from Native American Community Academy. Main Stage. \n1:00 pm: Film screening of the Spanish film\, El jugador de ajedrez (2017)\, which will feature a Q&A with producer Juan Antonio Casado—an event organized by the Spanish Resource Center of the Embassy of Spain in Washington. Bank of America Theatre\, Roy E. Disney Center for the Performing Arts. \n1:30 pm: Tablao flamenco\, sponsored by the National Institute of Flamenco. Main Stage. \n2:00 pm: Lecture. Cancionero Huehuetenango\, on sacred and secular music from the highlands of Guatemala\, with Jonatan Alvarado and Ariel Abramovich. Instituto Cervantes\, Rm. 128 \n2:30 pm: Reading with Mexico—an exciting literacy-promotion event with word games\, puzzles\, and a raffle of 10 bikes for children and teenagers\, with music by Mariachi de San José High School\, in collaboration with the Consulate General of México. Main Stage. \n3:00 pm: Guided tour of the NHCC’s History and Literary Arts Library with Amy Padilla\, NHCC Librarian. History & Literary Arts Bldg. \n4:00 pm: ¡Viva México!\, an unforgettable celebration of Hispanic culture and Mexican independence\, spotlighting the huapangos that embody Veracruz’s African and Andalusian roots\, with support from the Consulate General of México. Wells-Fargo Auditorium\, Roy E. Disney Center for the Performing Arts. \n4:00 pm: Music in Spanish. Main Stage. \nSpecial thank you to our sponsors and partners!
URL:https://nhccnm.org/event/dia-del-libro/
LOCATION:NHCC Campus\, 1701 4th Street SW\, Albuquerque\, NM\, 87102
CATEGORIES:Instituto Cervantes
ATTACH;FMTTYPE=image/jpeg:https://nhccnm.org/wp-content/uploads/2020/04/Flyer-Dia-de-Libro-schedule-final.jpg
END:VEVENT
END:VCALENDAR