BEGIN:VCALENDAR
VERSION:2.0
PRODID:-// - ECPv6.15.14//NONSGML v1.0//EN
CALSCALE:GREGORIAN
METHOD:PUBLISH
X-ORIGINAL-URL:https://nhccnm.org
X-WR-CALDESC:Events for 
REFRESH-INTERVAL;VALUE=DURATION:PT1H
X-Robots-Tag:noindex
X-PUBLISHED-TTL:PT1H
BEGIN:VTIMEZONE
TZID:America/Denver
BEGIN:DAYLIGHT
TZOFFSETFROM:-0700
TZOFFSETTO:-0600
TZNAME:MDT
DTSTART:20200308T090000
END:DAYLIGHT
BEGIN:STANDARD
TZOFFSETFROM:-0600
TZOFFSETTO:-0700
TZNAME:MST
DTSTART:20201101T080000
END:STANDARD
BEGIN:DAYLIGHT
TZOFFSETFROM:-0700
TZOFFSETTO:-0600
TZNAME:MDT
DTSTART:20210314T090000
END:DAYLIGHT
BEGIN:STANDARD
TZOFFSETFROM:-0600
TZOFFSETTO:-0700
TZNAME:MST
DTSTART:20211107T080000
END:STANDARD
BEGIN:DAYLIGHT
TZOFFSETFROM:-0700
TZOFFSETTO:-0600
TZNAME:MDT
DTSTART:20220313T090000
END:DAYLIGHT
BEGIN:STANDARD
TZOFFSETFROM:-0600
TZOFFSETTO:-0700
TZNAME:MST
DTSTART:20221106T080000
END:STANDARD
END:VTIMEZONE
BEGIN:VEVENT
DTSTART;VALUE=DATE:20211205
DTEND;VALUE=DATE:20211206
DTSTAMP:20260421T190326
CREATED:20210617T193503Z
LAST-MODIFIED:20210617T193503Z
UID:14204-1638662400-1638748799@nhccnm.org
SUMMARY:Visual Arts Museum: First Sunday Free Admission
DESCRIPTION:10 am to 4 pm \nThe first Sunday of every month the NHCC Art Museum is free to all New Mexico residents. Visit exhibitions such as: Aquí Estamos: New Selections from the Permanent Collection\, Tempo y Tiempo: 4 Photographers in NM\, and Mira Mira on the Wall: Reflecting on 20 Years of NHCC Exhibitions. \nReserve tickets for the free first Sunday of the month early by clicking on the link below. \nAll visitors and employees will be required to wear masks or cloth face coverings at all times.
URL:https://nhccnm.org/event/visual-arts-museum-first-sunday-free-admission-3/
LOCATION:September-2019-Board-Meeting-Minutes
CATEGORIES:Education,School and Youth Programs,Speakers,Visual Arts,Workshops
ATTACH;FMTTYPE=image/jpeg:https://nhccnm.org/wp-content/uploads/2015/12/experience-afternoon-artmuseum.jpg
END:VEVENT
END:VCALENDAR