BEGIN:VCALENDAR
VERSION:2.0
PRODID:-// - ECPv6.15.14//NONSGML v1.0//EN
CALSCALE:GREGORIAN
METHOD:PUBLISH
X-ORIGINAL-URL:https://nhccnm.org
X-WR-CALDESC:Events for 
REFRESH-INTERVAL;VALUE=DURATION:PT1H
X-Robots-Tag:noindex
X-PUBLISHED-TTL:PT1H
BEGIN:VTIMEZONE
TZID:America/Denver
BEGIN:DAYLIGHT
TZOFFSETFROM:-0700
TZOFFSETTO:-0600
TZNAME:MDT
DTSTART:20210314T090000
END:DAYLIGHT
BEGIN:STANDARD
TZOFFSETFROM:-0600
TZOFFSETTO:-0700
TZNAME:MST
DTSTART:20211107T080000
END:STANDARD
BEGIN:DAYLIGHT
TZOFFSETFROM:-0700
TZOFFSETTO:-0600
TZNAME:MDT
DTSTART:20220313T090000
END:DAYLIGHT
BEGIN:STANDARD
TZOFFSETFROM:-0600
TZOFFSETTO:-0700
TZNAME:MST
DTSTART:20221106T080000
END:STANDARD
BEGIN:DAYLIGHT
TZOFFSETFROM:-0700
TZOFFSETTO:-0600
TZNAME:MDT
DTSTART:20230312T090000
END:DAYLIGHT
BEGIN:STANDARD
TZOFFSETFROM:-0600
TZOFFSETTO:-0700
TZNAME:MST
DTSTART:20231105T080000
END:STANDARD
END:VTIMEZONE
BEGIN:VEVENT
DTSTART;VALUE=DATE:20220430
DTEND;VALUE=DATE:20220501
DTSTAMP:20260419T134056
CREATED:20220422T170107Z
LAST-MODIFIED:20220422T170107Z
UID:15208-1651276800-1651363199@nhccnm.org
SUMMARY:New Mexico Spanish Spelling Bee
DESCRIPTION:8:00 am – 2:00 pm \nNew Mexico Association for Bilingual Education presents the New Mexico Spanish Spelling Bee. Students in grades 4-8 from across New Mexico represent their school districts or charter schools in the Spanish Spelling Bee Competition.  This contest is intended to continue promoting the Spanish language and culture among New Mexico students. \nThis is a free ticketed event
URL:https://nhccnm.org/event/nm-spanish-spelling-bee/
LOCATION:NM
CATEGORIES:Education,Performing Arts,School and Youth Programs
ATTACH;FMTTYPE=image/jpeg:https://nhccnm.org/wp-content/uploads/2022/04/New-Mexico-Association-for-Bilingual-Education-logo-Feature.jpg
END:VEVENT
END:VCALENDAR