BEGIN:VCALENDAR
VERSION:2.0
PRODID:-// - ECPv6.15.14//NONSGML v1.0//EN
CALSCALE:GREGORIAN
METHOD:PUBLISH
X-ORIGINAL-URL:https://nhccnm.org
X-WR-CALDESC:Events for 
REFRESH-INTERVAL;VALUE=DURATION:PT1H
X-Robots-Tag:noindex
X-PUBLISHED-TTL:PT1H
BEGIN:VTIMEZONE
TZID:America/Denver
BEGIN:DAYLIGHT
TZOFFSETFROM:-0700
TZOFFSETTO:-0600
TZNAME:MDT
DTSTART:20160313T090000
END:DAYLIGHT
BEGIN:STANDARD
TZOFFSETFROM:-0600
TZOFFSETTO:-0700
TZNAME:MST
DTSTART:20161106T080000
END:STANDARD
BEGIN:DAYLIGHT
TZOFFSETFROM:-0700
TZOFFSETTO:-0600
TZNAME:MDT
DTSTART:20170312T090000
END:DAYLIGHT
BEGIN:STANDARD
TZOFFSETFROM:-0600
TZOFFSETTO:-0700
TZNAME:MST
DTSTART:20171105T080000
END:STANDARD
BEGIN:DAYLIGHT
TZOFFSETFROM:-0700
TZOFFSETTO:-0600
TZNAME:MDT
DTSTART:20180311T090000
END:DAYLIGHT
BEGIN:STANDARD
TZOFFSETFROM:-0600
TZOFFSETTO:-0700
TZNAME:MST
DTSTART:20181104T080000
END:STANDARD
BEGIN:DAYLIGHT
TZOFFSETFROM:-0700
TZOFFSETTO:-0600
TZNAME:MDT
DTSTART:20190310T090000
END:DAYLIGHT
BEGIN:STANDARD
TZOFFSETFROM:-0600
TZOFFSETTO:-0700
TZNAME:MST
DTSTART:20191103T080000
END:STANDARD
BEGIN:DAYLIGHT
TZOFFSETFROM:-0700
TZOFFSETTO:-0600
TZNAME:MDT
DTSTART:20200308T090000
END:DAYLIGHT
BEGIN:STANDARD
TZOFFSETFROM:-0600
TZOFFSETTO:-0700
TZNAME:MST
DTSTART:20201101T080000
END:STANDARD
BEGIN:DAYLIGHT
TZOFFSETFROM:-0700
TZOFFSETTO:-0600
TZNAME:MDT
DTSTART:20210314T090000
END:DAYLIGHT
BEGIN:STANDARD
TZOFFSETFROM:-0600
TZOFFSETTO:-0700
TZNAME:MST
DTSTART:20211107T080000
END:STANDARD
BEGIN:DAYLIGHT
TZOFFSETFROM:-0700
TZOFFSETTO:-0600
TZNAME:MDT
DTSTART:20220313T090000
END:DAYLIGHT
BEGIN:STANDARD
TZOFFSETFROM:-0600
TZOFFSETTO:-0700
TZNAME:MST
DTSTART:20221106T080000
END:STANDARD
END:VTIMEZONE
BEGIN:VEVENT
DTSTART;VALUE=DATE:20170305
DTEND;VALUE=DATE:20200120
DTSTAMP:20260424T012345
CREATED:20170215T190912Z
LAST-MODIFIED:20170215T190912Z
UID:3228-1488672000-1579478399@nhccnm.org
SUMMARY:¡Aquí Estamos: The Heart of Arte!
DESCRIPTION:Art Museum hours and prices HERE \n¡Aquí Estamos: The Heart of Arte! celebrates the NHCC Art Museum’s growing permanent collection with a revitalized vibe and a brand new selection of works. This exhibition was a collaborative project as the entire NHCC Visual Arts staff and interns combed through the collection and worked together to decide which pieces should welcome in 2017. This sampling explores the contributions of these artists and how each work can serve as a reminder of the heart that thrives in strong and resilient communities. \nThe collection contains over 2\,500 artworks by Hispanic\, Chicana/o\, and Latina/o\, artists from around the globe most of which have been generously donated to the museum by artists and collectors. It reflects the diversity of Latina/o art and expression in all of its vibrancy\, creativity\, pointed humor and social consciousness. The National Hispanic Cultural Center Art Museum exists to support and engage the work of these artists and share their creations and their stories with the broader community.
URL:https://nhccnm.org/event/aqui-estamos-heart-arte/
LOCATION:September-2019-Board-Meeting-Minutes
CATEGORIES:Exhibitions,Visual Arts
ATTACH;FMTTYPE=image/jpeg:https://nhccnm.org/wp-content/uploads/2017/02/Artebox.jpg
END:VEVENT
BEGIN:VEVENT
DTSTART;VALUE=DATE:20190308
DTEND;VALUE=DATE:20190805
DTSTAMP:20260424T012345
CREATED:20181217T221025Z
LAST-MODIFIED:20181217T221025Z
UID:5954-1552003200-1564963199@nhccnm.org
SUMMARY:Qué Chola
DESCRIPTION:The Chola is a significant figure in the Latina imagination for the ways that she represents a feminine strength\, power\, and resilience in the face of racial\, gender\, and economic adversity. She is a figure that many young Latinas in the U.S. admire and emulate. The last few years have seen a surge in interest in the Chola as a figure and this exhibition will explore this dynamic from a feminist perspective through art and popular culture. \nThe Qué Chola Photo Board will be displayed in the exhibition and is an opportunity to honor the Cholas in our lives\, past and present\, by sharing photos of homegirls showing off their style and pride. \nIf you have a photo you’d like included on the photo board you can send them to us. And if you send them before March 8\, they will be part of the Qué Chola! opening reception. For more information on how to share\, click here. \nArtists: \nAdriana Avila and Benjamin Avila\nAll Chola\nAmy Martinez\, Kari Orvik\, and Vero Majano\nAndrew Montoya\nAntonia Fernandez\nArthur López\nBlackout Theater\nJesús “Chuy” Rangel\nCrystal Galindo\nDavid Gonzales\nDelilah Montoya\nEddyrose\nGaspar Enríquez\niLash\nJudith F. Baca\nMiguel Gandert\nNancy Camacho\nNanibah Chacon\nPamela Enriquez-Courts\nPóla López\nRebekah Miles\nShizu Saldamando\nValerie J. Bower\nVibiana Aparicio-Chamberlin\nVicko Alvarez Vega\nZeke Peña \nThank you to Roybal-Mack & Cordova\, P.C. and the NHCC Foundation Board for their generous support of this event and exhibit. \nAnd special thank yous to Marble Brewery for creating a new beer\, Chicanisma–a delicious dark Mexican lager–that will be available at the reception and all of their taprooms! And Rude Boy Cookies for providing custom cookies for dessert!
URL:https://nhccnm.org/event/que-chola/
LOCATION:September-2019-Board-Meeting-Minutes
CATEGORIES:Exhibitions,Visual Arts
ATTACH;FMTTYPE=image/jpeg:https://nhccnm.org/wp-content/uploads/2018/12/FeatureImage.QueCola.jpg
END:VEVENT
BEGIN:VEVENT
DTSTART;VALUE=DATE:20190502
DTEND;VALUE=DATE:20190503
DTSTAMP:20260424T012345
CREATED:20181215T230102Z
LAST-MODIFIED:20181215T230102Z
UID:5927-1556755200-1556841599@nhccnm.org
SUMMARY:¡HAH! Happy Arte Hour
DESCRIPTION:5:30 pm to 7:30 pm \nOn the first Thursday of the month\, NHCC invites adults for artistic fun in a relaxed social setting\, which includes snacks\, refreshments\, beer & wine for sale from Pop Fizz. This month we will learn with artist\, Pamela Enriquez-Courts whose artwork is in our current exhibit\, “Qué Chola”.  She will show us how she works with patterns and floral elements. We will create with metallic paints\, different types of wood\, and images provided by Pamela (or bring an image or copy of a photo of your choice.) \nPlease pre-register using the link HERE (so we know how many materials to prepare) \nFor more information please call or email Elena Baca at 505-246-2261 or ElenaD.Baca@state.nm.us \nFree\, $5 donations are encouraged to support the artists & purchase supplies
URL:https://nhccnm.org/event/hah-happy-arte-hour-33/
LOCATION:Domenici Education Building\, 1701 4th Street SW\, Albuquerque\, NM\, 87102
CATEGORIES:Education,Food,Visual Arts,Workshops
ATTACH;FMTTYPE=image/jpeg:https://nhccnm.org/wp-content/uploads/2016/12/HAH-2017-WebsiteBanner.jpg
END:VEVENT
BEGIN:VEVENT
DTSTART;VALUE=DATE:20190504
DTEND;VALUE=DATE:20190505
DTSTAMP:20260424T012345
CREATED:20181214T215930Z
LAST-MODIFIED:20181214T215930Z
UID:5910-1556928000-1557014399@nhccnm.org
SUMMARY:¡Vamos al Museo!
DESCRIPTION:10:30 am to noon \nOn the first Saturday of the month\, the National Hispanic Cultural Center invites families to ¡Vamos al Museo!\, an artist lead hands-on art experience. Our morning begins with inspiration in the art museum\, looking at design\, materials and construction. Back in the education building we will create our own art piece to take home. A great morning of art-making for children of all ages and families of all sizes! \nThis month we will learn with artist\, Pamela Enriquez-Courts whose artwork is in our current exhibit\, “Qué Chola”.  She will show us how she works with patterns and floral elements. We will create with metallic paints\, different types of wood\, and images provided by Pamela (or bring an image or copy of a photo of your choice.) \nPlease pre-register HERE (so we know how many materials to prepare) \nFor more information please call or email Elena Baca at 505-246-2261 or ElenaD.Baca@state.nm.us\nFree\, $5 donations are encouraged to support the artists & purchase supplies
URL:https://nhccnm.org/event/vamos-al-museo-29/
LOCATION:Domenici Education Building\, 1701 4th Street SW\, Albuquerque\, NM\, 87102
CATEGORIES:Education,School and Youth Programs,Visual Arts,Workshops
ATTACH;FMTTYPE=image/jpeg:https://nhccnm.org/wp-content/uploads/2018/05/VAM-2017-BannerLogo.jpg
END:VEVENT
BEGIN:VEVENT
DTSTART;VALUE=DATE:20190504
DTEND;VALUE=DATE:20190505
DTSTAMP:20260424T012345
CREATED:20190409T141249Z
LAST-MODIFIED:20190409T141249Z
UID:6961-1556928000-1557014399@nhccnm.org
SUMMARY:¡Doble Tour!
DESCRIPTION:2 pm \nJoin us for a paired perspective tour of the exhibition\, Qué Chola\, with Dr. Nancy López and Jessica Helen Lopez as they share their unique insights on the artworks and exhibition as a whole! Dr. López is a professor of sociology at the University of New Mexico. She directs and co-founded the Institute for the Study of Race and Social Justice and she is the founding coordinator of the New Mexico Statewide Race\, Gender\, Class Data Policy Consortium. Jessica Helen Lopez is the City of Albuquerque Poet Laureate and is a nationally recognized award-winning slam poet with a number of published poetry collections. She is the host of arts-based PBS\, ¡COLORES! and named one of the “10 Up and Coming Latinx Poets You Need to Know” by “Remezcla.” \nFree and open to the public (donations welcome)
URL:https://nhccnm.org/event/doble-tour/
LOCATION:September-2019-Board-Meeting-Minutes
CATEGORIES:Education,Visual Arts
ATTACH;FMTTYPE=image/jpeg:https://nhccnm.org/wp-content/uploads/2018/12/FeatureImage.QueCola.jpg
END:VEVENT
BEGIN:VEVENT
DTSTART;VALUE=DATE:20190504
DTEND;VALUE=DATE:20190506
DTSTAMP:20260424T012345
CREATED:20190110T180301Z
LAST-MODIFIED:20190110T180301Z
UID:6282-1556928000-1557100799@nhccnm.org
SUMMARY:Mundos de Mestizaje
DESCRIPTION:12 pm to 5 pm \nA Vision of History through Fresco… \nMundos de Mestizaje by Frederico Vigil is a mural housed in the Torreón on the campus of the National Hispanic Cultural Center. This monumental fresco depicts thousands of years of Hispanic history highlighting diverse cultural connections between people and places from the Iberian Peninsula to the Americas. The 4\,000 square foot painting is one of the largest frescos in North America. \nThe digitized imagery of the painting ensures that this culturally significant work can be a sharing and learning experience for students and families anywhere. We invite you to explore the imagery\, history and complexities of the Mundos de Mestizaje mural. \nDiscover on your own by clicking the link HERE.\n(It may take a moment to load.  Microsoft Internet Explorer is NOT recommended.  Best experienced with Safari\, Firefox or Chrome.)\nFree
URL:https://nhccnm.org/event/mundos-de-mestizaje-66/
LOCATION:NHCC Torreón\, 1701 4th street SW\, Albuquerque\, NM\, 87102\, United States
CATEGORIES:Education,Visual Arts
ATTACH;FMTTYPE=image/jpeg:https://nhccnm.org/wp-content/uploads/2017/08/Torreon.jpg
END:VEVENT
BEGIN:VEVENT
DTSTART;VALUE=DATE:20190511
DTEND;VALUE=DATE:20190513
DTSTAMP:20260424T012345
CREATED:20190110T180427Z
LAST-MODIFIED:20190110T180427Z
UID:6284-1557532800-1557705599@nhccnm.org
SUMMARY:Mundos de Mestizaje
DESCRIPTION:12 pm to 5 pm \nA Vision of History through Fresco… \nMundos de Mestizaje by Frederico Vigil is a mural housed in the Torreón on the campus of the National Hispanic Cultural Center. This monumental fresco depicts thousands of years of Hispanic history highlighting diverse cultural connections between people and places from the Iberian Peninsula to the Americas. The 4\,000 square foot painting is one of the largest frescos in North America. \nThe digitized imagery of the painting ensures that this culturally significant work can be a sharing and learning experience for students and families anywhere. We invite you to explore the imagery\, history and complexities of the Mundos de Mestizaje mural. \nDiscover on your own by clicking the link HERE.\n(It may take a moment to load.  Microsoft Internet Explorer is NOT recommended.  Best experienced with Safari\, Firefox or Chrome.)\nFree
URL:https://nhccnm.org/event/mundos-de-mestizaje-67/
LOCATION:NHCC Torreón\, 1701 4th street SW\, Albuquerque\, NM\, 87102\, United States
CATEGORIES:Education,Visual Arts
ATTACH;FMTTYPE=image/jpeg:https://nhccnm.org/wp-content/uploads/2017/08/Torreon.jpg
END:VEVENT
BEGIN:VEVENT
DTSTART;VALUE=DATE:20190517
DTEND;VALUE=DATE:20190518
DTSTAMP:20260424T012345
CREATED:20181221T222351Z
LAST-MODIFIED:20181221T222351Z
UID:6028-1558051200-1558137599@nhccnm.org
SUMMARY:Opening Reception for Southwest of Eden:  The Art of Adam and Eve
DESCRIPTION:Southwest of Eden:  The Art of Adam and Eve \nNHCC Art Museum Community Gallery \nThis exciting exhibit features approximately fifty works of art from the Joyce Kaser Collection. Southwest of Eden: The Art of Adam and Eve examines the various ways in which New Mexican artists and others visually portray these two famous figures as well as the flora and fauna in their surroundings.  For example\, how many apples are featured\, or are they pomegranates? Is the serpent male or female? Is it animal or human\, or half and half? Is Eve always the instigator or is Adam assuming some responsibility? Situated in the NHCC Art Museum’s highly popular community gallery\, Southwest of Eden invites the visitor to take a closer look at the imagery\, symbolism and story of what happened in the garden.
URL:https://nhccnm.org/event/southwest-of-eden-the-art-of-adam-and-eve-working-title/
LOCATION:September-2019-Board-Meeting-Minutes
CATEGORIES:Visual Arts
ATTACH;FMTTYPE=image/jpeg:https://nhccnm.org/wp-content/uploads/2018/12/HomeBanner.AdamEve-featured-image.jpg
END:VEVENT
BEGIN:VEVENT
DTSTART;VALUE=DATE:20190517
DTEND;VALUE=DATE:20211018
DTSTAMP:20260424T012345
CREATED:20190409T141831Z
LAST-MODIFIED:20190409T141831Z
UID:6963-1558051200-1634515199@nhccnm.org
SUMMARY:Southwest of Eden:  The Art of Adam and Eve
DESCRIPTION:This exciting exhibit features approximately fifty works of art from the Joyce Kaser Collection. Southwest of Eden: The Art of Adam and Eve examines the various ways in which New Mexican artists and others visually portray these two famous figures as well as the flora and fauna in their surroundings.  For example\, how many apples are featured\, or are they pomegranates? Is the serpent male or female? Is it animal or human\, or half and half? Is Eve always the instigator or is Adam assuming some responsibility? Situated in the NHCC Art Museum’s highly popular community gallery\, Southwest of Eden invites the visitor to take a closer look at the imagery\, symbolism and story of what happened in the garden.
URL:https://nhccnm.org/event/southwest-of-eden-the-art-of-adam-and-eve/
LOCATION:September-2019-Board-Meeting-Minutes
CATEGORIES:Exhibitions,Visual Arts
ATTACH;FMTTYPE=image/jpeg:https://nhccnm.org/wp-content/uploads/2018/12/HomeBanner.AdamEve-featured-image.jpg
END:VEVENT
BEGIN:VEVENT
DTSTART;VALUE=DATE:20190518
DTEND;VALUE=DATE:20190520
DTSTAMP:20260424T012345
CREATED:20190110T180656Z
LAST-MODIFIED:20190110T180656Z
UID:6286-1558137600-1558310399@nhccnm.org
SUMMARY:Mundos de Mestizaje
DESCRIPTION:12 pm to 5 pm \nA Vision of History through Fresco… \nMundos de Mestizaje by Frederico Vigil is a mural housed in the Torreón on the campus of the National Hispanic Cultural Center. This monumental fresco depicts thousands of years of Hispanic history highlighting diverse cultural connections between people and places from the Iberian Peninsula to the Americas. The 4\,000 square foot painting is one of the largest frescos in North America. \nThe digitized imagery of the painting ensures that this culturally significant work can be a sharing and learning experience for students and families anywhere. We invite you to explore the imagery\, history and complexities of the Mundos de Mestizaje mural. \nDiscover on your own by clicking the link HERE.\n(It may take a moment to load.  Microsoft Internet Explorer is NOT recommended.  Best experienced with Safari\, Firefox or Chrome.)\nFree
URL:https://nhccnm.org/event/mundos-de-mestizaje-68/
LOCATION:NHCC Torreón\, 1701 4th street SW\, Albuquerque\, NM\, 87102\, United States
CATEGORIES:Education,Visual Arts
ATTACH;FMTTYPE=image/jpeg:https://nhccnm.org/wp-content/uploads/2017/08/Torreon.jpg
END:VEVENT
BEGIN:VEVENT
DTSTART;VALUE=DATE:20190520
DTEND;VALUE=DATE:20190521
DTSTAMP:20260424T012345
CREATED:20190329T222948Z
LAST-MODIFIED:20190329T222948Z
UID:6871-1558310400-1558396799@nhccnm.org
SUMMARY:¡RESILIENCIA! The Experience of Jewish Communities in Spain and the Americas: Art Exhibits & Opening Reception
DESCRIPTION:7 pm \n¡RESILIENCIA! The Experience of Jewish Communities in Spain and the Americas. Organized by Instituto Cervantes\,Casa Sefarad@Nahalat Shalom\, Festival Djudeo-Espanyol\, National Hispanic Cultural Center. In collaboration with Consulate of Mexico\, Red de Juderías de España\, Diputación of Lleida\, Latin American and Iberian Institute at UNM\, Consulate General of Israel in Houston\, Jewish Federation of New Mexico\, Congregation B´Nai Israel\, Congregation Albert\, ADL Mountain States Region\, New Mexico Humanities Council and Century Automotive\, a Mapfre Company. \n \nArt Exhibits: 7 pm\n“Shalom Sefarad” presents – through photos\, stories\, and songs – the legacy of Jewish immigrants who arrived in Seattle\, Washington a century ago from the Ottoman Empire to build new lives for their families. \n”Discover Sefarad” is a photo exhibit that takes you on a tour to 18 Spanish cities that preserve an outstanding Jewish essence. Presented by Marta Puig\, Manager Director of the Network of Spanish Jewish Quarters. \n \n“Persecuted and saved” tells the story of thousands of Jews who crossed the Lleida Pyrenees fleeing from the persecution to which they were subject in Nazi-occupied Europe. This exhibit honors the memory of those who fled from persecution and those who helped make that possible. Presented by Dr. Josep Calvet\, curator of the exhibition and a professor of history at the University of Lleida. \n \nCocktail Reception: 8:30pm \nSpecial mention to the Latin American and Iberian Institute\, UNM\, Red de Juderías de España y la Diputación de Lleida for funding this event.\nFree event
URL:https://nhccnm.org/event/resiliencia-the-experience-of-jewish-communities-in-spain-and-the-americas-art-exhibits-opening-reception/
LOCATION:Domenici Education Building – Grand Hall
CATEGORIES:Instituto Cervantes,Music,Theatre,Visual Arts
ATTACH;FMTTYPE=image/jpeg:https://nhccnm.org/wp-content/uploads/2019/03/Instituto-Cervantes-logo-tall.jpg
END:VEVENT
BEGIN:VEVENT
DTSTART;VALUE=DATE:20190525
DTEND;VALUE=DATE:20190527
DTSTAMP:20260424T012345
CREATED:20190110T181230Z
LAST-MODIFIED:20190110T181230Z
UID:6288-1558742400-1558915199@nhccnm.org
SUMMARY:Mundos de Mestizaje
DESCRIPTION:12 pm to 5 pm \nA Vision of History through Fresco… \nMundos de Mestizaje by Frederico Vigil is a mural housed in the Torreón on the campus of the National Hispanic Cultural Center. This monumental fresco depicts thousands of years of Hispanic history highlighting diverse cultural connections between people and places from the Iberian Peninsula to the Americas. The 4\,000 square foot painting is one of the largest frescos in North America. \nThe digitized imagery of the painting ensures that this culturally significant work can be a sharing and learning experience for students and families anywhere. We invite you to explore the imagery\, history and complexities of the Mundos de Mestizaje mural. \nDiscover on your own by clicking the link HERE.\n(It may take a moment to load.  Microsoft Internet Explorer is NOT recommended.  Best experienced with Safari\, Firefox or Chrome.)\nFree
URL:https://nhccnm.org/event/mundos-de-mestizaje-69/
LOCATION:NHCC Torreón\, 1701 4th street SW\, Albuquerque\, NM\, 87102\, United States
CATEGORIES:Education,Visual Arts
ATTACH;FMTTYPE=image/jpeg:https://nhccnm.org/wp-content/uploads/2017/08/Torreon.jpg
END:VEVENT
END:VCALENDAR