BEGIN:VCALENDAR
VERSION:2.0
PRODID:-// - ECPv6.15.14//NONSGML v1.0//EN
CALSCALE:GREGORIAN
METHOD:PUBLISH
X-ORIGINAL-URL:https://nhccnm.org
X-WR-CALDESC:Events for 
REFRESH-INTERVAL;VALUE=DURATION:PT1H
X-Robots-Tag:noindex
X-PUBLISHED-TTL:PT1H
BEGIN:VTIMEZONE
TZID:America/Denver
BEGIN:DAYLIGHT
TZOFFSETFROM:-0700
TZOFFSETTO:-0600
TZNAME:MDT
DTSTART:20160313T090000
END:DAYLIGHT
BEGIN:STANDARD
TZOFFSETFROM:-0600
TZOFFSETTO:-0700
TZNAME:MST
DTSTART:20161106T080000
END:STANDARD
BEGIN:DAYLIGHT
TZOFFSETFROM:-0700
TZOFFSETTO:-0600
TZNAME:MDT
DTSTART:20170312T090000
END:DAYLIGHT
BEGIN:STANDARD
TZOFFSETFROM:-0600
TZOFFSETTO:-0700
TZNAME:MST
DTSTART:20171105T080000
END:STANDARD
BEGIN:DAYLIGHT
TZOFFSETFROM:-0700
TZOFFSETTO:-0600
TZNAME:MDT
DTSTART:20180311T090000
END:DAYLIGHT
BEGIN:STANDARD
TZOFFSETFROM:-0600
TZOFFSETTO:-0700
TZNAME:MST
DTSTART:20181104T080000
END:STANDARD
BEGIN:DAYLIGHT
TZOFFSETFROM:-0700
TZOFFSETTO:-0600
TZNAME:MDT
DTSTART:20190310T090000
END:DAYLIGHT
BEGIN:STANDARD
TZOFFSETFROM:-0600
TZOFFSETTO:-0700
TZNAME:MST
DTSTART:20191103T080000
END:STANDARD
BEGIN:DAYLIGHT
TZOFFSETFROM:-0700
TZOFFSETTO:-0600
TZNAME:MDT
DTSTART:20200308T090000
END:DAYLIGHT
BEGIN:STANDARD
TZOFFSETFROM:-0600
TZOFFSETTO:-0700
TZNAME:MST
DTSTART:20201101T080000
END:STANDARD
BEGIN:DAYLIGHT
TZOFFSETFROM:-0700
TZOFFSETTO:-0600
TZNAME:MDT
DTSTART:20210314T090000
END:DAYLIGHT
BEGIN:STANDARD
TZOFFSETFROM:-0600
TZOFFSETTO:-0700
TZNAME:MST
DTSTART:20211107T080000
END:STANDARD
BEGIN:DAYLIGHT
TZOFFSETFROM:-0700
TZOFFSETTO:-0600
TZNAME:MDT
DTSTART:20220313T090000
END:DAYLIGHT
BEGIN:STANDARD
TZOFFSETFROM:-0600
TZOFFSETTO:-0700
TZNAME:MST
DTSTART:20221106T080000
END:STANDARD
END:VTIMEZONE
BEGIN:VEVENT
DTSTART;VALUE=DATE:20170305
DTEND;VALUE=DATE:20200120
DTSTAMP:20260424T013120
CREATED:20170215T190912Z
LAST-MODIFIED:20170215T190912Z
UID:3228-1488672000-1579478399@nhccnm.org
SUMMARY:¡Aquí Estamos: The Heart of Arte!
DESCRIPTION:Art Museum hours and prices HERE \n¡Aquí Estamos: The Heart of Arte! celebrates the NHCC Art Museum’s growing permanent collection with a revitalized vibe and a brand new selection of works. This exhibition was a collaborative project as the entire NHCC Visual Arts staff and interns combed through the collection and worked together to decide which pieces should welcome in 2017. This sampling explores the contributions of these artists and how each work can serve as a reminder of the heart that thrives in strong and resilient communities. \nThe collection contains over 2\,500 artworks by Hispanic\, Chicana/o\, and Latina/o\, artists from around the globe most of which have been generously donated to the museum by artists and collectors. It reflects the diversity of Latina/o art and expression in all of its vibrancy\, creativity\, pointed humor and social consciousness. The National Hispanic Cultural Center Art Museum exists to support and engage the work of these artists and share their creations and their stories with the broader community.
URL:https://nhccnm.org/event/aqui-estamos-heart-arte/
LOCATION:September-2019-Board-Meeting-Minutes
CATEGORIES:Exhibitions,Visual Arts
ATTACH;FMTTYPE=image/jpeg:https://nhccnm.org/wp-content/uploads/2017/02/Artebox.jpg
END:VEVENT
BEGIN:VEVENT
DTSTART;VALUE=DATE:20190308
DTEND;VALUE=DATE:20190805
DTSTAMP:20260424T013120
CREATED:20181217T221025Z
LAST-MODIFIED:20181217T221025Z
UID:5954-1552003200-1564963199@nhccnm.org
SUMMARY:Qué Chola
DESCRIPTION:The Chola is a significant figure in the Latina imagination for the ways that she represents a feminine strength\, power\, and resilience in the face of racial\, gender\, and economic adversity. She is a figure that many young Latinas in the U.S. admire and emulate. The last few years have seen a surge in interest in the Chola as a figure and this exhibition will explore this dynamic from a feminist perspective through art and popular culture. \nThe Qué Chola Photo Board will be displayed in the exhibition and is an opportunity to honor the Cholas in our lives\, past and present\, by sharing photos of homegirls showing off their style and pride. \nIf you have a photo you’d like included on the photo board you can send them to us. And if you send them before March 8\, they will be part of the Qué Chola! opening reception. For more information on how to share\, click here. \nArtists: \nAdriana Avila and Benjamin Avila\nAll Chola\nAmy Martinez\, Kari Orvik\, and Vero Majano\nAndrew Montoya\nAntonia Fernandez\nArthur López\nBlackout Theater\nJesús “Chuy” Rangel\nCrystal Galindo\nDavid Gonzales\nDelilah Montoya\nEddyrose\nGaspar Enríquez\niLash\nJudith F. Baca\nMiguel Gandert\nNancy Camacho\nNanibah Chacon\nPamela Enriquez-Courts\nPóla López\nRebekah Miles\nShizu Saldamando\nValerie J. Bower\nVibiana Aparicio-Chamberlin\nVicko Alvarez Vega\nZeke Peña \nThank you to Roybal-Mack & Cordova\, P.C. and the NHCC Foundation Board for their generous support of this event and exhibit. \nAnd special thank yous to Marble Brewery for creating a new beer\, Chicanisma–a delicious dark Mexican lager–that will be available at the reception and all of their taprooms! And Rude Boy Cookies for providing custom cookies for dessert!
URL:https://nhccnm.org/event/que-chola/
LOCATION:September-2019-Board-Meeting-Minutes
CATEGORIES:Exhibitions,Visual Arts
ATTACH;FMTTYPE=image/jpeg:https://nhccnm.org/wp-content/uploads/2018/12/FeatureImage.QueCola.jpg
END:VEVENT
BEGIN:VEVENT
DTSTART;VALUE=DATE:20190517
DTEND;VALUE=DATE:20211018
DTSTAMP:20260424T013120
CREATED:20190409T141831Z
LAST-MODIFIED:20190409T141831Z
UID:6963-1558051200-1634515199@nhccnm.org
SUMMARY:Southwest of Eden:  The Art of Adam and Eve
DESCRIPTION:This exciting exhibit features approximately fifty works of art from the Joyce Kaser Collection. Southwest of Eden: The Art of Adam and Eve examines the various ways in which New Mexican artists and others visually portray these two famous figures as well as the flora and fauna in their surroundings.  For example\, how many apples are featured\, or are they pomegranates? Is the serpent male or female? Is it animal or human\, or half and half? Is Eve always the instigator or is Adam assuming some responsibility? Situated in the NHCC Art Museum’s highly popular community gallery\, Southwest of Eden invites the visitor to take a closer look at the imagery\, symbolism and story of what happened in the garden.
URL:https://nhccnm.org/event/southwest-of-eden-the-art-of-adam-and-eve/
LOCATION:September-2019-Board-Meeting-Minutes
CATEGORIES:Exhibitions,Visual Arts
ATTACH;FMTTYPE=image/jpeg:https://nhccnm.org/wp-content/uploads/2018/12/HomeBanner.AdamEve-featured-image.jpg
END:VEVENT
BEGIN:VEVENT
DTSTART;VALUE=DATE:20190601
DTEND;VALUE=DATE:20190602
DTSTAMP:20260424T013120
CREATED:20181214T222055Z
LAST-MODIFIED:20181214T222055Z
UID:5916-1559347200-1559433599@nhccnm.org
SUMMARY:¡Vamos al Museo!
DESCRIPTION:10:30 am to 12 pm \nA great morning of art-making for children of all ages and families of all sizes. A visit to the museum is included in this artist-led workshop. We will meet in the Creative Classroom in the Pete V. Domenici Building. \nThis month\, create the Garden of Eden in honor of the NHCC Art Museum exhibit Southwest of Eden: The Art of Adam and Eve. \nPlease pre-register HERE (so we know how many materials to prepare) \nFor more information please call or email Elena Baca at 505-246-2261 or ElenaD.Baca@state.nm.us\nFree\, $5 donations are encouraged to support the artists & purchase supplies
URL:https://nhccnm.org/event/vamos-al-museo-30/
LOCATION:Domenici Education Building\, 1701 4th Street SW\, Albuquerque\, NM\, 87102
CATEGORIES:Education,School and Youth Programs,Visual Arts,Workshops
ATTACH;FMTTYPE=image/jpeg:https://nhccnm.org/wp-content/uploads/2018/05/VAM-2017-BannerLogo.jpg
END:VEVENT
BEGIN:VEVENT
DTSTART;VALUE=DATE:20190601
DTEND;VALUE=DATE:20190603
DTSTAMP:20260424T013120
CREATED:20190110T181709Z
LAST-MODIFIED:20190110T181709Z
UID:6290-1559347200-1559519999@nhccnm.org
SUMMARY:Mundos de Mestizaje
DESCRIPTION:12 pm to 5 pm \nA Vision of History through Fresco… \nMundos de Mestizaje by Frederico Vigil is a mural housed in the Torreón on the campus of the National Hispanic Cultural Center. This monumental fresco depicts thousands of years of Hispanic history highlighting diverse cultural connections between people and places from the Iberian Peninsula to the Americas. The 4\,000 square foot painting is one of the largest frescos in North America. \nThe digitized imagery of the painting ensures that this culturally significant work can be a sharing and learning experience for students and families anywhere. We invite you to explore the imagery\, history and complexities of the Mundos de Mestizaje mural. \nDiscover on your own by clicking the link HERE.\n(It may take a moment to load.  Microsoft Internet Explorer is NOT recommended.  Best experienced with Safari\, Firefox or Chrome.)\nFree
URL:https://nhccnm.org/event/mundos-de-mestizaje-70/
LOCATION:NHCC Torreón\, 1701 4th street SW\, Albuquerque\, NM\, 87102\, United States
CATEGORIES:Education,Visual Arts
ATTACH;FMTTYPE=image/jpeg:https://nhccnm.org/wp-content/uploads/2017/08/Torreon.jpg
END:VEVENT
BEGIN:VEVENT
DTSTART;VALUE=DATE:20190606
DTEND;VALUE=DATE:20190607
DTSTAMP:20260424T013120
CREATED:20181215T230233Z
LAST-MODIFIED:20181215T230233Z
UID:5929-1559779200-1559865599@nhccnm.org
SUMMARY:¡HAH! Happy Arte Hour
DESCRIPTION:5:30 pm to 7:30 pm \nOn the first Thursday of the month\, NHCC invites adults for artistic fun in a relaxed social setting\, which includes snacks\, refreshments\, and beer & wine for sale from Pop Fizz. This is a great opportunity for friends to hang out\, a unique date night option\, or a place to come solo and connect with fellow art enthusiasts.\nPlease pre-register using the link HERE (so we know how many materials to prepare) \nThis month\, work with artist\, Delilah Montoya whose work is in our current exhibit\, “Que Chola”. She will be instructing on how to use your phone as a photo art making tool and creating a staged photograph. Please bring a phone with a camera or digital camera (or if you choose\, a Polaroid or film camera). \nFor more information please call or email Elena Baca at 505-246-2261 or ElenaD.Baca@state.nm.us \nFree\, $5 donations are encouraged to support the artists & purchase supplies
URL:https://nhccnm.org/event/hah-happy-arte-hour-34/
LOCATION:Domenici Education Building\, 1701 4th Street SW\, Albuquerque\, NM\, 87102
CATEGORIES:Education,Food,Visual Arts,Workshops
ATTACH;FMTTYPE=image/jpeg:https://nhccnm.org/wp-content/uploads/2016/12/HAH-2017-WebsiteBanner.jpg
END:VEVENT
BEGIN:VEVENT
DTSTART;VALUE=DATE:20190608
DTEND;VALUE=DATE:20190610
DTSTAMP:20260424T013120
CREATED:20190110T181906Z
LAST-MODIFIED:20190110T181906Z
UID:6292-1559952000-1560124799@nhccnm.org
SUMMARY:Mundos de Mestizaje
DESCRIPTION:12 pm to 5 pm \nA Vision of History through Fresco… \nMundos de Mestizaje by Frederico Vigil is a mural housed in the Torreón on the campus of the National Hispanic Cultural Center. This monumental fresco depicts thousands of years of Hispanic history highlighting diverse cultural connections between people and places from the Iberian Peninsula to the Americas. The 4\,000 square foot painting is one of the largest frescos in North America. \nThe digitized imagery of the painting ensures that this culturally significant work can be a sharing and learning experience for students and families anywhere. We invite you to explore the imagery\, history and complexities of the Mundos de Mestizaje mural. \nDiscover on your own by clicking the link HERE.\n(It may take a moment to load.  Microsoft Internet Explorer is NOT recommended.  Best experienced with Safari\, Firefox or Chrome.)\nFree
URL:https://nhccnm.org/event/mundos-de-mestizaje-71/
LOCATION:NHCC Torreón\, 1701 4th street SW\, Albuquerque\, NM\, 87102\, United States
CATEGORIES:Education,Visual Arts
ATTACH;FMTTYPE=image/jpeg:https://nhccnm.org/wp-content/uploads/2017/08/Torreon.jpg
END:VEVENT
BEGIN:VEVENT
DTSTART;VALUE=DATE:20190615
DTEND;VALUE=DATE:20190617
DTSTAMP:20260424T013120
CREATED:20190110T182045Z
LAST-MODIFIED:20190110T182045Z
UID:6294-1560556800-1560729599@nhccnm.org
SUMMARY:Mundos de Mestizaje
DESCRIPTION:12 pm to 5 pm \nA Vision of History through Fresco… \nMundos de Mestizaje by Frederico Vigil is a mural housed in the Torreón on the campus of the National Hispanic Cultural Center. This monumental fresco depicts thousands of years of Hispanic history highlighting diverse cultural connections between people and places from the Iberian Peninsula to the Americas. The 4\,000 square foot painting is one of the largest frescos in North America. \nThe digitized imagery of the painting ensures that this culturally significant work can be a sharing and learning experience for students and families anywhere. We invite you to explore the imagery\, history and complexities of the Mundos de Mestizaje mural. \nDiscover on your own by clicking the link HERE.\n(It may take a moment to load.  Microsoft Internet Explorer is NOT recommended.  Best experienced with Safari\, Firefox or Chrome.)\nFree
URL:https://nhccnm.org/event/mundos-de-mestizaje-72/
LOCATION:NHCC Torreón\, 1701 4th street SW\, Albuquerque\, NM\, 87102\, United States
CATEGORIES:Education,Visual Arts
ATTACH;FMTTYPE=image/jpeg:https://nhccnm.org/wp-content/uploads/2017/08/Torreon.jpg
END:VEVENT
BEGIN:VEVENT
DTSTART;VALUE=DATE:20190622
DTEND;VALUE=DATE:20190624
DTSTAMP:20260424T013120
CREATED:20190110T182229Z
LAST-MODIFIED:20190110T182229Z
UID:6296-1561161600-1561334399@nhccnm.org
SUMMARY:Mundos de Mestizaje
DESCRIPTION:12 pm to 5 pm \nA Vision of History through Fresco… \nMundos de Mestizaje by Frederico Vigil is a mural housed in the Torreón on the campus of the National Hispanic Cultural Center. This monumental fresco depicts thousands of years of Hispanic history highlighting diverse cultural connections between people and places from the Iberian Peninsula to the Americas. The 4\,000 square foot painting is one of the largest frescos in North America. \nThe digitized imagery of the painting ensures that this culturally significant work can be a sharing and learning experience for students and families anywhere. We invite you to explore the imagery\, history and complexities of the Mundos de Mestizaje mural. \nDiscover on your own by clicking the link HERE.\n(It may take a moment to load.  Microsoft Internet Explorer is NOT recommended.  Best experienced with Safari\, Firefox or Chrome.)\nFree
URL:https://nhccnm.org/event/mundos-de-mestizaje-73/
LOCATION:NHCC Torreón\, 1701 4th street SW\, Albuquerque\, NM\, 87102\, United States
CATEGORIES:Education,Visual Arts
ATTACH;FMTTYPE=image/jpeg:https://nhccnm.org/wp-content/uploads/2017/08/Torreon.jpg
END:VEVENT
BEGIN:VEVENT
DTSTART;VALUE=DATE:20190629
DTEND;VALUE=DATE:20190701
DTSTAMP:20260424T013120
CREATED:20190110T182413Z
LAST-MODIFIED:20190110T182413Z
UID:6298-1561766400-1561939199@nhccnm.org
SUMMARY:Mundos de Mestizaje
DESCRIPTION:12 pm to 5 pm \nA Vision of History through Fresco… \nMundos de Mestizaje by Frederico Vigil is a mural housed in the Torreón on the campus of the National Hispanic Cultural Center. This monumental fresco depicts thousands of years of Hispanic history highlighting diverse cultural connections between people and places from the Iberian Peninsula to the Americas. The 4\,000 square foot painting is one of the largest frescos in North America. \nThe digitized imagery of the painting ensures that this culturally significant work can be a sharing and learning experience for students and families anywhere. We invite you to explore the imagery\, history and complexities of the Mundos de Mestizaje mural. \nDiscover on your own by clicking the link HERE.\n(It may take a moment to load.  Microsoft Internet Explorer is NOT recommended.  Best experienced with Safari\, Firefox or Chrome.)\nFree
URL:https://nhccnm.org/event/mundos-de-mestizaje-74/
LOCATION:NHCC Torreón\, 1701 4th street SW\, Albuquerque\, NM\, 87102\, United States
CATEGORIES:Education,Visual Arts
ATTACH;FMTTYPE=image/jpeg:https://nhccnm.org/wp-content/uploads/2017/08/Torreon.jpg
END:VEVENT
END:VCALENDAR