BEGIN:VCALENDAR
VERSION:2.0
PRODID:-// - ECPv6.15.14//NONSGML v1.0//EN
CALSCALE:GREGORIAN
METHOD:PUBLISH
X-ORIGINAL-URL:https://nhccnm.org
X-WR-CALDESC:Events for 
REFRESH-INTERVAL;VALUE=DURATION:PT1H
X-Robots-Tag:noindex
X-PUBLISHED-TTL:PT1H
BEGIN:VTIMEZONE
TZID:America/Denver
BEGIN:DAYLIGHT
TZOFFSETFROM:-0700
TZOFFSETTO:-0600
TZNAME:MDT
DTSTART:20160313T090000
END:DAYLIGHT
BEGIN:STANDARD
TZOFFSETFROM:-0600
TZOFFSETTO:-0700
TZNAME:MST
DTSTART:20161106T080000
END:STANDARD
BEGIN:DAYLIGHT
TZOFFSETFROM:-0700
TZOFFSETTO:-0600
TZNAME:MDT
DTSTART:20170312T090000
END:DAYLIGHT
BEGIN:STANDARD
TZOFFSETFROM:-0600
TZOFFSETTO:-0700
TZNAME:MST
DTSTART:20171105T080000
END:STANDARD
BEGIN:DAYLIGHT
TZOFFSETFROM:-0700
TZOFFSETTO:-0600
TZNAME:MDT
DTSTART:20180311T090000
END:DAYLIGHT
BEGIN:STANDARD
TZOFFSETFROM:-0600
TZOFFSETTO:-0700
TZNAME:MST
DTSTART:20181104T080000
END:STANDARD
BEGIN:DAYLIGHT
TZOFFSETFROM:-0700
TZOFFSETTO:-0600
TZNAME:MDT
DTSTART:20190310T090000
END:DAYLIGHT
BEGIN:STANDARD
TZOFFSETFROM:-0600
TZOFFSETTO:-0700
TZNAME:MST
DTSTART:20191103T080000
END:STANDARD
BEGIN:DAYLIGHT
TZOFFSETFROM:-0700
TZOFFSETTO:-0600
TZNAME:MDT
DTSTART:20200308T090000
END:DAYLIGHT
BEGIN:STANDARD
TZOFFSETFROM:-0600
TZOFFSETTO:-0700
TZNAME:MST
DTSTART:20201101T080000
END:STANDARD
BEGIN:DAYLIGHT
TZOFFSETFROM:-0700
TZOFFSETTO:-0600
TZNAME:MDT
DTSTART:20210314T090000
END:DAYLIGHT
BEGIN:STANDARD
TZOFFSETFROM:-0600
TZOFFSETTO:-0700
TZNAME:MST
DTSTART:20211107T080000
END:STANDARD
BEGIN:DAYLIGHT
TZOFFSETFROM:-0700
TZOFFSETTO:-0600
TZNAME:MDT
DTSTART:20220313T090000
END:DAYLIGHT
BEGIN:STANDARD
TZOFFSETFROM:-0600
TZOFFSETTO:-0700
TZNAME:MST
DTSTART:20221106T080000
END:STANDARD
END:VTIMEZONE
BEGIN:VEVENT
DTSTART;VALUE=DATE:20170305
DTEND;VALUE=DATE:20200120
DTSTAMP:20260422T113038
CREATED:20170215T190912Z
LAST-MODIFIED:20170215T190912Z
UID:3228-1488672000-1579478399@nhccnm.org
SUMMARY:¡Aquí Estamos: The Heart of Arte!
DESCRIPTION:Art Museum hours and prices HERE \n¡Aquí Estamos: The Heart of Arte! celebrates the NHCC Art Museum’s growing permanent collection with a revitalized vibe and a brand new selection of works. This exhibition was a collaborative project as the entire NHCC Visual Arts staff and interns combed through the collection and worked together to decide which pieces should welcome in 2017. This sampling explores the contributions of these artists and how each work can serve as a reminder of the heart that thrives in strong and resilient communities. \nThe collection contains over 2\,500 artworks by Hispanic\, Chicana/o\, and Latina/o\, artists from around the globe most of which have been generously donated to the museum by artists and collectors. It reflects the diversity of Latina/o art and expression in all of its vibrancy\, creativity\, pointed humor and social consciousness. The National Hispanic Cultural Center Art Museum exists to support and engage the work of these artists and share their creations and their stories with the broader community.
URL:https://nhccnm.org/event/aqui-estamos-heart-arte/
LOCATION:September-2019-Board-Meeting-Minutes
CATEGORIES:Exhibitions,Visual Arts
ATTACH;FMTTYPE=image/jpeg:https://nhccnm.org/wp-content/uploads/2017/02/Artebox.jpg
END:VEVENT
BEGIN:VEVENT
DTSTART;VALUE=DATE:20190517
DTEND;VALUE=DATE:20211018
DTSTAMP:20260422T113038
CREATED:20190409T141831Z
LAST-MODIFIED:20190409T141831Z
UID:6963-1558051200-1634515199@nhccnm.org
SUMMARY:Southwest of Eden:  The Art of Adam and Eve
DESCRIPTION:This exciting exhibit features approximately fifty works of art from the Joyce Kaser Collection. Southwest of Eden: The Art of Adam and Eve examines the various ways in which New Mexican artists and others visually portray these two famous figures as well as the flora and fauna in their surroundings.  For example\, how many apples are featured\, or are they pomegranates? Is the serpent male or female? Is it animal or human\, or half and half? Is Eve always the instigator or is Adam assuming some responsibility? Situated in the NHCC Art Museum’s highly popular community gallery\, Southwest of Eden invites the visitor to take a closer look at the imagery\, symbolism and story of what happened in the garden.
URL:https://nhccnm.org/event/southwest-of-eden-the-art-of-adam-and-eve/
LOCATION:September-2019-Board-Meeting-Minutes
CATEGORIES:Exhibitions,Visual Arts
ATTACH;FMTTYPE=image/jpeg:https://nhccnm.org/wp-content/uploads/2018/12/HomeBanner.AdamEve-featured-image.jpg
END:VEVENT
BEGIN:VEVENT
DTSTART;VALUE=DATE:20190831
DTEND;VALUE=DATE:20190902
DTSTAMP:20260422T113038
CREATED:20190605T191810Z
LAST-MODIFIED:20190605T191810Z
UID:7332-1567209600-1567382399@nhccnm.org
SUMMARY:Mundos de Mestizaje
DESCRIPTION:12 pm to 5 pm \nA Vision of History through Fresco… \nMundos de Mestizaje by Frederico Vigil is a mural housed in the Torreón on the campus of the National Hispanic Cultural Center. This monumental fresco depicts thousands of years of Hispanic history highlighting diverse cultural connections between people and places from the Iberian Peninsula to the Americas. The 4\,000 square foot painting is one of the largest frescos in North America. \nThe digitized imagery of the painting ensures that this culturally significant work can be a sharing and learning experience for students and families anywhere. We invite you to explore the imagery\, history and complexities of the Mundos de Mestizaje mural. \nDiscover on your own by clicking the link HERE.\n(It may take a moment to load.  Microsoft Internet Explorer is NOT recommended.  Best experienced with Safari\, Firefox or Chrome.)\nFree
URL:https://nhccnm.org/event/mundos-de-mestizaje-83/
LOCATION:NHCC Torreón\, 1701 4th street SW\, Albuquerque\, NM\, 87102\, United States
CATEGORIES:History and Literary Arts,Visual Arts
ATTACH;FMTTYPE=image/jpeg:https://nhccnm.org/wp-content/uploads/2017/08/Torreon.jpg
END:VEVENT
BEGIN:VEVENT
DTSTART;VALUE=DATE:20190905
DTEND;VALUE=DATE:20190906
DTSTAMP:20260422T113038
CREATED:20181229T212737Z
LAST-MODIFIED:20181229T212737Z
UID:6069-1567641600-1567727999@nhccnm.org
SUMMARY:CANCELLED ¡HAH! Happy Arte Hour
DESCRIPTION:This date has been canceled but we hope you will join us at October’s event! \n5:30 pm to 7:30 pm \nOn the first Thursday of the month\, NHCC invites adults for artistic fun in a relaxed social setting\, which includes snacks\, refreshments\, and beer & wine for sale from Pop Fizz. This is a great opportunity for friends to hang out\, a unique date night option\, or a place to come solo and connect with fellow art enthusiasts.\nPlease pre-register using the link HERE (so we know how many materials to prepare) \nFor more information please call or email Elena Baca at 505-246-2261 or ElenaD.Baca@state.nm.us \nFree\, $5 donations are encouraged to support the artists & purchase supplies
URL:https://nhccnm.org/event/hah-happy-arte-hour-37/
LOCATION:Domenici Education Building\, 1701 4th Street SW\, Albuquerque\, NM\, 87102
CATEGORIES:Education,Food,Visual Arts,Workshops
ATTACH;FMTTYPE=image/jpeg:https://nhccnm.org/wp-content/uploads/2016/12/HAH-2017-WebsiteBanner.jpg
END:VEVENT
BEGIN:VEVENT
DTSTART;VALUE=DATE:20190906
DTEND;VALUE=DATE:20190907
DTSTAMP:20260422T113038
CREATED:20190723T170841Z
LAST-MODIFIED:20190723T170841Z
UID:7666-1567728000-1567814399@nhccnm.org
SUMMARY:Opening Reception for El Perú: Art in the Contemporary Past
DESCRIPTION:Join us on Friday\, September 6 from 6:00pm – 8:00pm to celebrate the opening of our newest exhibition\, El Perú: Art in the Contemporary Past. The event is free and open to the public. \nEl Perú: Art in the Contemporary Past\, aims to break down stereotypes of what visitors expect to see in a “Peruvian art exhibit.”  The exhibit celebrates the work of  artists Baldomero Alejos (1924-1976) a photographer from Ayacucho; Ana de Orbegoso\, a multimedia artist inspired by the Cuzco School\, Pre-Colombian pottery and Peruvian history and identity; Kukuli Velarde\, a ceramicist who addresses class racism\, and exclusion  in her ceramics\, and Lorry Salcedo\, a photographer whose striking black and white images connect the Peruvian past to its present.   Each artist explores the Peruvian pre-colonial and colonial past while addressing race\, class and inclusion in the contemporary present.  Works include photography\, sculpture\, ceramics\, painting\, and multimedia in juxtaposition with examples of their historical antecedents.
URL:https://nhccnm.org/event/opening-reception-for-el-peru-art-in-the-contemporary-past/
CATEGORIES:Visual Arts
ATTACH;FMTTYPE=image/jpeg:https://nhccnm.org/wp-content/uploads/2019/07/HomeBanner.EP_.jpg
END:VEVENT
BEGIN:VEVENT
DTSTART;VALUE=DATE:20190906
DTEND;VALUE=DATE:20210217
DTSTAMP:20260422T113038
CREATED:20181221T170332Z
LAST-MODIFIED:20181221T170332Z
UID:5998-1567728000-1613519999@nhccnm.org
SUMMARY:El Perú: Art in the Contemporary Past
DESCRIPTION:El Perú: Art in the Contemporary Past\, aims to break down stereotypes of what visitors expect to see in a “Peruvian art exhibit.”  The exhibit celebrates the work of  artists Baldomero Alejos (1924-1976) a photographer from Ayacucho; Ana de Orbegoso\, a multimedia artist inspired by the Cuzco School\, Pre-Colombian pottery and Peruvian history and identity; Kukuli Velarde\, a ceramicist who addresses class racism\, and exclusion  in her ceramics\, and Lorry Salcedo\, a photographer whose striking black and white images connect the Peruvian past to its present.   Each artist explores the Peruvian pre-colonial and colonial past while addressing race\, class and inclusion in the contemporary present.  Works include photography\, sculpture\, ceramics\, painting\, and multimedia in juxtaposition with examples of their historical antecedents.
URL:https://nhccnm.org/event/el-peru-art-in-the-contemporary-past/
LOCATION:September-2019-Board-Meeting-Minutes
CATEGORIES:Exhibitions,Visual Arts
ATTACH;FMTTYPE=image/jpeg:https://nhccnm.org/wp-content/uploads/2019/07/HomeBanner.EP_.jpg
END:VEVENT
BEGIN:VEVENT
DTSTART;VALUE=DATE:20190907
DTEND;VALUE=DATE:20190909
DTSTAMP:20260422T113038
CREATED:20190605T191944Z
LAST-MODIFIED:20190605T191944Z
UID:7334-1567814400-1567987199@nhccnm.org
SUMMARY:Mundos de Mestizaje
DESCRIPTION:12 pm to 5 pm \nA Vision of History through Fresco… \nMundos de Mestizaje by Frederico Vigil is a mural housed in the Torreón on the campus of the National Hispanic Cultural Center. This monumental fresco depicts thousands of years of Hispanic history highlighting diverse cultural connections between people and places from the Iberian Peninsula to the Americas. The 4\,000 square foot painting is one of the largest frescos in North America. \nThe digitized imagery of the painting ensures that this culturally significant work can be a sharing and learning experience for students and families anywhere. We invite you to explore the imagery\, history and complexities of the Mundos de Mestizaje mural. \nDiscover on your own by clicking the link HERE.\n(It may take a moment to load.  Microsoft Internet Explorer is NOT recommended.  Best experienced with Safari\, Firefox or Chrome.)\nFree
URL:https://nhccnm.org/event/mundos-de-mestizaje-84/
LOCATION:NHCC Torreón\, 1701 4th street SW\, Albuquerque\, NM\, 87102\, United States
CATEGORIES:History and Literary Arts,Visual Arts
ATTACH;FMTTYPE=image/jpeg:https://nhccnm.org/wp-content/uploads/2017/08/Torreon.jpg
END:VEVENT
BEGIN:VEVENT
DTSTART;VALUE=DATE:20190913
DTEND;VALUE=DATE:20191010
DTSTAMP:20260422T113038
CREATED:20190913T183729Z
LAST-MODIFIED:20190913T183729Z
UID:7964-1568332800-1570665599@nhccnm.org
SUMMARY:Call for Entries! Día de los Muertos Community Ofrenda Exhibit 2019
DESCRIPTION:Call for Entries! Día de los Muertos Community Ofrenda Exhibit 2019 \nEach year the National Hispanic Cultural Center works with schools and community organizations to host an exhibit of ofrendas (altars) in celebration of Día de los Muertos \nOfrendas will be placed in the Domenici Education Building and the Roy E. Disney Performing Arts Center. Due to limited availability\, the NHCC cannot accommodate all requests for tables. Please plan to provide your own tables\, boxes or structure for your altar\, and additional desired supplies. The NHCC reserves the right to review all submissions to ensure their alignment with the NHCC mission. If you are unable to create an ofrenda\, the NHCC has a community ofrenda that you are welcome to contribute items in remembrance of your loved ones.  Keep in mind we are not responsible for any items that are lost or stolen. Please do not bring irreplaceable photographs or items.  We encourage photo copies. \n \nDeadline for submissions is Wednesday\, October 9th\, 2019 (You will be notified by email if your submission is approved) \nInstallation dates are Tuesday\, October 15 – Saturday\, October 19\, 2019 \nThe exhibit runs October 21 – November 8\, 2019  (Deinstallation: Saturday November 9 – 15th) \n  \nThis year we are working with 516 arts and are asking for a select number of submissions to be dedicated to the “Species in Peril” along the Rio Grande. \nWe can provide you with a list of plants and animals that are extinct or facing extinction along the Rio Grande.  For information on the exhibit at 516 Arts and programming https://www.516arts.org/ \nhttps://www.516arts.org/exhibitions/species-in-peril-along-the-rio-grande-contemporary-artists-respond \n  \nQuestions? Please call or email Elena @ ElenaD.Baca@state.nm.us  505-383-4734 \nTo Register\, click HERE. \n 
URL:https://nhccnm.org/event/call-for-entries-dia-de-los-muertos-community-ofrenda-exhibit-2019/
CATEGORIES:Visual Arts
ATTACH;FMTTYPE=image/jpeg:https://nhccnm.org/wp-content/uploads/2019/09/OFrenda-e1568399698772-scaled.jpg
END:VEVENT
BEGIN:VEVENT
DTSTART;VALUE=DATE:20190914
DTEND;VALUE=DATE:20190916
DTSTAMP:20260422T113038
CREATED:20190605T192122Z
LAST-MODIFIED:20190605T192122Z
UID:7336-1568419200-1568591999@nhccnm.org
SUMMARY:Mundos de Mestizaje
DESCRIPTION:12 pm to 5 pm \nA Vision of History through Fresco… \nMundos de Mestizaje by Frederico Vigil is a mural housed in the Torreón on the campus of the National Hispanic Cultural Center. This monumental fresco depicts thousands of years of Hispanic history highlighting diverse cultural connections between people and places from the Iberian Peninsula to the Americas. The 4\,000 square foot painting is one of the largest frescos in North America. \nThe digitized imagery of the painting ensures that this culturally significant work can be a sharing and learning experience for students and families anywhere. We invite you to explore the imagery\, history and complexities of the Mundos de Mestizaje mural. \nDiscover on your own by clicking the link HERE.\n(It may take a moment to load.  Microsoft Internet Explorer is NOT recommended.  Best experienced with Safari\, Firefox or Chrome.)\nFree
URL:https://nhccnm.org/event/mundos-de-mestizaje-85/
LOCATION:NHCC Torreón\, 1701 4th street SW\, Albuquerque\, NM\, 87102\, United States
CATEGORIES:History and Literary Arts,Visual Arts
ATTACH;FMTTYPE=image/jpeg:https://nhccnm.org/wp-content/uploads/2017/08/Torreon.jpg
END:VEVENT
BEGIN:VEVENT
DTSTART;VALUE=DATE:20190915
DTEND;VALUE=DATE:20190916
DTSTAMP:20260422T113038
CREATED:20190912T190740Z
LAST-MODIFIED:20190912T190740Z
UID:7953-1568505600-1568591999@nhccnm.org
SUMMARY:Lecture and Presentation with Marta Turok
DESCRIPTION:2:30 pm \nYou are invited to a special lecture and presentation! \nSpeaker:  Marta Turok \nTitle: Huipiles and Mexican Indigenous Textiles: Technique and Evolution \nSuggested donation of $5.00  goes to help support programs like this at the National Hispanic Cultural Center Art Museum! \nPlease join the National Hispanic Cultural Center Art Museum in welcoming Marta Turok\, renown expert in  Mexican textiles to Albuquerque.  Marta Turok lives in Mexico and has worked in government agencies and non-governmental organizations such as the National Indigenous Institute\, the Department of Popular Cultures\, (which she headed from 1986-1988) and FONART\, the Federal Fund for Crafts Development. Her work has focused on cultural revival and empowerment\, specializing in folk art and crafts with an environmental focus. She has taught at various universities\, worked as curator of national and international exhibits\, written dozens of books and articles and was the founding president of AMACUP\, the Mexican Association of Folk Art and Culture\, a pioneer organization in crafts development in Mexico.  She is currently she is Curator for the Ruth D. Lechuga Center for Folk Art Studies at the Franz Mayer Museum\, in Mexico City. In 2006-2007 she was invited to catalog Frida Kahlo’s wardrobe guarded in her bathroom for 50 years and wrote the main essay for the book Self-portrait in a Velvet Dress\, used by the curators of London’s Victoria and Albert Museum’s exhibit\, Frida Kahlo: Making Herself Up.
URL:https://nhccnm.org/event/lecture-and-presentation-with-marta-turok/
LOCATION:NHCC-BOD-January-2020-Meeting
CATEGORIES:Education,Speakers,Visual Arts,Workshops
ATTACH;FMTTYPE=image/jpeg:https://nhccnm.org/wp-content/uploads/2019/09/MX-COSTUME-1.jpg
END:VEVENT
BEGIN:VEVENT
DTSTART;VALUE=DATE:20190921
DTEND;VALUE=DATE:20190923
DTSTAMP:20260422T113038
CREATED:20190605T192320Z
LAST-MODIFIED:20190605T192320Z
UID:7338-1569024000-1569196799@nhccnm.org
SUMMARY:Mundos de Mestizaje
DESCRIPTION:12 pm to 5 pm \nA Vision of History through Fresco… \nMundos de Mestizaje by Frederico Vigil is a mural housed in the Torreón on the campus of the National Hispanic Cultural Center. This monumental fresco depicts thousands of years of Hispanic history highlighting diverse cultural connections between people and places from the Iberian Peninsula to the Americas. The 4\,000 square foot painting is one of the largest frescos in North America. \nThe digitized imagery of the painting ensures that this culturally significant work can be a sharing and learning experience for students and families anywhere. We invite you to explore the imagery\, history and complexities of the Mundos de Mestizaje mural. \nDiscover on your own by clicking the link HERE.\n(It may take a moment to load.  Microsoft Internet Explorer is NOT recommended.  Best experienced with Safari\, Firefox or Chrome.)\nFree
URL:https://nhccnm.org/event/mundos-de-mestizaje-86/
LOCATION:NHCC Torreón\, 1701 4th street SW\, Albuquerque\, NM\, 87102\, United States
CATEGORIES:History and Literary Arts,Visual Arts
ATTACH;FMTTYPE=image/jpeg:https://nhccnm.org/wp-content/uploads/2017/08/Torreon.jpg
END:VEVENT
BEGIN:VEVENT
DTSTART;VALUE=DATE:20190928
DTEND;VALUE=DATE:20190930
DTSTAMP:20260422T113038
CREATED:20190605T192449Z
LAST-MODIFIED:20190605T192449Z
UID:7340-1569628800-1569801599@nhccnm.org
SUMMARY:Mundos de Mestizaje
DESCRIPTION:12 pm to 5 pm \nA Vision of History through Fresco… \nMundos de Mestizaje by Frederico Vigil is a mural housed in the Torreón on the campus of the National Hispanic Cultural Center. This monumental fresco depicts thousands of years of Hispanic history highlighting diverse cultural connections between people and places from the Iberian Peninsula to the Americas. The 4\,000 square foot painting is one of the largest frescos in North America. \nThe digitized imagery of the painting ensures that this culturally significant work can be a sharing and learning experience for students and families anywhere. We invite you to explore the imagery\, history and complexities of the Mundos de Mestizaje mural. \nDiscover on your own by clicking the link HERE.\n(It may take a moment to load.  Microsoft Internet Explorer is NOT recommended.  Best experienced with Safari\, Firefox or Chrome.)\nFree
URL:https://nhccnm.org/event/mundos-de-mestizaje-87/
LOCATION:NHCC Torreón\, 1701 4th street SW\, Albuquerque\, NM\, 87102\, United States
CATEGORIES:History and Literary Arts,Visual Arts
ATTACH;FMTTYPE=image/jpeg:https://nhccnm.org/wp-content/uploads/2017/08/Torreon.jpg
END:VEVENT
END:VCALENDAR