BEGIN:VCALENDAR
VERSION:2.0
PRODID:-// - ECPv6.15.14//NONSGML v1.0//EN
CALSCALE:GREGORIAN
METHOD:PUBLISH
X-ORIGINAL-URL:https://nhccnm.org
X-WR-CALDESC:Events for 
REFRESH-INTERVAL;VALUE=DURATION:PT1H
X-Robots-Tag:noindex
X-PUBLISHED-TTL:PT1H
BEGIN:VTIMEZONE
TZID:America/Denver
BEGIN:DAYLIGHT
TZOFFSETFROM:-0700
TZOFFSETTO:-0600
TZNAME:MDT
DTSTART:20160313T090000
END:DAYLIGHT
BEGIN:STANDARD
TZOFFSETFROM:-0600
TZOFFSETTO:-0700
TZNAME:MST
DTSTART:20161106T080000
END:STANDARD
BEGIN:DAYLIGHT
TZOFFSETFROM:-0700
TZOFFSETTO:-0600
TZNAME:MDT
DTSTART:20170312T090000
END:DAYLIGHT
BEGIN:STANDARD
TZOFFSETFROM:-0600
TZOFFSETTO:-0700
TZNAME:MST
DTSTART:20171105T080000
END:STANDARD
BEGIN:DAYLIGHT
TZOFFSETFROM:-0700
TZOFFSETTO:-0600
TZNAME:MDT
DTSTART:20180311T090000
END:DAYLIGHT
BEGIN:STANDARD
TZOFFSETFROM:-0600
TZOFFSETTO:-0700
TZNAME:MST
DTSTART:20181104T080000
END:STANDARD
BEGIN:DAYLIGHT
TZOFFSETFROM:-0700
TZOFFSETTO:-0600
TZNAME:MDT
DTSTART:20190310T090000
END:DAYLIGHT
BEGIN:STANDARD
TZOFFSETFROM:-0600
TZOFFSETTO:-0700
TZNAME:MST
DTSTART:20191103T080000
END:STANDARD
BEGIN:DAYLIGHT
TZOFFSETFROM:-0700
TZOFFSETTO:-0600
TZNAME:MDT
DTSTART:20200308T090000
END:DAYLIGHT
BEGIN:STANDARD
TZOFFSETFROM:-0600
TZOFFSETTO:-0700
TZNAME:MST
DTSTART:20201101T080000
END:STANDARD
BEGIN:DAYLIGHT
TZOFFSETFROM:-0700
TZOFFSETTO:-0600
TZNAME:MDT
DTSTART:20210314T090000
END:DAYLIGHT
BEGIN:STANDARD
TZOFFSETFROM:-0600
TZOFFSETTO:-0700
TZNAME:MST
DTSTART:20211107T080000
END:STANDARD
BEGIN:DAYLIGHT
TZOFFSETFROM:-0700
TZOFFSETTO:-0600
TZNAME:MDT
DTSTART:20220313T090000
END:DAYLIGHT
BEGIN:STANDARD
TZOFFSETFROM:-0600
TZOFFSETTO:-0700
TZNAME:MST
DTSTART:20221106T080000
END:STANDARD
END:VTIMEZONE
BEGIN:VEVENT
DTSTART;VALUE=DATE:20170305
DTEND;VALUE=DATE:20200120
DTSTAMP:20260420T070940
CREATED:20170215T190912Z
LAST-MODIFIED:20170215T190912Z
UID:3228-1488672000-1579478399@nhccnm.org
SUMMARY:¡Aquí Estamos: The Heart of Arte!
DESCRIPTION:Art Museum hours and prices HERE \n¡Aquí Estamos: The Heart of Arte! celebrates the NHCC Art Museum’s growing permanent collection with a revitalized vibe and a brand new selection of works. This exhibition was a collaborative project as the entire NHCC Visual Arts staff and interns combed through the collection and worked together to decide which pieces should welcome in 2017. This sampling explores the contributions of these artists and how each work can serve as a reminder of the heart that thrives in strong and resilient communities. \nThe collection contains over 2\,500 artworks by Hispanic\, Chicana/o\, and Latina/o\, artists from around the globe most of which have been generously donated to the museum by artists and collectors. It reflects the diversity of Latina/o art and expression in all of its vibrancy\, creativity\, pointed humor and social consciousness. The National Hispanic Cultural Center Art Museum exists to support and engage the work of these artists and share their creations and their stories with the broader community.
URL:https://nhccnm.org/event/aqui-estamos-heart-arte/
LOCATION:September-2019-Board-Meeting-Minutes
CATEGORIES:Exhibitions,Visual Arts
ATTACH;FMTTYPE=image/jpeg:https://nhccnm.org/wp-content/uploads/2017/02/Artebox.jpg
END:VEVENT
BEGIN:VEVENT
DTSTART;VALUE=DATE:20190517
DTEND;VALUE=DATE:20211018
DTSTAMP:20260420T070940
CREATED:20190409T141831Z
LAST-MODIFIED:20190409T141831Z
UID:6963-1558051200-1634515199@nhccnm.org
SUMMARY:Southwest of Eden:  The Art of Adam and Eve
DESCRIPTION:This exciting exhibit features approximately fifty works of art from the Joyce Kaser Collection. Southwest of Eden: The Art of Adam and Eve examines the various ways in which New Mexican artists and others visually portray these two famous figures as well as the flora and fauna in their surroundings.  For example\, how many apples are featured\, or are they pomegranates? Is the serpent male or female? Is it animal or human\, or half and half? Is Eve always the instigator or is Adam assuming some responsibility? Situated in the NHCC Art Museum’s highly popular community gallery\, Southwest of Eden invites the visitor to take a closer look at the imagery\, symbolism and story of what happened in the garden.
URL:https://nhccnm.org/event/southwest-of-eden-the-art-of-adam-and-eve/
LOCATION:September-2019-Board-Meeting-Minutes
CATEGORIES:Exhibitions,Visual Arts
ATTACH;FMTTYPE=image/jpeg:https://nhccnm.org/wp-content/uploads/2018/12/HomeBanner.AdamEve-featured-image.jpg
END:VEVENT
BEGIN:VEVENT
DTSTART;VALUE=DATE:20190906
DTEND;VALUE=DATE:20210217
DTSTAMP:20260420T070940
CREATED:20181221T170332Z
LAST-MODIFIED:20181221T170332Z
UID:5998-1567728000-1613519999@nhccnm.org
SUMMARY:El Perú: Art in the Contemporary Past
DESCRIPTION:El Perú: Art in the Contemporary Past\, aims to break down stereotypes of what visitors expect to see in a “Peruvian art exhibit.”  The exhibit celebrates the work of  artists Baldomero Alejos (1924-1976) a photographer from Ayacucho; Ana de Orbegoso\, a multimedia artist inspired by the Cuzco School\, Pre-Colombian pottery and Peruvian history and identity; Kukuli Velarde\, a ceramicist who addresses class racism\, and exclusion  in her ceramics\, and Lorry Salcedo\, a photographer whose striking black and white images connect the Peruvian past to its present.   Each artist explores the Peruvian pre-colonial and colonial past while addressing race\, class and inclusion in the contemporary present.  Works include photography\, sculpture\, ceramics\, painting\, and multimedia in juxtaposition with examples of their historical antecedents.
URL:https://nhccnm.org/event/el-peru-art-in-the-contemporary-past/
LOCATION:September-2019-Board-Meeting-Minutes
CATEGORIES:Exhibitions,Visual Arts
ATTACH;FMTTYPE=image/jpeg:https://nhccnm.org/wp-content/uploads/2019/07/HomeBanner.EP_.jpg
END:VEVENT
BEGIN:VEVENT
DTSTART;VALUE=DATE:20191124
DTEND;VALUE=DATE:20200106
DTSTAMP:20260420T070940
CREATED:20191122T021328Z
LAST-MODIFIED:20191122T021328Z
UID:8448-1574553600-1578268799@nhccnm.org
SUMMARY:The Neighborhood Project: Las Voces de Barelas Exhibit
DESCRIPTION:The Neighborhood Project: Las Voces de Barelas is a community art initiative by Working Classroom student artists under the instruction of guest teaching artist Adria Malcolm which set out to explore the people of the historic Barelas area through the mediums of environmental portraiture and feature-writing. The project aims to bridge the gap between otherness and commonality through the sharing of the most vital elements of an individual’s story. \nThe project artists learned how to conduct thorough interviews\, explored rapport building with subjects\, and learned the basics of journalistic feature writing and portraiture. Las Voces de Barelas serves as a way for Working Classroom to give back and explore the community that it calls home and present stories of a shared human experience.
URL:https://nhccnm.org/event/the-neighborhood-project-las-voces-de-barelas-exhibit/
LOCATION:Domenici Education Building\, 1701 4th Street SW\, Albuquerque\, NM\, 87102
CATEGORIES:Exhibitions,Visual Arts
ATTACH;FMTTYPE=image/jpeg:https://nhccnm.org/wp-content/uploads/2019/11/Working-Classroom-Exhibit-graphic.jpg
END:VEVENT
BEGIN:VEVENT
DTSTART;VALUE=DATE:20191205
DTEND;VALUE=DATE:20191206
DTSTAMP:20260420T070940
CREATED:20181229T213251Z
LAST-MODIFIED:20181229T213251Z
UID:6075-1575504000-1575590399@nhccnm.org
SUMMARY:¡HAH! Happy Arte Hour
DESCRIPTION:5:30 pm to 7:30 pm \nOn the first Thursday of the month\, NHCC invites adults for artistic fun in a relaxed social setting\, which includes snacks\, refreshments\, and beer & wine for sale from Pop Fizz. This is a great opportunity for friends to hang out\, a unique date night option\, or a place to come solo and connect with fellow art enthusiasts. \nWelcome to Elena’s Holiday Gift Making Extravaganza! We will have a variety of supplies available to make cards\, gift tags\, gifts\, ornaments….no two alike! We also have felt to weave place mats and more. There will be a variety of gift making stations! \nPlease pre-register using the link HERE (so we know how many materials to prepare) \nFor more information please call or email Elena Baca at 505-246-2261 or ElenaD.Baca@state.nm.us \nFree\, $5 donations are encouraged to support the artists & purchase supplies
URL:https://nhccnm.org/event/hah-happy-arte-hour-40/
LOCATION:Domenici Education Building\, 1701 4th Street SW\, Albuquerque\, NM\, 87102
CATEGORIES:Education,Food,Visual Arts,Workshops
ATTACH;FMTTYPE=image/jpeg:https://nhccnm.org/wp-content/uploads/2016/12/HAH-2017-WebsiteBanner.jpg
END:VEVENT
BEGIN:VEVENT
DTSTART;VALUE=DATE:20191207
DTEND;VALUE=DATE:20191208
DTSTAMP:20260420T070940
CREATED:20181229T211730Z
LAST-MODIFIED:20181229T211730Z
UID:6062-1575676800-1575763199@nhccnm.org
SUMMARY:¡Vamos al Museo!
DESCRIPTION:10:30 am to 12 pm \nA great morning of art-making for children of all ages and families of all sizes. A visit to the museum is included in this artist-led workshop. We will meet in the Creative Classroom in the Pete V. Domenici Building. \nWe will visit with six Winter Spanish Market youth artists and then return to the classroom and create an ornament inspired by our observations. \nPlease pre-register HERE (so we know how many materials to prepare) \nFor more information please call or email Elena Baca at 505-246-2261 or ElenaD.Baca@state.nm.us\nFree\, $5 donations are encouraged to support the artists & purchase supplies
URL:https://nhccnm.org/event/vamos-al-museo-36/
LOCATION:Domenici Education Building\, 1701 4th Street SW\, Albuquerque\, NM\, 87102
CATEGORIES:Education,School and Youth Programs,Visual Arts
ATTACH;FMTTYPE=image/jpeg:https://nhccnm.org/wp-content/uploads/2018/05/VAM-2017-BannerLogo.jpg
END:VEVENT
BEGIN:VEVENT
DTSTART;VALUE=DATE:20191207
DTEND;VALUE=DATE:20191209
DTSTAMP:20260420T070940
CREATED:20190605T194755Z
LAST-MODIFIED:20190605T194755Z
UID:7362-1575676800-1575849599@nhccnm.org
SUMMARY:Mundos de Mestizaje
DESCRIPTION:12 pm to 5 pm \nA Vision of History through Fresco… \nMundos de Mestizaje by Frederico Vigil is a mural housed in the Torreón on the campus of the National Hispanic Cultural Center. This monumental fresco depicts thousands of years of Hispanic history highlighting diverse cultural connections between people and places from the Iberian Peninsula to the Americas. The 4\,000 square foot painting is one of the largest frescos in North America. \nThe digitized imagery of the painting ensures that this culturally significant work can be a sharing and learning experience for students and families anywhere. We invite you to explore the imagery\, history and complexities of the Mundos de Mestizaje mural. \nDiscover on your own by clicking the link HERE.\n(It may take a moment to load.  Microsoft Internet Explorer is NOT recommended.  Best experienced with Safari\, Firefox or Chrome.)\nFree
URL:https://nhccnm.org/event/mundos-de-mestizaje-98/
LOCATION:NHCC Torreón\, 1701 4th street SW\, Albuquerque\, NM\, 87102\, United States
CATEGORIES:History and Literary Arts,Visual Arts
ATTACH;FMTTYPE=image/jpeg:https://nhccnm.org/wp-content/uploads/2019/06/NHCC-Torreon-Fresco-3-16-dm-4SMALL.jpg
END:VEVENT
BEGIN:VEVENT
DTSTART;VALUE=DATE:20191207
DTEND;VALUE=DATE:20191209
DTSTAMP:20260420T070940
CREATED:20191114T225116Z
LAST-MODIFIED:20191114T225116Z
UID:8373-1575676800-1575849599@nhccnm.org
SUMMARY:2019 Winter Spanish Market
DESCRIPTION:10 am-5 pm—Saturday\n10 am-4 pm—Sunday \nSave the Date!\nThe 2019 Winter Spanish Market is back on the 7th and 8th of December! Experience authentic 400-year-old traditions and innovative Spanish Colonial style artwork\, made by New Mexico artists. Come and join this Hispanic festival including art\, local music\, food\, demonstrations and more. Interact personally with extraordinary artists\, learn about their traditions and take home a special purchase to add to a collection or give as a gift. \n$6 Individual OR $10 for two people. Children 12 and younger free \nPresented by the Spanish Colonial Arts Society
URL:https://nhccnm.org/event/2019-winter-spanish-market/
LOCATION:September-2019-Board-Meeting-Minutes
CATEGORIES:Rental,Visual Arts
ATTACH;FMTTYPE=image/jpeg:https://nhccnm.org/wp-content/uploads/2019/11/2019-WSM-poster-6.jpg
END:VEVENT
BEGIN:VEVENT
DTSTART;VALUE=DATE:20191207
DTEND;VALUE=DATE:20191209
DTSTAMP:20260420T070940
CREATED:20191122T020133Z
LAST-MODIFIED:20191122T020133Z
UID:8444-1575676800-1575849599@nhccnm.org
SUMMARY:NHCC Museum Holiday Pop up Shop
DESCRIPTION:10 pm to 4 pm—Saturday\n11 pm  to 4 pm—Sunday \nNational Hispanic Cultural Center\nNHCC Art Museum pop-up Shop!\nWe invite you to join us for the first–ever NHCC Museum Holiday Pop up Shop! \nFestive and Fun Gifts\nPiñatas (own a piece of museum history!)\nTea towels\nMugs\nT-shirts\nJewelry\nCards and mucho más! \nDrawings for gift baskets\nALL Proceeds directly support the NHCC Art Museum.\nFor information please contact Tey Marianna Nunn at tey.nunn@state.nm.us \nPhoto: Tey Diana Rebolledo
URL:https://nhccnm.org/event/nhcc-museum-holiday-pop-up-shop/
LOCATION:September-2019-Board-Meeting-Minutes
CATEGORIES:Seasonal Events,Visual Arts
ATTACH;FMTTYPE=image/jpeg:https://nhccnm.org/wp-content/uploads/2019/11/post-12-4.jpg
END:VEVENT
BEGIN:VEVENT
DTSTART;VALUE=DATE:20191214
DTEND;VALUE=DATE:20191215
DTSTAMP:20260420T070940
CREATED:20191213T003616Z
LAST-MODIFIED:20191213T003616Z
UID:8605-1576281600-1576367999@nhccnm.org
SUMMARY:NHCC Art Museum Holiday Pop Up Shop
DESCRIPTION:10 am – 3 pm \nNHCC Art Museum Tiendita \nFestive and Fun Gifts\nPiñatas (own a piece of museum history!)\nTea towels\nMugs\nT-shirts\nJewelry\nCards and mucho más! \nALL Proceeds directly support the NHCC Art Museum.\nFor information please contact Tey Marianna Nunn at tey.nunn@state.nm.us \nPhoto by Tey Diana Rebolledo
URL:https://nhccnm.org/event/nhcc-art-museum-holiday-pop-up-shop/
LOCATION:September-2019-Board-Meeting-Minutes
CATEGORIES:Visual Arts
ATTACH;FMTTYPE=image/jpeg:https://nhccnm.org/wp-content/uploads/2019/11/post-12-4.jpg
END:VEVENT
BEGIN:VEVENT
DTSTART;VALUE=DATE:20191214
DTEND;VALUE=DATE:20191216
DTSTAMP:20260420T070940
CREATED:20190605T195049Z
LAST-MODIFIED:20190605T195049Z
UID:7364-1576281600-1576454399@nhccnm.org
SUMMARY:Mundos de Mestizaje
DESCRIPTION:12 pm to 5 pm \nA Vision of History through Fresco… \nMundos de Mestizaje by Frederico Vigil is a mural housed in the Torreón on the campus of the National Hispanic Cultural Center. This monumental fresco depicts thousands of years of Hispanic history highlighting diverse cultural connections between people and places from the Iberian Peninsula to the Americas. The 4\,000 square foot painting is one of the largest frescos in North America. \nThe digitized imagery of the painting ensures that this culturally significant work can be a sharing and learning experience for students and families anywhere. We invite you to explore the imagery\, history and complexities of the Mundos de Mestizaje mural. \nDiscover on your own by clicking the link HERE.\n(It may take a moment to load.  Microsoft Internet Explorer is NOT recommended.  Best experienced with Safari\, Firefox or Chrome.)\nFree
URL:https://nhccnm.org/event/mundos-de-mestizaje-99/
LOCATION:NHCC Torreón\, 1701 4th street SW\, Albuquerque\, NM\, 87102\, United States
CATEGORIES:History and Literary Arts,Visual Arts
ATTACH;FMTTYPE=image/jpeg:https://nhccnm.org/wp-content/uploads/2019/06/NHCC-Torreon-Fresco-3-16-dm-4SMALL.jpg
END:VEVENT
BEGIN:VEVENT
DTSTART;VALUE=DATE:20191220
DTEND;VALUE=DATE:20191221
DTSTAMP:20260420T070940
CREATED:20191122T184550Z
LAST-MODIFIED:20191122T184550Z
UID:8464-1576800000-1576886399@nhccnm.org
SUMMARY:Colcha Community Stitch-Along
DESCRIPTION:9:30 am – 12 pm \nJoin our monthly gathering for colcheras of all skill levels led by Annette Gutierrez Turk. If you are beginning or advanced in the traditional New Mexican style of embroidery\, bring your current colcha project along and enjoy these monthly\, informal\, community work sessions to share ideas\, resources and encouragement! \nFor more information\, call Elena at 505-246-2261 or e-mailing elenad.baca@state.nm.us.\nFree event \nFacilitated by Sandia Mountains Chapter-EGA
URL:https://nhccnm.org/event/colcha-community-stitch-along-30/
LOCATION:Domenici Education Building\, 1701 4th Street SW\, Albuquerque\, NM\, 87102
CATEGORIES:Education,Visual Arts,Workshops
ATTACH;FMTTYPE=image/jpeg:https://nhccnm.org/wp-content/uploads/2016/02/Colcha-Embroidery-graphic.2-08-26-2015.jpg
END:VEVENT
END:VCALENDAR