BEGIN:VCALENDAR
VERSION:2.0
PRODID:-// - ECPv6.15.14//NONSGML v1.0//EN
CALSCALE:GREGORIAN
METHOD:PUBLISH
X-ORIGINAL-URL:https://nhccnm.org
X-WR-CALDESC:Events for 
REFRESH-INTERVAL;VALUE=DURATION:PT1H
X-Robots-Tag:noindex
X-PUBLISHED-TTL:PT1H
BEGIN:VTIMEZONE
TZID:America/Denver
BEGIN:DAYLIGHT
TZOFFSETFROM:-0700
TZOFFSETTO:-0600
TZNAME:MDT
DTSTART:20180311T090000
END:DAYLIGHT
BEGIN:STANDARD
TZOFFSETFROM:-0600
TZOFFSETTO:-0700
TZNAME:MST
DTSTART:20181104T080000
END:STANDARD
BEGIN:DAYLIGHT
TZOFFSETFROM:-0700
TZOFFSETTO:-0600
TZNAME:MDT
DTSTART:20190310T090000
END:DAYLIGHT
BEGIN:STANDARD
TZOFFSETFROM:-0600
TZOFFSETTO:-0700
TZNAME:MST
DTSTART:20191103T080000
END:STANDARD
BEGIN:DAYLIGHT
TZOFFSETFROM:-0700
TZOFFSETTO:-0600
TZNAME:MDT
DTSTART:20200308T090000
END:DAYLIGHT
BEGIN:STANDARD
TZOFFSETFROM:-0600
TZOFFSETTO:-0700
TZNAME:MST
DTSTART:20201101T080000
END:STANDARD
BEGIN:DAYLIGHT
TZOFFSETFROM:-0700
TZOFFSETTO:-0600
TZNAME:MDT
DTSTART:20210314T090000
END:DAYLIGHT
BEGIN:STANDARD
TZOFFSETFROM:-0600
TZOFFSETTO:-0700
TZNAME:MST
DTSTART:20211107T080000
END:STANDARD
BEGIN:DAYLIGHT
TZOFFSETFROM:-0700
TZOFFSETTO:-0600
TZNAME:MDT
DTSTART:20220313T090000
END:DAYLIGHT
BEGIN:STANDARD
TZOFFSETFROM:-0600
TZOFFSETTO:-0700
TZNAME:MST
DTSTART:20221106T080000
END:STANDARD
BEGIN:DAYLIGHT
TZOFFSETFROM:-0700
TZOFFSETTO:-0600
TZNAME:MDT
DTSTART:20230312T090000
END:DAYLIGHT
BEGIN:STANDARD
TZOFFSETFROM:-0600
TZOFFSETTO:-0700
TZNAME:MST
DTSTART:20231105T080000
END:STANDARD
BEGIN:DAYLIGHT
TZOFFSETFROM:-0700
TZOFFSETTO:-0600
TZNAME:MDT
DTSTART:20240310T090000
END:DAYLIGHT
BEGIN:STANDARD
TZOFFSETFROM:-0600
TZOFFSETTO:-0700
TZNAME:MST
DTSTART:20241103T080000
END:STANDARD
END:VTIMEZONE
BEGIN:VEVENT
DTSTART;VALUE=DATE:20190517
DTEND;VALUE=DATE:20211018
DTSTAMP:20260419T094851
CREATED:20190409T141831Z
LAST-MODIFIED:20190409T141831Z
UID:6963-1558051200-1634515199@nhccnm.org
SUMMARY:Southwest of Eden:  The Art of Adam and Eve
DESCRIPTION:This exciting exhibit features approximately fifty works of art from the Joyce Kaser Collection. Southwest of Eden: The Art of Adam and Eve examines the various ways in which New Mexican artists and others visually portray these two famous figures as well as the flora and fauna in their surroundings.  For example\, how many apples are featured\, or are they pomegranates? Is the serpent male or female? Is it animal or human\, or half and half? Is Eve always the instigator or is Adam assuming some responsibility? Situated in the NHCC Art Museum’s highly popular community gallery\, Southwest of Eden invites the visitor to take a closer look at the imagery\, symbolism and story of what happened in the garden.
URL:https://nhccnm.org/event/southwest-of-eden-the-art-of-adam-and-eve/
LOCATION:September-2019-Board-Meeting-Minutes
CATEGORIES:Exhibitions,Visual Arts
ATTACH;FMTTYPE=image/jpeg:https://nhccnm.org/wp-content/uploads/2018/12/HomeBanner.AdamEve-featured-image.jpg
END:VEVENT
BEGIN:VEVENT
DTSTART;VALUE=DATE:20190906
DTEND;VALUE=DATE:20210217
DTSTAMP:20260419T094851
CREATED:20181221T170332Z
LAST-MODIFIED:20181221T170332Z
UID:5998-1567728000-1613519999@nhccnm.org
SUMMARY:El Perú: Art in the Contemporary Past
DESCRIPTION:El Perú: Art in the Contemporary Past\, aims to break down stereotypes of what visitors expect to see in a “Peruvian art exhibit.”  The exhibit celebrates the work of  artists Baldomero Alejos (1924-1976) a photographer from Ayacucho; Ana de Orbegoso\, a multimedia artist inspired by the Cuzco School\, Pre-Colombian pottery and Peruvian history and identity; Kukuli Velarde\, a ceramicist who addresses class racism\, and exclusion  in her ceramics\, and Lorry Salcedo\, a photographer whose striking black and white images connect the Peruvian past to its present.   Each artist explores the Peruvian pre-colonial and colonial past while addressing race\, class and inclusion in the contemporary present.  Works include photography\, sculpture\, ceramics\, painting\, and multimedia in juxtaposition with examples of their historical antecedents.
URL:https://nhccnm.org/event/el-peru-art-in-the-contemporary-past/
LOCATION:September-2019-Board-Meeting-Minutes
CATEGORIES:Exhibitions,Visual Arts
ATTACH;FMTTYPE=image/jpeg:https://nhccnm.org/wp-content/uploads/2019/07/HomeBanner.EP_.jpg
END:VEVENT
BEGIN:VEVENT
DTSTART;VALUE=DATE:20200201
DTEND;VALUE=DATE:20200202
DTSTAMP:20260419T094851
CREATED:20200114T213008Z
LAST-MODIFIED:20200114T213008Z
UID:8864-1580515200-1580601599@nhccnm.org
SUMMARY:¡Vamos al Museo!
DESCRIPTION:10:30 am to 12 pm \nJoin us on the first Saturday of the month for a morning of art-making for children of all ages and families of all sizes. A visit to the museum is included in this NHCC staff and artist-led workshop. We will meet in the Creative Classroom in the Pete V. Domenici Building. \nThis month\, artist Lita Sandoval will guide a fun valentine themed workshop for all ages! \nPlease pre-register HERE (so we know how many materials to prepare) \nFor more information please call or email Elena Baca at 505-246-2261 or ElenaD.Baca@state.nm.us\nFree\, $5 donations are encouraged to support the artists & purchase supplies
URL:https://nhccnm.org/event/vamos-al-museo-32/
LOCATION:Domenici Education Building\, 1701 4th Street SW\, Albuquerque\, NM\, 87102
CATEGORIES:Education,School and Youth Programs,Visual Arts,Workshops
ATTACH;FMTTYPE=image/jpeg:https://nhccnm.org/wp-content/uploads/2018/05/VAM-2017-BannerLogo.jpg
END:VEVENT
BEGIN:VEVENT
DTSTART;VALUE=DATE:20200201
DTEND;VALUE=DATE:20200203
DTSTAMP:20260419T094851
CREATED:20191011T004523Z
LAST-MODIFIED:20191011T004523Z
UID:8133-1580515200-1580687999@nhccnm.org
SUMMARY:Mundos de Mestizaje
DESCRIPTION:12 pm to 5 pm \nA Vision of History through Fresco… \nMundos de Mestizaje by Frederico Vigil is a mural housed in the Torreón on the campus of the National Hispanic Cultural Center. This monumental fresco depicts thousands of years of Hispanic history highlighting diverse cultural connections between people and places from the Iberian Peninsula to the Americas. The 4\,000 square foot painting is one of the largest frescos in North America. \nThe digitized imagery of the painting ensures that this culturally significant work can be a sharing and learning experience for students and families anywhere. We invite you to explore the imagery\, history and complexities of the Mundos de Mestizaje mural. \nDiscover on your own by clicking the link HERE.\n(It may take a moment to load.  Microsoft Internet Explorer is NOT recommended.  Best experienced with Safari\, Firefox or Chrome.)\nFree
URL:https://nhccnm.org/event/mundos-de-mestizaje-102/
LOCATION:NHCC Torreón\, 1701 4th street SW\, Albuquerque\, NM\, 87102\, United States
CATEGORIES:Education,Visual Arts
ATTACH;FMTTYPE=image/jpeg:https://nhccnm.org/wp-content/uploads/2019/06/NHCC-Torreon-Fresco-3-16-dm-4SMALL.jpg
END:VEVENT
BEGIN:VEVENT
DTSTART;VALUE=DATE:20200206
DTEND;VALUE=DATE:20200207
DTSTAMP:20260419T094851
CREATED:20200107T193108Z
LAST-MODIFIED:20200107T193108Z
UID:8786-1580947200-1581033599@nhccnm.org
SUMMARY:¡HAH! Happy Arte Hour 2020
DESCRIPTION:6- 8 pm (new time!) \nThis year\, in the spirit of the NHCC’s 20th Anniversary\, we have invited back some of the artists that have contributed to the success of Happy Arte Hour over the years. Many of these artists were part of past exhibitions or have pieces of art in our permanent collection. \nOn the first Thursday of the month\, NHCC invites adults for artistic fun in a relaxed social setting\, which includes snacks\, refreshments\, and beer & wine for sale from Pop Fizz. This is a great opportunity for friends to hang out\, a unique date night option\, or a place to come solo and connect with fellow art enthusiasts. \nOn February 6\, Nick Abdalla and Susan Spring will join us again for Valentine Assemblage! \nPlease pre-register HERE (so we know how many materials to prepare). Registration for the following month is available the day after the current program month. \nFor more information please call or email Elena Baca at 505-246-2261 or ElenaD.Baca@state.nm.us \nFree\, $5+ donations are encouraged to support the artists & purchase supplies
URL:https://nhccnm.org/event/hah-happy-arte-hour-35/
LOCATION:Domenici Education Building – Grand Hall
CATEGORIES:Education,Food,Visual Arts,Workshops
ATTACH;FMTTYPE=image/jpeg:https://nhccnm.org/wp-content/uploads/2016/12/HAH-2017-WebsiteBanner.jpg
END:VEVENT
BEGIN:VEVENT
DTSTART;VALUE=DATE:20200208
DTEND;VALUE=DATE:20200210
DTSTAMP:20260419T094851
CREATED:20191011T004635Z
LAST-MODIFIED:20191011T004635Z
UID:8135-1581120000-1581292799@nhccnm.org
SUMMARY:Mundos de Mestizaje
DESCRIPTION:12 pm to 5 pm \nA Vision of History through Fresco… \nMundos de Mestizaje by Frederico Vigil is a mural housed in the Torreón on the campus of the National Hispanic Cultural Center. This monumental fresco depicts thousands of years of Hispanic history highlighting diverse cultural connections between people and places from the Iberian Peninsula to the Americas. The 4\,000 square foot painting is one of the largest frescos in North America. \nThe digitized imagery of the painting ensures that this culturally significant work can be a sharing and learning experience for students and families anywhere. We invite you to explore the imagery\, history and complexities of the Mundos de Mestizaje mural. \nDiscover on your own by clicking the link HERE.\n(It may take a moment to load.  Microsoft Internet Explorer is NOT recommended.  Best experienced with Safari\, Firefox or Chrome.)\nFree
URL:https://nhccnm.org/event/mundos-de-mestizaje-103/
LOCATION:NHCC Torreón\, 1701 4th street SW\, Albuquerque\, NM\, 87102\, United States
CATEGORIES:Education,Visual Arts
ATTACH;FMTTYPE=image/jpeg:https://nhccnm.org/wp-content/uploads/2019/06/NHCC-Torreon-Fresco-3-16-dm-4SMALL.jpg
END:VEVENT
BEGIN:VEVENT
DTSTART;VALUE=DATE:20200215
DTEND;VALUE=DATE:20200217
DTSTAMP:20260419T094851
CREATED:20191011T004747Z
LAST-MODIFIED:20191011T004747Z
UID:8137-1581724800-1581897599@nhccnm.org
SUMMARY:Mundos de Mestizaje
DESCRIPTION:12 pm to 5 pm \nA Vision of History through Fresco… \nMundos de Mestizaje by Frederico Vigil is a mural housed in the Torreón on the campus of the National Hispanic Cultural Center. This monumental fresco depicts thousands of years of Hispanic history highlighting diverse cultural connections between people and places from the Iberian Peninsula to the Americas. The 4\,000 square foot painting is one of the largest frescos in North America. \nThe digitized imagery of the painting ensures that this culturally significant work can be a sharing and learning experience for students and families anywhere. We invite you to explore the imagery\, history and complexities of the Mundos de Mestizaje mural. \nDiscover on your own by clicking the link HERE.\n(It may take a moment to load.  Microsoft Internet Explorer is NOT recommended.  Best experienced with Safari\, Firefox or Chrome.)\nFree
URL:https://nhccnm.org/event/mundos-de-mestizaje-104/
LOCATION:NHCC Torreón\, 1701 4th street SW\, Albuquerque\, NM\, 87102\, United States
CATEGORIES:Education,Visual Arts
ATTACH;FMTTYPE=image/jpeg:https://nhccnm.org/wp-content/uploads/2019/06/NHCC-Torreon-Fresco-3-16-dm-4SMALL.jpg
END:VEVENT
BEGIN:VEVENT
DTSTART;VALUE=DATE:20200221
DTEND;VALUE=DATE:20200222
DTSTAMP:20260419T094851
CREATED:20191122T184912Z
LAST-MODIFIED:20191122T184912Z
UID:8468-1582243200-1582329599@nhccnm.org
SUMMARY:Colcha Community Stitch-Along
DESCRIPTION:9:30 am – 12 pm \nJoin our monthly gathering for colcheras of all skill levels led by Annette Gutierrez Turk. If you are beginning or advanced in the traditional New Mexican style of embroidery\, bring your current colcha project along and enjoy these monthly\, informal\, community work sessions to share ideas\, resources and encouragement! \nFor more information\, call Elena at 505-246-2261 or e-mailing elenad.baca@state.nm.us.\nFree event \nFacilitated by Sandia Mountains Chapter-EGA
URL:https://nhccnm.org/event/colcha-community-stitch-along-32/
LOCATION:Domenici Education Building\, 1701 4th Street SW\, Albuquerque\, NM\, 87102
CATEGORIES:Education,Visual Arts,Workshops
ATTACH;FMTTYPE=image/jpeg:https://nhccnm.org/wp-content/uploads/2016/02/Colcha-Embroidery-graphic.2-08-26-2015.jpg
END:VEVENT
BEGIN:VEVENT
DTSTART;VALUE=DATE:20200222
DTEND;VALUE=DATE:20200224
DTSTAMP:20260419T094851
CREATED:20191011T004914Z
LAST-MODIFIED:20191011T004914Z
UID:8139-1582329600-1582502399@nhccnm.org
SUMMARY:Mundos de Mestizaje
DESCRIPTION:12 pm to 5 pm \nA Vision of History through Fresco… \nMundos de Mestizaje by Frederico Vigil is a mural housed in the Torreón on the campus of the National Hispanic Cultural Center. This monumental fresco depicts thousands of years of Hispanic history highlighting diverse cultural connections between people and places from the Iberian Peninsula to the Americas. The 4\,000 square foot painting is one of the largest frescos in North America. \nThe digitized imagery of the painting ensures that this culturally significant work can be a sharing and learning experience for students and families anywhere. We invite you to explore the imagery\, history and complexities of the Mundos de Mestizaje mural. \nDiscover on your own by clicking the link HERE.\n(It may take a moment to load.  Microsoft Internet Explorer is NOT recommended.  Best experienced with Safari\, Firefox or Chrome.)\nFree
URL:https://nhccnm.org/event/mundos-de-mestizaje-105/
LOCATION:NHCC Torreón\, 1701 4th street SW\, Albuquerque\, NM\, 87102\, United States
CATEGORIES:Education,Visual Arts
ATTACH;FMTTYPE=image/jpeg:https://nhccnm.org/wp-content/uploads/2019/06/NHCC-Torreon-Fresco-3-16-dm-4SMALL.jpg
END:VEVENT
BEGIN:VEVENT
DTSTART;VALUE=DATE:20200228
DTEND;VALUE=DATE:20230918
DTSTAMP:20260419T094851
CREATED:20181218T204343Z
LAST-MODIFIED:20230927T205852Z
UID:8640-1582848000-1694995199@nhccnm.org
SUMMARY:Aquí Estamos: New Selections from the Permanent Collection
DESCRIPTION:NHCC Art Museum \nEvery few years\, the NHCC Art Museum refreshes its exhibit of artworks that showcase the breadth of the permanent collection. As always\, the artworks featured in Aquí Estamos are global in scope and reflect the complexity of the Hispanic experience demonstrating that there is no one way to create art that exemplifies what it means to be Hispanic\, Chicana/o\, Latinx\, and/or Latin American. \n \nArtists Include: \nAdriana GonzalesAlice Rahon \nAlora Cinllo \nAlvin Gill-Tapia \nAna Rosa Rivera Marrero \nAntonio Pérez (Ñiko) \nArthur López \nArturo Elizondo \nBarbara Carrasco \nCarlos Quinto Kemm \nCamilla Trujillo \nCarmela Martínez Álvarez \nCarmen Lomas Garza \nCatalina Delgado-Trunk \nCharles “Chaz” Bojórquez \nCharles Frésquez \nChristina “Tina” Fuentes \nChristopher Espinoza \nCisco Jimenez \nDavid Perez Escudero \nDeborah Rael-Buckley \nEddie Domínguez \nEduardo Muñoz Bachs \nEdward Gonzales \nElena Baca \nEmilio Lobato III \nEnrique Montenegro \nEric J. Garcia \nFanny Rabel \nGeorge T. López \nGlugio “Gronk” Nicandro \nGoldie Garcia \nIrene Aguilar Alcántara \nJaime Palacios \nJessamine Toste \nJesse Amado \nJocelyn Lorena Salaz \nJuanito Jimenez \nKarima Muyaes \nLawrence López Ortiz \nLiberty Gonzales \nLuisa Bacilio Elías \nLydia Gallegos \nMagali Lara \nMalaquias Montoya \nMargaret Herrera Chávez \nMarion C. Martinez \nMartha Varóz Ewing \nMónica Sosaya Halford \nNicholas Herrera \nOrlando Leyba \nPamela Enriquez-Courts \nPatrocinio Barela \nPaula Castillo \nPóla López \nRaul Gonzalez \nRay Martín Abeyta \nRené Zamora \nRon Mier \nScherezade Garcia \nSergio Moyano \nSergio Tapia \nValerie Roybal \nVerne Lucero \nVincent Campos \nVictoria Martinez-Rodgers
URL:https://nhccnm.org/event/aqui-estamos-new-selections-from-the-permanent-collection/
LOCATION:Visual Art Museum\, 1701 4th Street SW\, Albuquerque\, NM\, 87102\, United States
CATEGORIES:Exhibitions,Visual Arts
ATTACH;FMTTYPE=image/jpeg:https://nhccnm.org/wp-content/uploads/2019/12/400x600.AE2020.jpg
END:VEVENT
BEGIN:VEVENT
DTSTART;VALUE=DATE:20200229
DTEND;VALUE=DATE:20200301
DTSTAMP:20260419T094851
CREATED:20200125T001340Z
LAST-MODIFIED:20200125T001340Z
UID:8912-1582934400-1583020799@nhccnm.org
SUMMARY:¡Mira! 20th Anniversary Kick Off Party and Open House!
DESCRIPTION:2 – 5pm \nNHCC History and Literary Arts Building\, Roy E. Disney Performing Arts Building\, and Visual Art Museum \nMark your calendars for the first Center-wide event dedicated to celebrating our 20th Anniversary! The event will feature a variety of activities and entertainment\, inviting guests to enjoy an “open-house” experience of the campus and its multidisciplinary offerings. \nFree\, all-ages event. \n \nSchedule: \n2:00 – 5:00 Ongoing drop-in activities in PA\, VA\, HLA\, Torreón (see activity descriptions below); Museum\, Library\, and Tiendita open \n2:00 – 4:00 Carnaval Mask Making \n2:00 – 2:15 Music by Mariachi Xochitl \n2:15 – 2:30 Welcome and opening remarks by NHCC Interim Executive Director\, Alberto Cuessy and DCA Cabinet Secretary\, Debra Garcia y Griego \n2:30 – 3:00 Curandera Blessing \n2:15 – 3:00 Music by Mariachi Xochitl \n3:00 – 3:15 Poetry reading by Levi Romero on Plaza \n3:00 – 3:30 Dance Class \n3:00 – 4:00 Music by Chuy Martínez and Otilio Ruiz \n3:15 – 3:45 Journal Theatre tour \n3:45 – 4:15 Curator tour \n4:00 – 4:30 Dance Class \n4:15 – 4:35 Journal Theatre tour \nFood: \nFree Anniversary Cookies courtesy of Rude Boy Cookies \nLa Fonda del Bosque with munchies for sale on the plaza \nPop Fizz in the Performing Arts building (2-4pm) \nActivities: \nPassport to Prizes \nVisit the passport table outside to pick up your copy. Visit the Torreon\, the Museum\, the History and Literary Arts Museum\, and the Performing Arts Building and get your passport stamped in each building. When complete\, return to the passport table to submit your information for the drawings. Vouchers for Lila Downs tickets (the show is on Monday 3/2) will be given away at 4:30pm on 2/29. \nDrawings for the gift baskets will take place the following week. Gift baskets include a variety of fun items such as books\, museum catalogs\, t-shirts\, performance tickets and more! \n“Mundos de Mestizaje” Match Game (Torreón) \nWhat do you know about the fresco images? Join us for a fun matching card game for children and adults in the beautiful presence of “Mundos de Mestizaje.” \nChild-Friendly 360° Virtual Tour of the Fresco (Library) \nJoin us for an online “tour” of the fresco\, with a lesson-plan activity for kids (and “kids” of all ages). \nCelebrate Latina Suffragists with “El Voto Femenino” (History and Literary Arts Hallways) \nCome explore the new exhibit\, “El Voto Femenino: sufragistas Latinas luchando por el derecho al voto/The Women’s Vote: Latina suffragists fighting for the vote\,” through a range of interactive activities for all ages.  Learn about Hispanic/Latina suffragists worldwide and play some family-friendly games. \nCelebrate Your 20’s (HLA Conference Room) \nLet your creative juices flow as you create your own zine (little book with text and graphics). Topics: your favorite 20 memories/experiences of the NHCC; highlights from your 20’s; or favorite birthday memories. Take home a 20th anniversary memento! \nAsk a Genealogist (HLA West Hallway) \nWant to research your family history? Not sure where to start? Already working on your family history and want to dive deeper? Stop by our Genealogy Booth for starter tips\, research assistance\, and more. Stick around for a while and play “The Game of Genealogy” board game. \nFree Museum Admission (Art Museum) \nThe Art Museum will be free from 2pm-5pm. Featured exhibitions include: Aquí Estamos: New Selections from the Permanent Collection; Southwest of Eden: The Art of Adam and Eve; and El Perú: Art in the Contemporary Past. \nCurator Tour (Meet inside the Museum) \nJoin Chief Curator and Director of the Visual Arts Program\, Dr. Tey Marianna Nunn for a tour of El Perú: Art in the Contemporary Past. Meet just inside the museum at 3:45pm. \nArt Museum Pop-Up Shop (Visual Arts Building) \nShop for piñatas (own a piece of museum history!)\, tea towels\, NHCC mugs\, t-shirts\, Stickers\, jewelry\, cards and mucho más! \nHow to Design a Mural with artist Joe Stephenson (Visual Arts Building) \nHave you ever wondered how artists come up with the images when creating a Mural? Participants will create simple drawings or write ideas based on a variety of themes to create an image bank for a dream mural at the NHCC. Meet artist Joe Stephenson who has a long history at the NHCC as a set and art museum exhibit designer. Stephenson has worked worldwide creating murals and public art. \nMuseum Scavenger Hunt & Bingo (Art Museum) \nEnjoy a self-guided tour in the museum and use one or more of the provided worksheets to enhance your experience. This activity is fun for all ages\, and encourages slow looking! \nPlay with Clay (Visual Arts Building) \nAll three museum exhibits contain ceramic pieces of art. Can you find them? Search the museum for inspiration and afterwards try your hand at creating a small sculpture or pot out of air dry clay that is yours to keep! \nThis Color is Bugging Me! (Visual Arts Building) \nCreate a small painting in this mini version of our Cochineal workshop. Participants will use ground up beetles and a variety of liquids to create paint that will be used on water color paper. Your creation is yours to keep! \nTeeny Piñata (Visual Arts Building) \nCan you make a Piñata that can fit in the palm of your hand? Inspired by one of NHCC’s most popular past exhibits\, “The Piñata Exhibit: Sure to be a Smash Hit!” and the work of the Little Piñata Maker\, participants will make a tiny piñata out of card stock and tissue paper that can be used to wear or hang in your car\, the artist’s original inspiration. \nTour the Albuquerque Journal Theater (Performing Arts Building) \nJoin this tour for an exciting glance at what takes place behing the scenes! Tours take place at 3:15 & 4:15. \nCarnival Mask Making (Wells Fargo Auditorium\, Performing Arts Building) \nCelebrate Carnaval in an interactive workshop with Sarah Dewey and Dahveed Torres. We will be making masks\, heads pieces\, and parade accessories while learning the rich diversity of carnaval celebraitons in Latin America. \nDance Classes (Salon Ortega\, HLA Building & Journal Theater\, Performing Arts Building) \nThere will be two instructors guiding the group in a variety of Latin dances! \n 
URL:https://nhccnm.org/event/mira-20th-anniversary-kick-off-party-and-open-house/
CATEGORIES:Education,History and Literary Arts,Performing Arts,Visual Arts
ATTACH;FMTTYPE=image/jpeg:https://nhccnm.org/wp-content/uploads/2020/01/400x600.2020OpenHouse.jpg
END:VEVENT
BEGIN:VEVENT
DTSTART;VALUE=DATE:20200229
DTEND;VALUE=DATE:20200302
DTSTAMP:20260419T094851
CREATED:20191011T005023Z
LAST-MODIFIED:20191011T005023Z
UID:8141-1582934400-1583107199@nhccnm.org
SUMMARY:Mundos de Mestizaje
DESCRIPTION:12 pm to 5 pm \nA Vision of History through Fresco… \nMundos de Mestizaje by Frederico Vigil is a mural housed in the Torreón on the campus of the National Hispanic Cultural Center. This monumental fresco depicts thousands of years of Hispanic history highlighting diverse cultural connections between people and places from the Iberian Peninsula to the Americas. The 4\,000 square foot painting is one of the largest frescos in North America. \nThe digitized imagery of the painting ensures that this culturally significant work can be a sharing and learning experience for students and families anywhere. We invite you to explore the imagery\, history and complexities of the Mundos de Mestizaje mural. \nDiscover on your own by clicking the link HERE.\n(It may take a moment to load.  Microsoft Internet Explorer is NOT recommended.  Best experienced with Safari\, Firefox or Chrome.)\nFree
URL:https://nhccnm.org/event/mundos-de-mestizaje-106/
LOCATION:NHCC Torreón\, 1701 4th street SW\, Albuquerque\, NM\, 87102\, United States
CATEGORIES:Education,Visual Arts
ATTACH;FMTTYPE=image/jpeg:https://nhccnm.org/wp-content/uploads/2019/06/NHCC-Torreon-Fresco-3-16-dm-4SMALL.jpg
END:VEVENT
END:VCALENDAR