BEGIN:VCALENDAR
VERSION:2.0
PRODID:-// - ECPv6.15.14//NONSGML v1.0//EN
CALSCALE:GREGORIAN
METHOD:PUBLISH
X-ORIGINAL-URL:https://nhccnm.org
X-WR-CALDESC:Events for 
REFRESH-INTERVAL;VALUE=DURATION:PT1H
X-Robots-Tag:noindex
X-PUBLISHED-TTL:PT1H
BEGIN:VTIMEZONE
TZID:America/Denver
BEGIN:DAYLIGHT
TZOFFSETFROM:-0700
TZOFFSETTO:-0600
TZNAME:MDT
DTSTART:20240310T090000
END:DAYLIGHT
BEGIN:STANDARD
TZOFFSETFROM:-0600
TZOFFSETTO:-0700
TZNAME:MST
DTSTART:20241103T080000
END:STANDARD
BEGIN:DAYLIGHT
TZOFFSETFROM:-0700
TZOFFSETTO:-0600
TZNAME:MDT
DTSTART:20250309T090000
END:DAYLIGHT
BEGIN:STANDARD
TZOFFSETFROM:-0600
TZOFFSETTO:-0700
TZNAME:MST
DTSTART:20251102T080000
END:STANDARD
BEGIN:DAYLIGHT
TZOFFSETFROM:-0700
TZOFFSETTO:-0600
TZNAME:MDT
DTSTART:20260308T090000
END:DAYLIGHT
BEGIN:STANDARD
TZOFFSETFROM:-0600
TZOFFSETTO:-0700
TZNAME:MST
DTSTART:20261101T080000
END:STANDARD
BEGIN:DAYLIGHT
TZOFFSETFROM:-0700
TZOFFSETTO:-0600
TZNAME:MDT
DTSTART:20270314T090000
END:DAYLIGHT
BEGIN:STANDARD
TZOFFSETFROM:-0600
TZOFFSETTO:-0700
TZNAME:MST
DTSTART:20271107T080000
END:STANDARD
END:VTIMEZONE
BEGIN:VEVENT
DTSTART;VALUE=DATE:20250905
DTEND;VALUE=DATE:20250906
DTSTAMP:20260420T231809
CREATED:20250724T165643Z
LAST-MODIFIED:20250821T151751Z
UID:23781-1757030400-1757116799@nhccnm.org
SUMMARY:NHCC Art Museum Opening Reception: What We Bring to the Table
DESCRIPTION:5:00 – 7:30 pm \nNHCC Visual Art Museum \nJoin us for a free Public Reception celebrating the grand opening of the new Visual Art exhibition What We Bring to the Table! Meet the artists and explore the exhibition featuring artwork from the Center’s staff. \n \nAbout the Exhibition: To celebrate the National Hispanic Cultural Center’s 25th birthday\, we explore artworks created by the artists who spend their days (and nights) keeping the Center going. \nFeatured Artworks by: Adri De La Cruz\, Visual Arts Set & Exhibition Designer. Anna Lee DeSaulniers\, Film Coordinator. Amy Padilla\, History & Literacy Arts Librarian. Christopher Acevedo\, Visual & Performing Arts Set & Exhibition Designer. Elena Baca\, Education Program Manager. Gabriella Vigil\, Event Coordinator. hazel batrezchavez\, Curator. Jacob Saavedra\, Customer Service Representative. James R. Chávez\, Business Operations Specialist. Joe Stephensen\, Contractor. Josh Barreras\, Campus Safety & Security. Katie Rooke\, Graphic Designer. Kim Arthun\, Contractor. Petra Brown\, History & Literacy Arts Digitization Project Manager. Ralph Trujillo\, Custodial. Rosemary Castro-Gallegos\, Performing Arts Set & Exhibition Designer. Robin Sanchez\, Interim History & Literary Arts Program Manager & Archivist. Samantha\, Campus Safety & Security. \nExhibition on view: September 5\, 2025- June 7\, 2026 
URL:https://nhccnm.org/event/nhcc-art-museum-opening-reception-what-we-bring-to-the-table/
LOCATION:Visual Art Museum\, 1701 4th Street SW\, Albuquerque\, NM\, 87102\, United States
CATEGORIES:Visual Arts
ATTACH;FMTTYPE=image/png:https://nhccnm.org/wp-content/uploads/2025/07/Web-1.png
END:VEVENT
BEGIN:VEVENT
DTSTART;VALUE=DATE:20250905
DTEND;VALUE=DATE:20260608
DTSTAMP:20260420T231809
CREATED:20250805T155202Z
LAST-MODIFIED:20260305T162010Z
UID:23884-1757030400-1780876799@nhccnm.org
SUMMARY:What We Bring to the Table
DESCRIPTION:To celebrate the National Hispanic Cultural Center’s 25th birthday\, we explore artworks created by the artists who spend their days (and nights) keeping the Center going. What We Bring to the Table will be on view in the NHCC Visual Art Museum Community Gallery beginning September 5th. \nFeatured Artworks by: \nAdri De La Cruz\, Visual Arts Set & Exhibition Designer \nAnna Lee DeSaulniers\, Film Coordinator \nAmy Padilla\, History & Literacy Arts Librarian \nChristopher Acevedo\, Visual & Performing Arts Set & Exhibition Designer \nElena Baca\, Education Program Manager \nGabriella Vigil\, Event Coordinator \nhazel batrezchavez\, Curator \nJacob Saavedra\, Customer Service Representative \nJames R. Chávez\, Business Operations Specialist \nJoe Stephensen\, Contractor \nJosh Barreras\, Campus Safety & Security. \nKatie Rooke\, Graphic Designer. \nKim Arthun\, Contractor. \nPetra Brown\, History & Literacy Arts Digitization Project Manager. \nRalph Trujillo\, Custodial. \nRosemary Castro-Gallegos\, Performing Arts Set & Exhibition Designer. \nRobin Sanchez\, Interim History & Literary Arts Program Manager & Archivist. \nSamantha\, Campus Safety & Security.
URL:https://nhccnm.org/event/what-we-bring-to-the-table/
LOCATION:Visual Art Museum\, 1701 4th Street SW\, Albuquerque\, NM\, 87102\, United States
CATEGORIES:Visual Arts
ATTACH;FMTTYPE=image/png:https://nhccnm.org/wp-content/uploads/2025/07/Web-1.png
END:VEVENT
BEGIN:VEVENT
DTSTART;VALUE=DATE:20250907
DTEND;VALUE=DATE:20250908
DTSTAMP:20260420T231809
CREATED:20250419T160209Z
LAST-MODIFIED:20250621T203743Z
UID:23127-1757203200-1757289599@nhccnm.org
SUMMARY:Visual Arts Museum: First Sunday Free Admission
DESCRIPTION:10:00 am to 4:00 pm \nThe Art Museum presents multiple exhibitions in its three gallery spaces each year and welcomes visitors of all ages. Our three galleries showcase artworks from a range of media that focus on diverse subject matter and examine identity and culture. \nOn the first Sunday of every month\, the Visual Arts Museum is free to all New Mexico residents!
URL:https://nhccnm.org/event/visual-arts-museum-first-sunday-free-admission-40/
CATEGORIES:Visual Arts
ATTACH;FMTTYPE=image/jpeg:https://nhccnm.org/wp-content/uploads/2024/08/VA-Museum-Feature-700x700-1.jpg
END:VEVENT
BEGIN:VEVENT
DTSTART;VALUE=DATE:20250913
DTEND;VALUE=DATE:20250914
DTSTAMP:20260420T231809
CREATED:20240621T155214Z
LAST-MODIFIED:20250913T173217Z
UID:23564-1757721600-1757807999@nhccnm.org
SUMMARY:Saturday Special- Torreón Tour: Mundos de Mestizaje
DESCRIPTION:11:00 am \nIn addition to our regularly scheduled Thursday and Friday Torreón Tours\, the National Hispanic Cultural Center now has a newly added Saturday Tour on the second Saturday of every month. This is a guided tour of the Mundos de Mestizaje fresco created by artist Frederico Vigil\, located in the Torreón on the NHCC Campus\, depicting thousands of years of Hispanic culture\, history\, and identity. \nAdmission to the tour is $2 and tickets are available for advance purchase below. Tickets can also be purchased in the New Mexico Mutual Welcome Center\, depending on availability. Capacity for each tour is limited. \nA Vision of History through Fresco…\nMundos de Mestizaje by Frederico Vigil is a mural housed in the Torreón on the campus of the National Hispanic Cultural Center. This monumental fresco depicts thousands of years of Hispanic history highlighting diverse cultural connections between people and places from the Iberian Peninsula to the Americas. The 4\,000 square foot painting is one of the largest frescos in North America. \nThe digitized imagery of the painting ensures that this culturally significant work can be a sharing and learning experience for students and families anywhere. We invite you to explore the imagery\, history and complexities of the Mundos de Mestizaje mural. \nDiscover on your own by clicking the link HERE.\n(It may take a moment to load.  Microsoft Internet Explorer is NOT recommended.  Best experienced with Safari\, Firefox or Chrome.
URL:https://nhccnm.org/event/saturday-special-torreon-tour-mundos-de-mestizaje-5/
LOCATION:NHCC Torreón\, 1701 4th street SW\, Albuquerque\, NM\, 87102\, United States
CATEGORIES:Education,Visual Arts
ATTACH;FMTTYPE=image/jpeg:https://nhccnm.org/wp-content/uploads/2025/04/NHCC-Torreon-Fresco-1200x1200-1.jpg
END:VEVENT
BEGIN:VEVENT
DTSTART;VALUE=DATE:20250925
DTEND;VALUE=DATE:20250926
DTSTAMP:20260420T231809
CREATED:20250709T225137Z
LAST-MODIFIED:20250709T225137Z
UID:23645-1758758400-1758844799@nhccnm.org
SUMMARY:The Early Chicano Movement at New Mexico Highlands University\, ca. 1968–1970: A Historical Overview
DESCRIPTION:6:00 to 7:00 pm \nJoin us at the Visual Art Museum for a Lecture and Q&A with Julianna Loera-Wiggins on the Early Chicano Movement at New Mexico Highlands University. She will be introduced by Ray Hernández-Durán\, Ph.D\, co-curator of the NHCC art exhibition Voces del Pueblo: Artists of the Levantamiento Chicano in New Mexico. \nFree Community Event. Please register using the link below. \nAbout the exhibition: Voces del Pueblo: Artists of the Levantamiento Chicano in New Mexico features a group of New Mexican artists who were among the earliest generation of Chicana and Chicano activists in the state. The artworks on display capture a distinctly New Mexican Chicana and Chicano experience that has received little attention in Chicano art history. Learn more at nhccnm.org/museum.
URL:https://nhccnm.org/event/the-early-chicano-movement-at-new-mexico-highlands-university-ca-1968-1970-a-historical-overview/
LOCATION:Visual Art Museum\, 1701 4th Street SW\, Albuquerque\, NM\, 87102\, United States
CATEGORIES:Speakers,Visual Arts
ATTACH;FMTTYPE=image/png:https://nhccnm.org/wp-content/uploads/2025/02/Voces-Web-Square.png
END:VEVENT
END:VCALENDAR