BEGIN:VCALENDAR
VERSION:2.0
PRODID:-// - ECPv6.15.14//NONSGML v1.0//EN
CALSCALE:GREGORIAN
METHOD:PUBLISH
X-ORIGINAL-URL:https://nhccnm.org
X-WR-CALDESC:Events for 
REFRESH-INTERVAL;VALUE=DURATION:PT1H
X-Robots-Tag:noindex
X-PUBLISHED-TTL:PT1H
BEGIN:VTIMEZONE
TZID:America/Denver
BEGIN:DAYLIGHT
TZOFFSETFROM:-0700
TZOFFSETTO:-0600
TZNAME:MDT
DTSTART:20150308T090000
END:DAYLIGHT
BEGIN:STANDARD
TZOFFSETFROM:-0600
TZOFFSETTO:-0700
TZNAME:MST
DTSTART:20151101T080000
END:STANDARD
BEGIN:DAYLIGHT
TZOFFSETFROM:-0700
TZOFFSETTO:-0600
TZNAME:MDT
DTSTART:20160313T090000
END:DAYLIGHT
BEGIN:STANDARD
TZOFFSETFROM:-0600
TZOFFSETTO:-0700
TZNAME:MST
DTSTART:20161106T080000
END:STANDARD
BEGIN:DAYLIGHT
TZOFFSETFROM:-0700
TZOFFSETTO:-0600
TZNAME:MDT
DTSTART:20170312T090000
END:DAYLIGHT
BEGIN:STANDARD
TZOFFSETFROM:-0600
TZOFFSETTO:-0700
TZNAME:MST
DTSTART:20171105T080000
END:STANDARD
END:VTIMEZONE
BEGIN:VEVENT
DTSTART;VALUE=DATE:20160303
DTEND;VALUE=DATE:20160304
DTSTAMP:20260423T142741
CREATED:20160226T003358Z
LAST-MODIFIED:20160226T003358Z
UID:1773-1456963200-1457049599@nhccnm.org
SUMMARY:Film:  Vuelve a la vida
DESCRIPTION:7 pm \nCarlos Hagerman’s 2010 documentary tells the story of a famous Mexican diver\, the New York supermodel who married him following a spontaneous vacation trip\, and a legendary shark hunt in the Acapulco of the mid-seventies. Tales and memories of “El Perro Largo” unfold mainly through conversations with his widow and stepson\, and explore themes including parenthood\, nationality\, migration\, and collective memory. Presented in partnership with the Mexican Consulate in Albuquerque. \nSpanish with English subtitles; 70 minutes; not rated.\nFree ticketed event; tickets available one hour before show
URL:https://nhccnm.org/event/film-vuelve-a-la-vida/
LOCATION:NHCC-Newsletter-November-2-30
CATEGORIES:Film,Performing Arts
END:VEVENT
BEGIN:VEVENT
DTSTART;VALUE=DATE:20160310
DTEND;VALUE=DATE:20160311
DTSTAMP:20260423T142741
CREATED:20160226T003535Z
LAST-MODIFIED:20160226T003535Z
UID:1775-1457568000-1457654399@nhccnm.org
SUMMARY:Film:  La piedra ausente
DESCRIPTION:7 pm \nThis documentary by Sandra Rozental and Jesse Lerner explores the present-day relevance of relics from the past. It relates the story of the journey of the colossal stone statue (23 feet high and 168 tons) of a pre-Hispanic rain deity\, thought to be Tlaloc\, from the village of San Miguel Coatlinchán\, where it had lain for centuries in a dry riverbed\, to its present location in front of Mexico City’s Museo Nacional de Antropología e Historia. The removal of the statue caused a rebellion in the village and a subsequent intervention by the army. Today\, it stands in its urban setting as one of the principal icons of national identity. Presented in partnership with the Mexican Consulate in Albuquerque. \nSpanish with English subtitles; 82 minutes; not rated.\nFree ticketed event; tickets available one hour before show
URL:https://nhccnm.org/event/film-la-piedra-ausente-2/
LOCATION:NHCC-Newsletter-November-2-30
CATEGORIES:Film,Performing Arts
END:VEVENT
BEGIN:VEVENT
DTSTART;VALUE=DATE:20160317
DTEND;VALUE=DATE:20160318
DTSTAMP:20260423T142741
CREATED:20160226T003718Z
LAST-MODIFIED:20160226T003718Z
UID:1777-1458172800-1458259199@nhccnm.org
SUMMARY:Film:  Chita Rivera:  A Lot of Livin’ To Do
DESCRIPTION:7 pm \nA career retrospective of the Broadway legend  who created iconic roles including Anita in West Side Story\, Rosie in Bye Bye Birdie\, and Velma in Chicago\, featuring interviews\, archival performance footage\, and newly filmed songs from Rivera’s concert repertoire. A two-time Tony Award winner and the recipient of the Presidential Medal of Freedom in 2009\, Chita Rivera was also the first Hispanic woman to receive a Kennedy Center Honors Award. Presented in partnership with New Mexico PBS. \nEnglish; 60 minutes; not rated.\nFree ticketed event; tickets available one hour before show
URL:https://nhccnm.org/event/film-chita-rivera-a-lot-of-livin-to-do/
LOCATION:NHCC-Newsletter-November-2-30
CATEGORIES:Film,Performing Arts
END:VEVENT
BEGIN:VEVENT
DTSTART;VALUE=DATE:20160324
DTEND;VALUE=DATE:20160325
DTSTAMP:20260423T142741
CREATED:20151122T002509Z
LAST-MODIFIED:20151122T002509Z
UID:18618-1458777600-1458863999@nhccnm.org
SUMMARY:Chispa:  Latin Diva Series\, Buika
DESCRIPTION:7:30 pm \nA star in contemporary world music\, jazz\, flamenco\, and fusion\, Buika is one of the most sought-after performers on the world stage today.  Born to African parents in Mallorca\, Spain\, she is often compared to Nina Simone\, Chavela Vargas\, and Cesaria Evora.  Her recordings have received multiple awards\, including several Latin Grammys\, and her 2013 release\, La noche más larga\, was nominated for a Grammy for Best Latin Jazz Album. Her latest album\, Vivir sin mieda (2015)\, fuses elements of reggae\, ragga\, flamenco\, R&B\, Afrobeat\, and gospel. She has collaborated with artists including Pat Metheny\, Anoushka Shankar\, Chick Corea\, Bebo and Chucho Valdés\, Armando Manzanero\, and Nelly Furtado\, and was featured in Pedro Almodóvar’s film La piel que habito. NPR listed her among the best 50 vocalists of all time\, calling her “The voice of freedom.” Presented in partnership with Outpost Productions.\n$25\, $35\, $45 with $5 discount for students\, Outpost Members and NHCC members
URL:https://nhccnm.org/event/chispa-buika/
LOCATION:Roy E. Disney Center for Performing Arts: Albuquerque Journal Theatre\, 1701 4th St SW\, Albuquerque\, NM\, 87102
CATEGORIES:Music,Performing Arts
END:VEVENT
BEGIN:VEVENT
DTSTART;VALUE=DATE:20160324
DTEND;VALUE=DATE:20160325
DTSTAMP:20260423T142741
CREATED:20160226T003856Z
LAST-MODIFIED:20160226T003856Z
UID:1779-1458777600-1458863999@nhccnm.org
SUMMARY:Film:  ¡Ay\, Carmela!
DESCRIPTION:7 pm \nFilmmaker Carlos Saura returns to his bitter childhood memories of the Spanish Civil War in this 1990 film. Carmela\, her husband Paulino\, and their assistant Gustavete are traveling entertainers\, touring the countryside to perform before Republican troops. When they are arrested in Franco-controlled territory\, a theatre-loving Italian Fascist commander attempts to bargain with them to stage a burlesque of the Republic in exchange for their freedom. Presented in partnership with Instituto Cervantes. \nSpanish with English subtitles; 103 minutes; rated PG-13.\nFree ticketed event; tickets available one hour before show
URL:https://nhccnm.org/event/film-ay-carmela/
LOCATION:NHCC-Newsletter-November-2-30
CATEGORIES:Film,Performing Arts
END:VEVENT
BEGIN:VEVENT
DTSTART;VALUE=DATE:20160331
DTEND;VALUE=DATE:20160401
DTSTAMP:20260423T142741
CREATED:20160226T004021Z
LAST-MODIFIED:20160226T004021Z
UID:1781-1459382400-1459468799@nhccnm.org
SUMMARY:Film:  Las Maestras de la República
DESCRIPTION:7 pm \nPilar Pérez Solano’s 2013 documentary pays homage to unsung heroes—the many women\, mainly primary school teachers\, who worked to bring about a more just and equitable society in the brief years of the Second Republic of Spain. Representing a new generation of Spanish women\, they were educated and trained together with the men to be the teachers needed by a new Spain. Their work was interrupted by the Spanish Civil War\, and they were ostracized and persecuted by the Franco regime. Presented in partnership with Instituto Cervantes. \nSpanish with English subtitles; 65 minutes; not rated.\nFree ticketed event; tickets available one hour before show
URL:https://nhccnm.org/event/film-las-maestras-de-la-republica/
LOCATION:NHCC-Newsletter-November-2-30
CATEGORIES:Film,Performing Arts
END:VEVENT
END:VCALENDAR