BEGIN:VCALENDAR
VERSION:2.0
PRODID:-// - ECPv6.15.14//NONSGML v1.0//EN
CALSCALE:GREGORIAN
METHOD:PUBLISH
X-ORIGINAL-URL:https://nhccnm.org
X-WR-CALDESC:Events for 
REFRESH-INTERVAL;VALUE=DURATION:PT1H
X-Robots-Tag:noindex
X-PUBLISHED-TTL:PT1H
BEGIN:VTIMEZONE
TZID:America/Denver
BEGIN:DAYLIGHT
TZOFFSETFROM:-0700
TZOFFSETTO:-0600
TZNAME:MDT
DTSTART:20150308T090000
END:DAYLIGHT
BEGIN:STANDARD
TZOFFSETFROM:-0600
TZOFFSETTO:-0700
TZNAME:MST
DTSTART:20151101T080000
END:STANDARD
BEGIN:DAYLIGHT
TZOFFSETFROM:-0700
TZOFFSETTO:-0600
TZNAME:MDT
DTSTART:20160313T090000
END:DAYLIGHT
BEGIN:STANDARD
TZOFFSETFROM:-0600
TZOFFSETTO:-0700
TZNAME:MST
DTSTART:20161106T080000
END:STANDARD
BEGIN:DAYLIGHT
TZOFFSETFROM:-0700
TZOFFSETTO:-0600
TZNAME:MDT
DTSTART:20170312T090000
END:DAYLIGHT
BEGIN:STANDARD
TZOFFSETFROM:-0600
TZOFFSETTO:-0700
TZNAME:MST
DTSTART:20171105T080000
END:STANDARD
END:VTIMEZONE
BEGIN:VEVENT
DTSTART;VALUE=DATE:20160407
DTEND;VALUE=DATE:20160408
DTSTAMP:20260424T070548
CREATED:20160401T234033Z
LAST-MODIFIED:20160401T234033Z
UID:1953-1459987200-1460073599@nhccnm.org
SUMMARY:Film:  La isla mínima/Marshland
DESCRIPTION:7 pm\nIn 1980\, in a remote village on the Guadalquivir Marshes\, two homicide detectives from Madrid investigate the disappearance of two teenage girls during a village festival and discover that a serial killer is on the loose. “Ciclo Cine Español Contemporáneo\,” presented in partnership with Instituto Cervantes. \n2014; Spanish with English subtitles; 105 minutes; not rated.\nFree ticketed event; tickets available one hour before show
URL:https://nhccnm.org/event/film-la-isla-minimamarshland/
LOCATION:NHCC-Newsletter-November-2-30
CATEGORIES:Film,Performing Arts
END:VEVENT
BEGIN:VEVENT
DTSTART;VALUE=DATE:20160414
DTEND;VALUE=DATE:20160415
DTSTAMP:20260424T070548
CREATED:20160401T234248Z
LAST-MODIFIED:20160401T234248Z
UID:1955-1460592000-1460678399@nhccnm.org
SUMMARY:Film:  Loreak/Flowers
DESCRIPTION:7 pm \nThe lives of three women are altered by the weekly gift of a bouquet of flowers\, sent anonymously to each in memory of a loved one\, and causing forgotten feelings to bloom again. “Ciclo Cine Español Contemporáneo\,” presented in partnership with Instituto Cervantes. \n2014; Euskadi (Basque) with English subtitles; 99 minutes; not rated.\nFree ticketed event; tickets available one hour before show
URL:https://nhccnm.org/event/film-loreakflowers/
LOCATION:NHCC-Newsletter-November-2-30
CATEGORIES:Film,Performing Arts
END:VEVENT
BEGIN:VEVENT
DTSTART;VALUE=DATE:20160421
DTEND;VALUE=DATE:20160422
DTSTAMP:20260424T070548
CREATED:20160401T234429Z
LAST-MODIFIED:20160401T234429Z
UID:1957-1461196800-1461283199@nhccnm.org
SUMMARY:Film:  Las ovejas no pierden el tren/Sidetracked
DESCRIPTION:7 pm \nA couple in their 40s who have moved to the country attempt to navigate new directions in their lives\, and find their daily routines entangled with surreal situations. “Ciclo Cine Español Contemporáneo\,” presented in partnership with Instituto Cervantes. \n2014; Spanish with English subtitles; 103 minutes; recommended for 12 and older.\nFree ticketed event; tickets available one hour before show
URL:https://nhccnm.org/event/film-las-ovejas-no-pierden-el-trensidetracked/
LOCATION:NHCC-Newsletter-November-2-30
CATEGORIES:Film,Performing Arts
ATTACH;FMTTYPE=image/jpeg:https://nhccnm.org/wp-content/uploads/2016/04/Las-ovejas-no-pierden-el-tren-Sidetracked-poster.jpg
END:VEVENT
BEGIN:VEVENT
DTSTART;VALUE=DATE:20160422
DTEND;VALUE=DATE:20160423
DTSTAMP:20260424T070548
CREATED:20160409T225111Z
LAST-MODIFIED:20160409T225111Z
UID:2021-1461283200-1461369599@nhccnm.org
SUMMARY:Film: Cuchillos en el cielo/Knives in the Sky
DESCRIPTION:4:30 pm; a talk by the director will follow the screening \nDeclared innocent and released from prison after ten years\, a woman tries to reconnect with the daughter conceived through a prison rape\, while seeking at the same time to bring the rapists to justice\, in Alberto Durant’s 2012 film Cuchillos en el cielo. The narrative of the woman and her rapist is a microcosm of a larger story—the aftermath of the violent political conflict that took place in Peru from 1980-2000. This special screening at the NHCC is part of the University of New Mexico’s “Conducting Fieldwork under Complicated Circumstances: An Interdisciplinary Conference.”\nFree ticketed event; tickets available one hour before show \n \nAlberto Durant\, who holds a directing diploma from the London International Film School\, has won many prizes for his work throughout Europe and Latin America\, including a Jury Prize for Ojos de perro at Havana’s Festival del Nuevo Cine Latinoamericano and Best Film\, Best Cinematography\, and Best Actor awards for Alias “La Gringa” at the Festival de Cine de Bogotá. Durant has taught film in Peru and Cuba\, has served on the juries of many international film festivals\, and is currently President of the Peruvian Filmmakers Association. \nThe primary sponsors of the conference are the University of New Mexico’s Robert Wood Johnson Foundation Center for Health Policy and Latin American & Iberian Institute\, with additional sponsorship from UNM’s College of Arts & Sciences\, Department of Political Science\, University College\, School of Law\, Southwest Hispanic Research Institute\, Department of Linguistics\, Department of Sociology\, Department of History\, Africana Studies\, Peace and Justice Studies\, School of Public Administration\, Women Studies\, and Feminist Research Institute\, as well as the NHCC. \nSpanish with English subtitles; 87 minutes; not rated. \nFor additional information\, visit www.unmfieldwork.weebly.com.
URL:https://nhccnm.org/event/film-cuchillos-en-el-cieloknives-sky/
LOCATION:NHCC-Newsletter-November-2-30
CATEGORIES:Film,Performing Arts
END:VEVENT
BEGIN:VEVENT
DTSTART;VALUE=DATE:20160424
DTEND;VALUE=DATE:20160425
DTSTAMP:20260424T070548
CREATED:20160407T195723Z
LAST-MODIFIED:20160407T195723Z
UID:2000-1461456000-1461542399@nhccnm.org
SUMMARY:Albuquerque Film & Music Experience: Spare Parts
DESCRIPTION:1 pm – 3 pm \nAlbuquerque Film & Music Experience: Spare Parts Directed by Sean McNamara. Four Hispanic high school students form a robotics club. With no experience\, 800 bucks\, used car parts and a dream\, this ragtag team goes up against the country’s reigning robotics champion\, MIT. This Albuquerque Film & Music Experience feature presentation stars George Lopez\, Marisa Tomei\, Jamie Lee Curtis\, Carlos PenaVega\, José Julian\, David Del Rio\, Oscar Javier Gutierrez II\, Alessandra Rosaldo\, J.R. Villarreal\, Alexa PenaVega\, Steven Michael Quezada\, Esai Morales and a long list of incredible New Mexico cast and crew members. The screening will be preceded by a robotics demonstration by the Albuquerque School of Excellence on the NHCC’s Plaza Mayor. \nThe Albuquerque Film & Music Experience (AFME) is Albuquerque’s premier film and music festival. Now in its fourth year\, AFME features domestic and international movies\, engaging industry panels and workshops\, exciting networking events and parties\, live music\, poetry\, art exhibitions\, and more. \nFor more information on the Albuquerque Film & Music Experience\, visit www.abqfilmexperience.com\n$8
URL:https://nhccnm.org/event/albuquerque-film-music-experience-spare-parts/
LOCATION:Roy E. Disney Center for Performing Arts: Albuquerque Journal Theatre\, 1701 4th St SW\, Albuquerque\, NM\, 87102
CATEGORIES:Education
END:VEVENT
BEGIN:VEVENT
DTSTART;VALUE=DATE:20160428
DTEND;VALUE=DATE:20160429
DTSTAMP:20260424T070548
CREATED:20160401T234603Z
LAST-MODIFIED:20160401T234603Z
UID:1959-1461801600-1461887999@nhccnm.org
SUMMARY:Film:  Todos están muertos/They Are All Dead
DESCRIPTION:7 pm \nSince the death of her brother\, Lupe has lived an agoraphobic life with her hostile teenage son and her superstitious mother.  It takes a drastic Day of the Dead ritual to teach her the importance of saying goodbye. “Ciclo Cine Español Contemporáneo\,” presented in partnership with Instituto Cervantes. \n2014; Spanish with English subtitles; 88 minutes; not rated.\nFree ticketed event; tickets available one hour before show
URL:https://nhccnm.org/event/film-todos-estan-muertosthey-dead/
LOCATION:NHCC-Newsletter-November-2-30
CATEGORIES:Film,Performing Arts
END:VEVENT
END:VCALENDAR