BEGIN:VCALENDAR
VERSION:2.0
PRODID:-// - ECPv6.15.14//NONSGML v1.0//EN
CALSCALE:GREGORIAN
METHOD:PUBLISH
X-ORIGINAL-URL:https://nhccnm.org
X-WR-CALDESC:Events for 
REFRESH-INTERVAL;VALUE=DURATION:PT1H
X-Robots-Tag:noindex
X-PUBLISHED-TTL:PT1H
BEGIN:VTIMEZONE
TZID:America/Denver
BEGIN:DAYLIGHT
TZOFFSETFROM:-0700
TZOFFSETTO:-0600
TZNAME:MDT
DTSTART:20150308T090000
END:DAYLIGHT
BEGIN:STANDARD
TZOFFSETFROM:-0600
TZOFFSETTO:-0700
TZNAME:MST
DTSTART:20151101T080000
END:STANDARD
BEGIN:DAYLIGHT
TZOFFSETFROM:-0700
TZOFFSETTO:-0600
TZNAME:MDT
DTSTART:20160313T090000
END:DAYLIGHT
BEGIN:STANDARD
TZOFFSETFROM:-0600
TZOFFSETTO:-0700
TZNAME:MST
DTSTART:20161106T080000
END:STANDARD
BEGIN:DAYLIGHT
TZOFFSETFROM:-0700
TZOFFSETTO:-0600
TZNAME:MDT
DTSTART:20170312T090000
END:DAYLIGHT
BEGIN:STANDARD
TZOFFSETFROM:-0600
TZOFFSETTO:-0700
TZNAME:MST
DTSTART:20171105T080000
END:STANDARD
END:VTIMEZONE
BEGIN:VEVENT
DTSTART;VALUE=DATE:20160804
DTEND;VALUE=DATE:20160805
DTSTAMP:20260421T082112
CREATED:20160724T222639Z
LAST-MODIFIED:20160724T222639Z
UID:2356-1470268800-1470355199@nhccnm.org
SUMMARY:Film:  Doña Bárbara
DESCRIPTION:7 pm \nA powerful and ruthless landowner on the Venezuelan plains\, hardened by a brutal gang rape and the murder of her first love\, finds herself attracted to a man whom she still seeks to ruin. Directed by Fernando de Fuentes & Miguel M. Delgado; based on the novel by Venezuelan author Rómulo Gallegos\, who also co-wrote the screenplay. Presented in partnership with Mexican Consulate in Albuquerque and Instituto Cervantes as part of the series “Literatura en el Cine Mexicano.” \n1943; Spanish with English subtitles; 125 minutes; not rated.\nFree ticketed event; tickets available one hour before show
URL:https://nhccnm.org/event/film-dona-barbara/
LOCATION:NHCC-Newsletter-November-2-30
CATEGORIES:Film,Performing Arts
END:VEVENT
BEGIN:VEVENT
DTSTART;VALUE=DATE:20160811
DTEND;VALUE=DATE:20160812
DTSTAMP:20260421T082112
CREATED:20160724T223515Z
LAST-MODIFIED:20160724T223515Z
UID:2359-1470873600-1470959999@nhccnm.org
SUMMARY:Film:  La Rosa Blanca
DESCRIPTION:7 pm \nIn this dramatization of the struggle for control over Mexico’s oil resources in the 1920s\, the lives of an Indian landowner and those around him are destroyed by the ruthless owner of a U.S. oil company.  Directed by Roberto Gavaldón; based on the novel by B. Traven. Presented in partnership with Mexican Consulate in Albuquerque and Instituto Cervantes as part of the series “Literatura en el Cine Mexicano.” \n1961; Spanish with English subtitles; 105 minutes; not rated.\nFree ticketed event; tickets available one hour before show
URL:https://nhccnm.org/event/film-la-rosa-blanca/
LOCATION:NHCC-Newsletter-November-2-30
CATEGORIES:Film,Performing Arts
END:VEVENT
BEGIN:VEVENT
DTSTART;VALUE=DATE:20160818
DTEND;VALUE=DATE:20160819
DTSTAMP:20260421T082112
CREATED:20160724T224246Z
LAST-MODIFIED:20160724T224246Z
UID:2362-1471478400-1471564799@nhccnm.org
SUMMARY:Film:  Pedro Páramo
DESCRIPTION:7 pm \nThis allegorical story\, based on a son’s search for his father in the chaotic times of the Mexican Revolution and his travel to a literal ghost town\, has been called “the biggest Mexican film ever made.” Directed by Carlos Velo; based on the novel by Juan Rulfo\, similarly acclaimed by the novelist Jorge Luis Borges as “one of the greatest texts written in any language.” Presented in partnership with Mexican Consulate in Albuquerque and Instituto Cervantes as part of the series “Literatura en el Cine Mexicano.” \n1967; Spanish with English subtitles; 110 minutes; not rated.\nFree ticketed event; tickets available one hour before show
URL:https://nhccnm.org/event/film-pedro-paramo/
LOCATION:NHCC-Newsletter-November-2-30
CATEGORIES:Film,Performing Arts
END:VEVENT
BEGIN:VEVENT
DTSTART;VALUE=DATE:20160825
DTEND;VALUE=DATE:20160826
DTSTAMP:20260421T082112
CREATED:20160724T225153Z
LAST-MODIFIED:20160724T225153Z
UID:2366-1472083200-1472169599@nhccnm.org
SUMMARY:Film:  Los albañiles/The Bricklayers
DESCRIPTION:7 pm \nWhen a watchman is found murdered on a construction side\, the investigation swiftly expands to the political circumstances surrounding the building itself. Directed by Jorge Fons; based on the novel by Vicente Leñero. Presented in partnership with Mexican Consulate in Albuquerque and Instituto Cervantes as part of the series “Literatura en el Cine Mexicano.” \n1976; Spanish with English subtitles; 122 minutes; not rated. \nFree ticketed event; tickets available one hour before show
URL:https://nhccnm.org/event/film-los-albanilesthe-bricklayers/
LOCATION:NHCC-Newsletter-November-2-30
CATEGORIES:Film,Performing Arts
END:VEVENT
BEGIN:VEVENT
DTSTART;VALUE=DATE:20160827
DTEND;VALUE=DATE:20160828
DTSTAMP:20260421T082112
CREATED:20160724T220647Z
LAST-MODIFIED:20160724T220647Z
UID:2352-1472256000-1472342399@nhccnm.org
SUMMARY:ABQ Latin Dance Festival 2016:  Orquesta Canela with Special Guest Micky Cruz
DESCRIPTION:6:30 pm to 12 pm \nGrab your dancing shoes and turn up the heat at the annual Albuquerque Latin Dance Festival! The four-day rhythm and movement celebration offers performances by world-class dancers as well as non-competitive dance showcases\, parties\, and workshops. Additional attractions include dance films\, lectures\, and live musical performances. The festival’s main concert on Saturday night features Orquesta Canela\, a 14-piece all-women salsa band from Colombia\, and Grammy-nominated artist Micky Cruz\, for a magical night of music and dance on the NHCC’s Plaza Mayor. Founded in 1992\, La Orquesta Canela has attained national and international recognition with the release of nine albums and tours in the U.S. and Canada\, as well as Latin America. Award-winning singer/songwriter Micky Cruz\, born in Nicaragua\, is now based in Albuquerque and has performed throughout the U.S. for many years. Presented in partnership with Guanábana Productions.\n$35 in advance; $40 at the gate.
URL:https://nhccnm.org/event/abq-latin-dance-festival-2016-orquesta-canela-special-guest-micky-cruz/
LOCATION:NM
CATEGORIES:Dance,Music,Performing Arts
END:VEVENT
END:VCALENDAR