BEGIN:VCALENDAR
VERSION:2.0
PRODID:-// - ECPv6.15.14//NONSGML v1.0//EN
CALSCALE:GREGORIAN
METHOD:PUBLISH
X-ORIGINAL-URL:https://nhccnm.org
X-WR-CALDESC:Events for 
REFRESH-INTERVAL;VALUE=DURATION:PT1H
X-Robots-Tag:noindex
X-PUBLISHED-TTL:PT1H
BEGIN:VTIMEZONE
TZID:America/Denver
BEGIN:DAYLIGHT
TZOFFSETFROM:-0700
TZOFFSETTO:-0600
TZNAME:MDT
DTSTART:20150308T090000
END:DAYLIGHT
BEGIN:STANDARD
TZOFFSETFROM:-0600
TZOFFSETTO:-0700
TZNAME:MST
DTSTART:20151101T080000
END:STANDARD
BEGIN:DAYLIGHT
TZOFFSETFROM:-0700
TZOFFSETTO:-0600
TZNAME:MDT
DTSTART:20160313T090000
END:DAYLIGHT
BEGIN:STANDARD
TZOFFSETFROM:-0600
TZOFFSETTO:-0700
TZNAME:MST
DTSTART:20161106T080000
END:STANDARD
BEGIN:DAYLIGHT
TZOFFSETFROM:-0700
TZOFFSETTO:-0600
TZNAME:MDT
DTSTART:20170312T090000
END:DAYLIGHT
BEGIN:STANDARD
TZOFFSETFROM:-0600
TZOFFSETTO:-0700
TZNAME:MST
DTSTART:20171105T080000
END:STANDARD
END:VTIMEZONE
BEGIN:VEVENT
DTSTART;VALUE=DATE:20160901
DTEND;VALUE=DATE:20160902
DTSTAMP:20260421T154216
CREATED:20160820T221325Z
LAST-MODIFIED:20160820T221325Z
UID:2491-1472688000-1472774399@nhccnm.org
SUMMARY:Film:  Embrace of the Serpent/El abrazo de la serpiente (Spain/Colombia)
DESCRIPTION:7 pm \n¡Globalquerque!\, Avokado Artists\, and the NHCC present the International Cinema Series in September; films in this series are presented in partnership with ¡Globalquerque!\, New Mexico’s Twelfth Annual Celebration of World Music and Culture\, returning to the NHCC on September 23 & 24. \nThe ravages of colonialism cast a dark shadow over the landscape in Ciro Guerra’s  Embrace of the Serpent\, centering on an Amazonian shaman\, the last survivor of his people\, and the two scientists who forge a friendship with him over 40 years. It was inspired by the journals of two explorers who traveled through the Colombian Amazon during the last century in search of a sacred and difficult-to-find psychedelic plant. \n2015; Spanish\, Huitoto\, Latin\, Okaina\, Portuguese\, Tikuna\, Wanano\, German\, English\, with English subtitles; 125 minutes; not rated.\nFree ticketed event; tickets available one hour before show
URL:https://nhccnm.org/event/film-embrace-serpentel-abrazo-de-la-serpiente-spaincolombia/
LOCATION:NHCC-Newsletter-November-2-30
CATEGORIES:Film,Performing Arts
END:VEVENT
BEGIN:VEVENT
DTSTART;VALUE=DATE:20160908
DTEND;VALUE=DATE:20160909
DTSTAMP:20260421T154216
CREATED:20160820T221957Z
LAST-MODIFIED:20160820T221957Z
UID:2494-1473292800-1473379199@nhccnm.org
SUMMARY:Film:  Owl and the Sparrow/Cú Và Chim Se Se (Vietnam)
DESCRIPTION:7 pm \n¡Globalquerque!\, Avokado Artists\, and the NHCC present the International Cinema Series in September; films in this series are presented in partnership with ¡Globalquerque!\, New Mexico’s Twelfth Annual Celebration of World Music and Culture\, returning to the NHCC on September 23 & 24. \nA young orphan girl who refuses to surrender her optimism despite difficult circumstances brings two unlikely strangers together in Stephane Gauger’s comedy drama. Supporting herself by selling flowers on the streets of Saigon\, she meets a lonely zookeeper and a beautiful flight attendant\, and decides that they would make a good couple\, but soon discovers that matchmaking is a more challenging task than she realized. \n2007; Vietnamese with English subtitles; 97 minutes; rated PG.\nFree ticketed event; tickets available one hour before show
URL:https://nhccnm.org/event/film-owl-sparrowcu-va-chim-se-se-vietnam/
LOCATION:NHCC-Newsletter-November-2-30
CATEGORIES:Film,Performing Arts
END:VEVENT
BEGIN:VEVENT
DTSTART;VALUE=DATE:20160914
DTEND;VALUE=DATE:20160915
DTSTAMP:20260421T154216
CREATED:20160820T222618Z
LAST-MODIFIED:20160820T222618Z
UID:2497-1473811200-1473897599@nhccnm.org
SUMMARY:Film:  The Farewell Party/Mita Tova (Israel\, 2014)
DESCRIPTION:7 pm \n¡Globalquerque!\, Avokado Artists\, and the NHCC present the International Cinema Series in September; films in this series are presented in partnership with ¡Globalquerque!\, New Mexico’s Twelfth Annual Celebration of World Music and Culture\, returning to the NHCC on September 23 & 24. \nAn irreverent\, bittersweet tragicomedy by Tal Granit and Sharon Maymon about residents in a Jerusalem retirement home\, including a longtime amateur inventor who is prevailed upon to build a self-euthanasia machine to help a terminally ill friend. When rumors of the machine begin to spread\, the friends receive more and more requests for help\, and their feelings become increasingly complicated. \n2014; Hebrew with English subtitles; 95 minutes; not rated.\nFree ticketed event; tickets available one hour before show
URL:https://nhccnm.org/event/film-farewell-partymita-tova-israel-2014/
LOCATION:NHCC-Newsletter-November-2-30
CATEGORIES:Film,Performing Arts
END:VEVENT
BEGIN:VEVENT
DTSTART;VALUE=DATE:20160915
DTEND;VALUE=DATE:20160916
DTSTAMP:20260421T154216
CREATED:20160812T215408Z
LAST-MODIFIED:20160812T215408Z
UID:2452-1473897600-1473983999@nhccnm.org
SUMMARY:¡Cine Magnífico! Albuquerque Latino Film Festival: VIP Reception
DESCRIPTION:6 pm to 7 pm \n¡Cine Magnífico! celebrates Spanish and Latin American culture through presentation of some of the best of modern cinema in a weekend-long program\, featuring work by first-time filmmakers and established masters alike. The subject matter runs the gamut from comedies\, action\, romances and documentary films\, to dramatic masterpieces. Some of the riskiest and most innovative films of recent years will be included. \n¡Cine Magnífico! is organized by Instituto Cervantes\, the National Hispanic Cultural Center and UNM Latin American & Iberian Institute so as to be at the forefront of the movement to increase cultural opportunities for the entire New Mexico community and to bring Latinos and non-Latinos together to share common experiences through film. \nPlease join us for a special opening night VIP reception before the first film\, La novia\, with Spanish tapas\, wine & beer. VIP reception tickets are limited\, so please RSVP by September 12th by calling the NHCC box office at 505-724-4771.\n$15 for VIP Reception only\, $20 VIP Reception & Film: La novia \n¡Cine Magnífico! website HERE. \nCheck out the ¡Cine Magnífico! video HERE.
URL:https://nhccnm.org/event/cine-magnifico-albuquerque-latino-film-festival-vip-reception/
LOCATION:Bank of America Atrium
CATEGORIES:Film,Instituto Cervantes,Performing Arts
ATTACH;FMTTYPE=image/jpeg:https://nhccnm.org/wp-content/uploads/2016/08/CMmainLogo-01.jpg
END:VEVENT
BEGIN:VEVENT
DTSTART;VALUE=DATE:20160915
DTEND;VALUE=DATE:20160916
DTSTAMP:20260421T154216
CREATED:20160812T220205Z
LAST-MODIFIED:20160812T220205Z
UID:2454-1473897600-1473983999@nhccnm.org
SUMMARY:¡Cine Magnífico! Albuquerque Latino Film Festival: La Novia/The Bride
DESCRIPTION:7:15 pm \nDirector & writer: Paula Ortiz & Javier García Arredondo\nActors: Inma Cuesta\, Asier Etxeandia & Álex García\, \nBlood Wedding\, written in 1932 by Federico Garcia Lorca and first performed in Madrid in March 1933\, has become ever since a universally recognized masterpiece in modern literature. La Novia presents a love triangle between The Bride\, The Groom and Leonardo\, which will result in a tragic love story.\n$19 w/ $2 discount for students\, seniors and NHCC Members. \n \nThe Bride is not a subtle film\, nor should it be. It wears its themes and symbols on its sleeve. This is high drama after all\, but Ortiz never lets is become melodramatic nor does she shy away from letting the poetry (and blood) flow. This is an incredibly well-crafted and detailed film\, with strong performances and a gorgeous setting that lets the poetry speak to the audience without reservation. Text by Shelagh Rowan-Legg \nTomando como base la obra de Federico García Lorca\, Bodas de Sangre\, La novia relata la historia de un triángulo amoroso entre La Novia\, El Novio y Leonardo. El consejo de una mendiga el día antes de la boda convertirá la historia de amor en un hecho trágico. \n93 min – DRAMA 2015 (Spain)\nSpanish with English subtitles \nLa Novia Trailer HERE. \nAwards:\nGoya Awards 2016: Best Photogaphy\, Best Supporting Actress: Luisa Gavasa.\nFeroz Awards 2016: Best Drama Film\, Best Direction\, Best Protagonist Actress: Inma Cuesta\, Best Supporting Actress: Luisa Gavasa\, Best Soundtrack\, Best Trailer. \nCheck out the ¡Cine Magnífico! video HERE.
URL:https://nhccnm.org/event/cine-magnifico-albuquerque-latino-film-festival-la-noviathe-bride/
LOCATION:NHCC-Newsletter-November-2-30
CATEGORIES:Film,Instituto Cervantes,Performing Arts
ATTACH;FMTTYPE=image/jpeg:https://nhccnm.org/wp-content/uploads/2016/08/CMmainLogo-01.jpg
END:VEVENT
BEGIN:VEVENT
DTSTART;VALUE=DATE:20160917
DTEND;VALUE=DATE:20160918
DTSTAMP:20260421T154216
CREATED:20160812T220931Z
LAST-MODIFIED:20160812T220931Z
UID:2456-1474070400-1474156799@nhccnm.org
SUMMARY:¡Cine Magnífico! Albuquerque Latino Film Festival: Landfill Harmonic
DESCRIPTION:11:30 am \nDirector: Brad Allgood\, Graham Townsley \nLandfill harmonic follows the Recycled Orchestra of Cateura\, a paraguayan musical youth group of kids that live next to one of South America’s largest landfills. This unlikely orchestra plays music from instruments made entirely out of garbage. When their story goes viral\, the orchestra is catapulted into the global spotlight. With the guidance of their music director\, they must navigate this new world of arenas and sold out concerts. However\, when a natural disaster devastates their community\, the orchestra provides a source of hope for the town. The film is a testament to the transformative power of music and the resilience of the human spirit.\nA Free ticketed event: tickets available one hour prior to the event. \n \nLos instrumentos de la “Recycled Orchestra”\, formada por niños de un barrio de chabolas de Paraguay\, están hechos de basura reciclada. El documental recoge el espectáculo mundial de esta formación. Una historia sobre el poder de la música\, la pobreza y la contaminación mundial. \nLandfill Harmonic Tráiler HERE. \nAwards:\nSXSW Film Festival: Audience Award: 24 Beats per Second (musical genre)\nTesalonica Documentary Film Festival: Peter Wintonick Audience Award: Best Film. \n84 min – DOCUMENTARY 2015 (United States/Paraguay).\nSpanish with English subtitles. \nCheck out the ¡Cine Magnífico! video HERE.
URL:https://nhccnm.org/event/cine-magnifico-albuquerque-latino-film-festival-landfill-harmonic/
LOCATION:NHCC-Newsletter-November-2-30
CATEGORIES:Film,Instituto Cervantes,Performing Arts
ATTACH;FMTTYPE=image/jpeg:https://nhccnm.org/wp-content/uploads/2016/08/CMmainLogo-01.jpg
END:VEVENT
BEGIN:VEVENT
DTSTART;VALUE=DATE:20160917
DTEND;VALUE=DATE:20160918
DTSTAMP:20260421T154216
CREATED:20160812T221847Z
LAST-MODIFIED:20160812T221847Z
UID:2458-1474070400-1474156799@nhccnm.org
SUMMARY:¡Cine Magnífico! Albuquerque Latino Film Festival: Historias del Canal
DESCRIPTION:2 pm \nDirectors: Abner Benaim\, Carolina Borrero\, Luis Franco Brantley\, Pinky Mon\, Pituka Ortega-Heilbron.\nActors: Lakisha May\, Andre Morris\, Kathleen Wise\, Iván González\, Carlos Eduardo Goldstein. \nThis historical drama chronicles five incredible stories of people who helped build the famous canal and Panama itself. Spanning a century\, from 1913 to 2013\, the film weaves together the tales of five remarkable characters: Clarice\, a young Jamaican labourer forced to choose between love and survival at the hands her American and British bosses during the Canal’s construction; Jake\, the son of an engineer who grows up in the ‘American zone’ in 1950s Panama but who really wants to be with his Panamanian friends; José\, a student caught up in the 1960s political unrest and his love for a pretty American girl\, Lucy; Silverio\, a chauffeur for visiting U.S. politicians who is hired to spy on them by local political activists in 1977; and Clarice Jones\, a jazz singer in New York City who discovers that her great-grandmother worked on the canal and decides to go to Panama to discover her to roots.  Text by Canadian Film Institute\n$10 w/ $2 discount for students\, seniors and NHCC Members \n \nHistorias del Canal plasma\, a través de la visión de 5 directores\, relatos que se extienden a través de un siglo. Hombres\, mujeres y niños que se ven influenciados por la existencia de Canal\, el acontecimiento que cambió la historia no sólo de un país sino del mundo. \nHistorias del Canal Trailer HERE and HERE. \n106 min – DRAMA 2014 (Panamá)\nSpanish with English subtitles \nAwards:\nSXSW Film Festival: Audience Award: 24 Beats per Second (musical genre)\nTesalonica Documentary Film Festival: Peter Wintonick Audience Award: Best Film. \n¡Cine Magnífico! website HERE.
URL:https://nhccnm.org/event/cine-magnifico-albuquerque-latino-film-festival-historias-del-canal/
LOCATION:NHCC-Newsletter-November-2-30
CATEGORIES:Film,Instituto Cervantes,Performing Arts
ATTACH;FMTTYPE=image/jpeg:https://nhccnm.org/wp-content/uploads/2016/08/CMmainLogo-01.jpg
END:VEVENT
BEGIN:VEVENT
DTSTART;VALUE=DATE:20160918
DTEND;VALUE=DATE:20160919
DTSTAMP:20260421T154216
CREATED:20160812T222918Z
LAST-MODIFIED:20160812T222918Z
UID:2460-1474156800-1474243199@nhccnm.org
SUMMARY:¡Cine Magnífico! Albuquerque Latino Film Festival: Club Frontera
DESCRIPTION:2 pm \nDirector: Chris Cashman (in attendance) \nClub Frontera is a riveting documentary about the Club Tijuana Xoloitzcuintles (Xolos) professional Mexican soccer team and their positive impact on the city of Tijuana\, Mexico. The compelling film follows players\, fans\, political figures\, sports personalities\, and enthusiasts from both sides of the border as they share their personal stories of how the newly emerging success of the Xolos is changing Tijuana for the better.\nFree ticketed event; Tickets available one hour prior to the event. \n \nLa ciudad de Tijuana\, México\, podría ser definida como un lugar plagado de violencia y crimen. Sin embargo\, el equipo de fútbol del lugar\, los Xolos\, ha logrado convertirse en un ejemplo de lucha y esperanza\, reunificando y rejuveneciendo el área gracias al campeonato de la primera liga de Mexico en el 2012. \nJoin us for a Q&A with Club Frontera’s director Chris Cashman and producer Darren Leis after the film. \n100 min – DOCUMENTARY 2016 (Mexico/USA)\nSpanish with English subtitles \n¡Cine Magnífico! website HERE.
URL:https://nhccnm.org/event/cine-magnifico-albuquerque-latino-film-festival-club-frontera/
LOCATION:NHCC-Newsletter-November-2-30
CATEGORIES:Film,Instituto Cervantes,Performing Arts
ATTACH;FMTTYPE=image/jpeg:https://nhccnm.org/wp-content/uploads/2016/08/CMmainLogo-01.jpg
END:VEVENT
BEGIN:VEVENT
DTSTART;VALUE=DATE:20160924
DTEND;VALUE=DATE:20160925
DTSTAMP:20260421T154216
CREATED:20160820T223850Z
LAST-MODIFIED:20160820T223850Z
UID:2503-1474675200-1474761599@nhccnm.org
SUMMARY:Film:  Benda Bilili (The Democratic Republic of Congo/France)
DESCRIPTION:12 pm \n¡Globalquerque!\, Avokado Artists\, and the NHCC present the International Cinema Series in September; films in this series are presented in partnership with ¡Globalquerque!\, New Mexico’s Twelfth Annual Celebration of World Music and Culture\, returning to the NHCC on September 23 & 24. The schedule includes the two films that will be shown during the free Global Fiesta on September 24\, including Benda Bilili. \nStaff Benda Bilili (in English\, “look beyond”) is a group of street musicians in Kinshasa\, capital of the war-torn Democratic Republic of Congo. Four paraplegic singer/guitarists\, who use customized tricycles to get around\, are joined by a young\, entirely acoustic three-person rhythm section. Directors Renaud Barret and Florent de La Tullaye encountered them playing around the Kinshasa Zoo\, and began documenting their struggles to survive\, through music\, in the volatile city. \n2010; Lingala & French with English subtitles; 85 minutes; rated PG-13.\nFree ticketed event; tickets available one hour before show
URL:https://nhccnm.org/event/film-benda-bilili-democratic-republic-congofrance/
LOCATION:NHCC-BOD-January-2020-Meeting
CATEGORIES:Film,Performing Arts
END:VEVENT
BEGIN:VEVENT
DTSTART;VALUE=DATE:20160924
DTEND;VALUE=DATE:20160925
DTSTAMP:20260421T154216
CREATED:20160820T224347Z
LAST-MODIFIED:20160820T224347Z
UID:2506-1474675200-1474761599@nhccnm.org
SUMMARY:Film:  Favela Rising (Brazil)
DESCRIPTION:2 pm \n¡Globalquerque!\, Avokado Artists\, and the NHCC present the International Cinema Series in September; films in this series are presented in partnership with ¡Globalquerque!\, New Mexico’s Twelfth Annual Celebration of World Music and Culture\, returning to the NHCC on September 23 & 24. The schedule includes the two films that will be shown during the free Global Fiesta on September 24\, including Favela Rising. \nHaunted by the murders of his family and many of his friends\, a former drug trafficker turns social revolutionary in Rio de Janeiro’s most feared slum. Through the grassroots musical movement known as AfroReggae\, he rallies his community to counteract the violent oppression enforced by teenage drug armies and sustained by corrupt police\, until a tragic accident threatens to silence the movement forever. Directed by Jeff Zimbalist and Matt Mochary. \n2005; Portuguese with English subtitles; 80 minutes; not rated.\nFree ticketed event; tickets available one hour before show
URL:https://nhccnm.org/event/film-favela-rising-brazil/
LOCATION:NHCC-BOD-January-2020-Meeting
CATEGORIES:Film,Performing Arts
END:VEVENT
BEGIN:VEVENT
DTSTART;VALUE=DATE:20160924
DTEND;VALUE=DATE:20160925
DTSTAMP:20260421T154216
CREATED:20160924T150458Z
LAST-MODIFIED:20160924T150458Z
UID:2640-1474675200-1474761599@nhccnm.org
SUMMARY:Globalquerque 2016 Free Global Fiesta
DESCRIPTION:10:30am – 4pm \nA free fun-filled day for all ages packed with educational workshops\, hands-on art activities\, films\, and performances.  Join us for a variety of international dance classes\, a chance to play with circus equipment and musical instruments from around the world\, food and crafts for sale in the Global Village\, free entrance to the museum\, and more!  For the full schedule\, visit here.
URL:https://nhccnm.org/event/globalquerque-2016-free-global-fiesta/
LOCATION:Plaza Mayor
CATEGORIES:Dance,Dance Classes,Education,Food,Music,Performing Arts,School and Youth Programs,Seasonal Events,Workshops
END:VEVENT
BEGIN:VEVENT
DTSTART;VALUE=DATE:20160929
DTEND;VALUE=DATE:20160930
DTSTAMP:20260421T154216
CREATED:20160921T203804Z
LAST-MODIFIED:20160921T203804Z
UID:2634-1475107200-1475193599@nhccnm.org
SUMMARY:Film:  The Dark Horse (New Zealand)
DESCRIPTION:7 pm \n¡Globalquerque!\, Avokado Artists\, and the NHCC present the International Cinema Series in September; films in this series are presented in partnership with ¡Globalquerque!\, New Mexico’s Twelfth Annual Celebration of World Music and Culture\, held at the NHCC on September 23 & 24. \nThe Dark Horse is based on the true story of Maori speed-chess master Genesis Potini\, who was diagnosed as bipolar and spent his life in and out of hospitals\, with short jail stints for vagrancy. Taught chess as a child by his older brother\, he was a phenom-prodigy\, winning competitions and eventually helping form a chess club for underprivileged kids in his community called The Eastern Knights. Potini died in 2011; the organization still exists today. \n2014; English; 124 minutes; rated R.\nFree ticketed event; tickets available one hour before show
URL:https://nhccnm.org/event/film-dark-horse-new-zealand/
LOCATION:NHCC-Newsletter-November-2-30
CATEGORIES:Film,Performing Arts
END:VEVENT
END:VCALENDAR