BEGIN:VCALENDAR
VERSION:2.0
PRODID:-// - ECPv6.15.14//NONSGML v1.0//EN
CALSCALE:GREGORIAN
METHOD:PUBLISH
X-ORIGINAL-URL:https://nhccnm.org
X-WR-CALDESC:Events for 
REFRESH-INTERVAL;VALUE=DURATION:PT1H
X-Robots-Tag:noindex
X-PUBLISHED-TTL:PT1H
BEGIN:VTIMEZONE
TZID:America/Denver
BEGIN:DAYLIGHT
TZOFFSETFROM:-0700
TZOFFSETTO:-0600
TZNAME:MDT
DTSTART:20150308T090000
END:DAYLIGHT
BEGIN:STANDARD
TZOFFSETFROM:-0600
TZOFFSETTO:-0700
TZNAME:MST
DTSTART:20151101T080000
END:STANDARD
BEGIN:DAYLIGHT
TZOFFSETFROM:-0700
TZOFFSETTO:-0600
TZNAME:MDT
DTSTART:20160313T090000
END:DAYLIGHT
BEGIN:STANDARD
TZOFFSETFROM:-0600
TZOFFSETTO:-0700
TZNAME:MST
DTSTART:20161106T080000
END:STANDARD
BEGIN:DAYLIGHT
TZOFFSETFROM:-0700
TZOFFSETTO:-0600
TZNAME:MDT
DTSTART:20170312T090000
END:DAYLIGHT
BEGIN:STANDARD
TZOFFSETFROM:-0600
TZOFFSETTO:-0700
TZNAME:MST
DTSTART:20171105T080000
END:STANDARD
END:VTIMEZONE
BEGIN:VEVENT
DTSTART;VALUE=DATE:20161001
DTEND;VALUE=DATE:20161002
DTSTAMP:20260421T024852
CREATED:20160831T180744Z
LAST-MODIFIED:20160831T180744Z
UID:2574-1475280000-1475366399@nhccnm.org
SUMMARY:Willie Velasquez Your Vote Is Your Voice: Film Screening & Voter Registration
DESCRIPTION:10 am (screenings at 11 am & 2 pm) \nFree screenings of the documentary film Willie Velasquez Your Vote Is Your Voice and voter registration drive\, presented in partnership with New Mexico PBS. The film introduces viewers to the man who led the Southwest Voter Registration and Education Project and launched 1\,000 voter registration drives in 200 cities\, paving the way for Latinos to have a voice in government and underscoring the growing power of the Latino vote. Patrons will be able to register to vote on-site. \nThe film will provide a better understanding of historical\, political\, and social issues facing Latinos\, America’s largest growing minority group. The story of Willie Velasquez’s life trajectory and the people he met along the way on the American political scene is fascinating in itself. Through the lens of his journey from radical student activist to respected statesman\, we can examine the history of the Latino vote\, the barriers Latinos had to overcome to obtain representation\, contemporary issues facing Latinos today\, and the implications for the current election cycle.\nFree public event
URL:https://nhccnm.org/event/willie-velasquez-vote-voice-film-screening-voter-registration/
LOCATION:NHCC-Newsletter-November-2-30
CATEGORIES:Film,Performing Arts
END:VEVENT
BEGIN:VEVENT
DTSTART;VALUE=DATE:20161006
DTEND;VALUE=DATE:20161007
DTSTAMP:20260421T024852
CREATED:20161002T210306Z
LAST-MODIFIED:20161002T210306Z
UID:2669-1475712000-1475798399@nhccnm.org
SUMMARY:Film:  Pride + Prejudice + Zombies
DESCRIPTION:7 pm \nThis British-American film is based on Seth Grahame-Smith’s 2009 novel of the same name\, parodying Jane Austin’s 1813 novel Pride and Prejudice. In 19th century England\, the five Bennet sisters\, all trained in weaponry and martial arts\, must cope with the pressures to marry while protecting themselves from a growing population of zombies. Elizabeth Bennet and wealthy zombie killer Mr. Darcy fall in love\, despite their class differences\, while battling the undead uprising. Directed by Burt Steers; presented in partnership with Instituto Cervantes. \n2016; English; 107 minutes; rated PG-13.\nFree ticketed event; tickets available one hour before show
URL:https://nhccnm.org/event/film-pride-prejudice-zombies/
LOCATION:NHCC-Newsletter-November-2-30
CATEGORIES:Film,Performing Arts
END:VEVENT
BEGIN:VEVENT
DTSTART;VALUE=DATE:20161013
DTEND;VALUE=DATE:20161014
DTSTAMP:20260421T024852
CREATED:20161005T195741Z
LAST-MODIFIED:20161005T195741Z
UID:2679-1476316800-1476403199@nhccnm.org
SUMMARY:Film:  Las Brujas de Zugarramurdi
DESCRIPTION:7 pm \nA gang of thieves on the run from Madrid after the robbery of a pawn shop stop to rest in the border village of Zugarramurdi\, inhabited and controlled by witches\, and find themselves the guests of a family who are preparing for an ancient ritual. The visually inventive film builds toward a jaw-dropping climax\, with plenty of laughs\, scares\, and surprises along the way. Directed by Álex de la Iglesia; presented in partnership with Instituto Cervantes. \n2013; Spanish with English subtitles; 112 minutes; rated R.\nFree ticketed event; tickets available one hour before show
URL:https://nhccnm.org/event/film-las-brujas-de-zugarramurdi/
LOCATION:NHCC-Newsletter-November-2-30
CATEGORIES:Film,Performing Arts
END:VEVENT
BEGIN:VEVENT
DTSTART;VALUE=DATE:20161020
DTEND;VALUE=DATE:20161021
DTSTAMP:20260421T024852
CREATED:20161008T220630Z
LAST-MODIFIED:20161008T220630Z
UID:2801-1476921600-1477007999@nhccnm.org
SUMMARY:Film:  La Festividad de los Muertos/Lanii Xtee Tugul
DESCRIPTION:7 pm \nSince pre-Hispanic times\, death has played a fundamental role in Zapotec life. The traditional celebration of Día de los Muertos\, or Day of the Dead\, in the Zapotec community of Teotitlán del Valle\, Oaxaca\, Mexico focuses on the importance of family and extended family relations. The celebration includes family-based observances and altars\, and continues with a community-wide ritual remembrance in the cemetery. \nPresented in partnership with Metamorfosis Documentation Project\, a non-profit organization documenting and supporting cross-cultural rituals and dances in the Americas through collaborative projects with mestizo and indigenous communities\, in order to preserve these traditions within the communities and share them with a wider audience. \n2013; Spanish with English subtitles; 58 minutes; not rated.\nFree ticketed event; tickets available one hour before show
URL:https://nhccnm.org/event/film-la-festividad-de-los-muertoslanii-xtee-tugul/
LOCATION:NHCC-Newsletter-November-2-30
CATEGORIES:Film,Performing Arts
END:VEVENT
BEGIN:VEVENT
DTSTART;VALUE=DATE:20161027
DTEND;VALUE=DATE:20161028
DTSTAMP:20260421T024852
CREATED:20161008T222211Z
LAST-MODIFIED:20161008T222211Z
UID:2805-1477526400-1477612799@nhccnm.org
SUMMARY:Film:  Todos Santos\, La Fiesta de las Almas
DESCRIPTION:7 pm \nThe celebration of Todos Santos in Candelaria\, a small farming and weaving community in the southern Andes of Bolivia\, is the Yampara culture’s version of Day of the Dead\, when the souls of the deceased return to visit their families and partake of the feast celebrated in their honor. Todos Santos serves specific functions to promote well-being within families and communities\, reassuring members of their ties to the land and their culture. \nPresented in partnership with Metamorfosis Documentation Project\, a non-profit organization documenting and supporting cross-cultural rituals and dances in the Americas through collaborative projects with mestizo and indigenous communities\, in order to preserve these traditions within the communities and share them with a wider audience. \n2012; Spanish with English subtitles; 35 minutes; not rated.\nFree ticketed event; tickets available one hour before show
URL:https://nhccnm.org/event/film-todos-santos-la-fiesta-de-las-almas/
LOCATION:NHCC-Newsletter-November-2-30
CATEGORIES:Film,Performing Arts
END:VEVENT
END:VCALENDAR