BEGIN:VCALENDAR
VERSION:2.0
PRODID:-// - ECPv6.15.14//NONSGML v1.0//EN
CALSCALE:GREGORIAN
METHOD:PUBLISH
X-ORIGINAL-URL:https://nhccnm.org
X-WR-CALDESC:Events for 
REFRESH-INTERVAL;VALUE=DURATION:PT1H
X-Robots-Tag:noindex
X-PUBLISHED-TTL:PT1H
BEGIN:VTIMEZONE
TZID:America/Denver
BEGIN:DAYLIGHT
TZOFFSETFROM:-0700
TZOFFSETTO:-0600
TZNAME:MDT
DTSTART:20150308T090000
END:DAYLIGHT
BEGIN:STANDARD
TZOFFSETFROM:-0600
TZOFFSETTO:-0700
TZNAME:MST
DTSTART:20151101T080000
END:STANDARD
BEGIN:DAYLIGHT
TZOFFSETFROM:-0700
TZOFFSETTO:-0600
TZNAME:MDT
DTSTART:20160313T090000
END:DAYLIGHT
BEGIN:STANDARD
TZOFFSETFROM:-0600
TZOFFSETTO:-0700
TZNAME:MST
DTSTART:20161106T080000
END:STANDARD
BEGIN:DAYLIGHT
TZOFFSETFROM:-0700
TZOFFSETTO:-0600
TZNAME:MDT
DTSTART:20170312T090000
END:DAYLIGHT
BEGIN:STANDARD
TZOFFSETFROM:-0600
TZOFFSETTO:-0700
TZNAME:MST
DTSTART:20171105T080000
END:STANDARD
END:VTIMEZONE
BEGIN:VEVENT
DTSTART;VALUE=DATE:20161103
DTEND;VALUE=DATE:20161104
DTSTAMP:20260421T064850
CREATED:20161026T234820Z
LAST-MODIFIED:20161026T234820Z
UID:2849-1478131200-1478217599@nhccnm.org
SUMMARY:Film:  Willie Velasquez\, Su Voto Es Su Voz
DESCRIPTION:7 pm \nWith the rallying cry of “su voto es su voz” (“your vote is your voice”)\, Mexican American activist Willie Velasquez launched a grassroots movement that changed the nation’s political landscape forever. Through the nonpartisan Southwest Voter Registration and Education Project (SVREP)\, Velasquez launched over a thousand voter registration drives in 200 cities\, creating a movement that has continued to grow in power each year. Directed by Hector Galán; presented in partnership with New Mexico PBS.\nFree ticketed event; tickets available one hour before show
URL:https://nhccnm.org/event/film-willie-velasquez-su-voto-es-su-voz/
LOCATION:NHCC-Newsletter-November-2-30
CATEGORIES:Film,Performing Arts
END:VEVENT
BEGIN:VEVENT
DTSTART;VALUE=DATE:20161110
DTEND;VALUE=DATE:20161111
DTSTAMP:20260421T064850
CREATED:20161027T000409Z
LAST-MODIFIED:20161027T000409Z
UID:2851-1478736000-1478822399@nhccnm.org
SUMMARY:Film:  Evita
DESCRIPTION:7 pm \nA musical drama film based on Tim Rice and Andrew Lloyd Webber’s stage musical of the same name\, Evita follows the life of Eva Perón\, from her humble beginnings through her rise to fame\, political career\, and death at the age of 33. A B-picture actress\, Eva Duarte eventually became the wife of Argentine president Juan Perón. Instrumental in her husband’s political success\, she attained supreme celebrity in the 1940s as the most beloved\, and hated\, woman in Argentina. Directed by Alan Parker; presented in partnership with Instituto Cervantes. \n1996; English; 135 minutes; rated PG.\nFree ticketed event; tickets available one hour before show
URL:https://nhccnm.org/event/film-evita/
LOCATION:NHCC-Newsletter-November-2-30
CATEGORIES:Film,Performing Arts
END:VEVENT
BEGIN:VEVENT
DTSTART;VALUE=DATE:20161117
DTEND;VALUE=DATE:20161118
DTSTAMP:20260421T064850
CREATED:20161027T191621Z
LAST-MODIFIED:20161027T191621Z
UID:2854-1479340800-1479427199@nhccnm.org
SUMMARY:Film:  Diarios de motocicleta/The Motorcycle Diaries
DESCRIPTION:7 pm \nDrawn from the real-life journals of two young Argentines\, Alberto Granado and Ernesto “Che” Guevara de la Serna\, Diarios de Motocicleta traces their eight-month\, 8\,000-mile road trip across South America in 1952. What begins as a lark turns into a profound journey of discovery\, as their aging motorcycle carries the two farther and farther away from the familiar comfort of Buenos Aires; the trip through the rich and complex human and social topography of the continent provides the formative experiences that turn Che Guevara into a famous revolutionary. Directed by Walter Salles; presented in partnership with Instituto Cervantes. \n2004; Spanish with English subtitles; 126 minutes; rated R.\nFree ticketed event; tickets available one hour before show
URL:https://nhccnm.org/event/film-diarios-de-motocicletathe-motorcycle-diaries/
LOCATION:NHCC-Newsletter-November-2-30
CATEGORIES:Film,Performing Arts
END:VEVENT
BEGIN:VEVENT
DTSTART;VALUE=DATE:20161118
DTEND;VALUE=DATE:20161121
DTSTAMP:20260421T064850
CREATED:20161116T221631Z
LAST-MODIFIED:20161116T221631Z
UID:2889-1479427200-1479686399@nhccnm.org
SUMMARY:Indigenous Comic Con
DESCRIPTION:Friday—2 pm to 9 pm; Saturday—10 am to 9 pm; Sunday—10 am to 6 pm \nIndigenerds will rejoice as Albuquerque plays host to the first-ever Indigenous Comic Con. From November 18 through November 20\, the Duke City will welcome Indigenous artists\, creators\, and designers from the worlds of comic books\, games\, sci-fi/fantasy\, film\, and television to share their art and expertise with a general audience and the Native/Indigenous community. The lineup features Jeffrey Veregge\, current cover artist for Marvel’s Red Wolf as well as IDW’s GI Joe and Judge Dredd\, and Arigon Star\, the award-winning musician\, playwright\, and creator of Super Indian\, the longest-running Native comic book in the world. Everyone is welcome\, as there will be numerous activities\, panels\, and vendors to engage and entertain the whole family. \nThe Indigenous Comic Con is hosted by Native Realities Publishing (www.nativerealities.com)\, A Tribe Called Geek (www.atribecalledgeek.com)\, and the National Hispanic Cultural Center. Event tickets\, vendor applications\, and general information can be found online at www.indigenouscomiccon.com.\nTicket information HERE (http://www.indigenouscomiccon.com/buy-tickets)
URL:https://nhccnm.org/event/indigenous-comic-con/
LOCATION:Domenici Education Building\, 1701 4th Street SW\, Albuquerque\, NM\, 87102
CATEGORIES:Education,Workshops
END:VEVENT
END:VCALENDAR