BEGIN:VCALENDAR
VERSION:2.0
PRODID:-// - ECPv6.15.14//NONSGML v1.0//EN
CALSCALE:GREGORIAN
METHOD:PUBLISH
X-ORIGINAL-URL:https://nhccnm.org
X-WR-CALDESC:Events for 
REFRESH-INTERVAL;VALUE=DURATION:PT1H
X-Robots-Tag:noindex
X-PUBLISHED-TTL:PT1H
BEGIN:VTIMEZONE
TZID:America/Denver
BEGIN:DAYLIGHT
TZOFFSETFROM:-0700
TZOFFSETTO:-0600
TZNAME:MDT
DTSTART:20170312T090000
END:DAYLIGHT
BEGIN:STANDARD
TZOFFSETFROM:-0600
TZOFFSETTO:-0700
TZNAME:MST
DTSTART:20171105T080000
END:STANDARD
BEGIN:DAYLIGHT
TZOFFSETFROM:-0700
TZOFFSETTO:-0600
TZNAME:MDT
DTSTART:20180311T090000
END:DAYLIGHT
BEGIN:STANDARD
TZOFFSETFROM:-0600
TZOFFSETTO:-0700
TZNAME:MST
DTSTART:20181104T080000
END:STANDARD
BEGIN:DAYLIGHT
TZOFFSETFROM:-0700
TZOFFSETTO:-0600
TZNAME:MDT
DTSTART:20190310T090000
END:DAYLIGHT
BEGIN:STANDARD
TZOFFSETFROM:-0600
TZOFFSETTO:-0700
TZNAME:MST
DTSTART:20191103T080000
END:STANDARD
END:VTIMEZONE
BEGIN:VEVENT
DTSTART;VALUE=DATE:20180118
DTEND;VALUE=DATE:20180119
DTSTAMP:20260421T071650
CREATED:20171221T175549Z
LAST-MODIFIED:20171221T175549Z
UID:4452-1516233600-1516319999@nhccnm.org
SUMMARY:Film:  Bless Me\, Ultima
DESCRIPTION:7 pm \nThe screen adaptation of Rudolfo Anaya’s iconic work\, set in the 1940s in rural New Mexico\, about a young boy and the mysterious healer who opens his eyes to the wonders of the spiritual realm. As the entire world is plunged into war and Antonio Marez grapples with the harsh realities all around him\, his life is forever changed by the sudden arrival of Ultima\, a curandera who inspires him to see the world from a new perspective. Presented as part of the Bank of America Free Thursday Film Series.\n2011; Carl Franklin; English; 102 minutes; rated PG-13. \nBless Me\, Ultima is shown in preparation for the world premiere of a new opera\, also based on Rudolfo Anaya’s novel and produced as a partnership between Opera Southwest and the National Hispanic Cultural Center. The operatic version of Bless Me\, Ultima will come to the NHCC stage in late February.\nFree ticketed event; tickets available one hour before show
URL:https://nhccnm.org/event/film-bless-ultima/
LOCATION:NHCC-Newsletter-November-2-30
CATEGORIES:Film,Performing Arts
ATTACH;FMTTYPE=image/jpeg:https://nhccnm.org/wp-content/uploads/2017/12/Bless-Me-Ultima-poster.jpg
END:VEVENT
END:VCALENDAR