BEGIN:VCALENDAR
VERSION:2.0
PRODID:-// - ECPv6.15.14//NONSGML v1.0//EN
CALSCALE:GREGORIAN
METHOD:PUBLISH
X-ORIGINAL-URL:https://nhccnm.org
X-WR-CALDESC:Events for 
REFRESH-INTERVAL;VALUE=DURATION:PT1H
X-Robots-Tag:noindex
X-PUBLISHED-TTL:PT1H
BEGIN:VTIMEZONE
TZID:America/Denver
BEGIN:DAYLIGHT
TZOFFSETFROM:-0700
TZOFFSETTO:-0600
TZNAME:MDT
DTSTART:20170312T090000
END:DAYLIGHT
BEGIN:STANDARD
TZOFFSETFROM:-0600
TZOFFSETTO:-0700
TZNAME:MST
DTSTART:20171105T080000
END:STANDARD
BEGIN:DAYLIGHT
TZOFFSETFROM:-0700
TZOFFSETTO:-0600
TZNAME:MDT
DTSTART:20180311T090000
END:DAYLIGHT
BEGIN:STANDARD
TZOFFSETFROM:-0600
TZOFFSETTO:-0700
TZNAME:MST
DTSTART:20181104T080000
END:STANDARD
BEGIN:DAYLIGHT
TZOFFSETFROM:-0700
TZOFFSETTO:-0600
TZNAME:MDT
DTSTART:20190310T090000
END:DAYLIGHT
BEGIN:STANDARD
TZOFFSETFROM:-0600
TZOFFSETTO:-0700
TZNAME:MST
DTSTART:20191103T080000
END:STANDARD
END:VTIMEZONE
BEGIN:VEVENT
DTSTART;VALUE=DATE:20180506
DTEND;VALUE=DATE:20180507
DTSTAMP:20260421T222950
CREATED:20180427T181420Z
LAST-MODIFIED:20180427T181420Z
UID:4981-1525564800-1525651199@nhccnm.org
SUMMARY:Opera in the Museum
DESCRIPTION:6 pm \nEnjoy a sampling of music from the sold-out opera based on Rudolfo Anaya’s beloved novel Bless Me\, Ultima\, surrounded by the artwork from the exhibit La Ultima Exhibición. This brand new opera\, performed at the NHCC in February of this year\, was commissioned by Opera Southwest\, the NHCC\, and San José-based Opera Cultura. The composer\, Hector Armienta\, worked with Mr. Anaya on the libretto.\n$20 (limited to 50)
URL:https://nhccnm.org/event/opera-in-the-museum/
LOCATION:September-2019-Board-Meeting-Minutes
CATEGORIES:Music,Performing Arts,Theatre
ATTACH;FMTTYPE=image/jpeg:https://nhccnm.org/wp-content/uploads/2018/04/ULTIMA-graphic-125.jpg
END:VEVENT
END:VCALENDAR