BEGIN:VCALENDAR
VERSION:2.0
PRODID:-// - ECPv6.15.14//NONSGML v1.0//EN
CALSCALE:GREGORIAN
METHOD:PUBLISH
X-ORIGINAL-URL:https://nhccnm.org
X-WR-CALDESC:Events for 
REFRESH-INTERVAL;VALUE=DURATION:PT1H
X-Robots-Tag:noindex
X-PUBLISHED-TTL:PT1H
BEGIN:VTIMEZONE
TZID:America/Denver
BEGIN:DAYLIGHT
TZOFFSETFROM:-0700
TZOFFSETTO:-0600
TZNAME:MDT
DTSTART:20180311T090000
END:DAYLIGHT
BEGIN:STANDARD
TZOFFSETFROM:-0600
TZOFFSETTO:-0700
TZNAME:MST
DTSTART:20181104T080000
END:STANDARD
BEGIN:DAYLIGHT
TZOFFSETFROM:-0700
TZOFFSETTO:-0600
TZNAME:MDT
DTSTART:20190310T090000
END:DAYLIGHT
BEGIN:STANDARD
TZOFFSETFROM:-0600
TZOFFSETTO:-0700
TZNAME:MST
DTSTART:20191103T080000
END:STANDARD
BEGIN:DAYLIGHT
TZOFFSETFROM:-0700
TZOFFSETTO:-0600
TZNAME:MDT
DTSTART:20200308T090000
END:DAYLIGHT
BEGIN:STANDARD
TZOFFSETFROM:-0600
TZOFFSETTO:-0700
TZNAME:MST
DTSTART:20201101T080000
END:STANDARD
END:VTIMEZONE
BEGIN:VEVENT
DTSTART;VALUE=DATE:20190621
DTEND;VALUE=DATE:20190818
DTSTAMP:20260421T004515
CREATED:20190621T205229Z
LAST-MODIFIED:20190621T205229Z
UID:7489-1561075200-1566086399@nhccnm.org
SUMMARY:Art Education Curriculum Project--Information Gathering
DESCRIPTION:The National Hispanic Cultural Center in partnership with AmeriCorps VISTA is developing an Art Education Curriculum and Online Resource for Albuquerque educators and students. \nWe are seeking to create partnerships with schools\, educators\, parents\, and artists to develop a curriculum that will be tailored to fit the needs of as many K-12 students as possible. Through outreach and discussion\, we intend to better understand community needs and how digitization of this curriculum would be most useful. \n \nPlease see the links below to participate in one of our questionnaires. \nFor Teachers and Teacher’s Assistants:  https://nhccnm.wufoo.com/forms/x1vdomg60bzh30n/ \nFor School Administrators and Staff:  https://nhccnm.wufoo.com/forms/x1fjztak1ho7mby/ \nFor School District Employees:  https://nhccnm.wufoo.com/forms/x36wcxu0e66iv2/ \nFor Community Members\, Parents\, and Artists:  https://nhccnm.wufoo.com/forms/x19a3bva1j24idz/ \nThe information gathered will be an invaluable tool for developing the Curriculum and Online Resource. \nWe intend to create a curriculum that meets state standards and is culturally relevant to New Mexico students by integrating NHCC programming into lessons. The first project will focus on the buon fresco mural\, Mundos de Mestizaje\, by Frederico Vigil\, located in the Torreón on the NHCC campus. \nTo learn more about Mundos de Mestizaje here. \nTo stay updated on future Art Education Curriculum events\, discussions\, or workshops\, please email vanessa.justice@state.nm.us or call 505-288-5572 \nTo learn more about AmeriCorps VISTA\, visit www.nationalservice.gov.
URL:https://nhccnm.org/event/art-education-curriculum-project-information-gathering/
LOCATION:NM
ATTACH;FMTTYPE=image/jpeg:https://nhccnm.org/wp-content/uploads/2019/06/VistaLogo.jpg
END:VEVENT
BEGIN:VEVENT
DTSTART;VALUE=DATE:20190803
DTEND;VALUE=DATE:20190805
DTSTAMP:20260421T004515
CREATED:20190605T191121Z
LAST-MODIFIED:20190605T191121Z
UID:7324-1564790400-1564963199@nhccnm.org
SUMMARY:Mundos de Mestizaje
DESCRIPTION:12 pm to 5 pm \nA Vision of History through Fresco… \nMundos de Mestizaje by Frederico Vigil is a mural housed in the Torreón on the campus of the National Hispanic Cultural Center. This monumental fresco depicts thousands of years of Hispanic history highlighting diverse cultural connections between people and places from the Iberian Peninsula to the Americas. The 4\,000 square foot painting is one of the largest frescos in North America. \nThe digitized imagery of the painting ensures that this culturally significant work can be a sharing and learning experience for students and families anywhere. We invite you to explore the imagery\, history and complexities of the Mundos de Mestizaje mural. \nDiscover on your own by clicking the link HERE.\n(It may take a moment to load.  Microsoft Internet Explorer is NOT recommended.  Best experienced with Safari\, Firefox or Chrome.)\nFree
URL:https://nhccnm.org/event/mundos-de-mestizaje-79/
LOCATION:NHCC Torreón\, 1701 4th street SW\, Albuquerque\, NM\, 87102\, United States
CATEGORIES:Visual Arts
ATTACH;FMTTYPE=image/jpeg:https://nhccnm.org/wp-content/uploads/2017/08/Torreon.jpg
END:VEVENT
BEGIN:VEVENT
DTSTART;VALUE=DATE:20190807
DTEND;VALUE=DATE:20190808
DTSTAMP:20260421T004515
CREATED:20190801T145423Z
LAST-MODIFIED:20190801T145423Z
UID:7717-1565136000-1565222399@nhccnm.org
SUMMARY:Educator Community Gathering
DESCRIPTION:5:30 to 7:30 pm \nAll teachers\, administrators\, parents\, & artists are invited to join us to view the fresco mural\, Mundos de Mestizaje\, enjoy appetizers and beverages\, and participate in discussions about curricula and community needs. \nThe National Hispanic Cultural Center and AmeriCorps VISTA are seeking partnerships with schools\, educators\, parents\, and artists to develop a curriculum for as many K-12 students as possible. Our first focus is creating content incorporating Mundos de Mestizaje. \n \nMundos de Mestizaje is a 4000sqft concave\, buon fresco depicting thousands of years of history and highlights the diverse cultural connections between people and places. This impressive work of art is one of the largest frescos in North America and can be found in the National Hispanic Cultural Center’s Torreón. \nWe encourage all community members interested in education development to attend! \nThrough outreach and discussion\, we intend to better understand community needs and how this curriculum would be most useful and inspiring for students. \nShare your knowledge and learn more about joining our Working Group of advisors! \nPlease RSVP by August 4 \nFor any questions\, please email vanessa.justice@state.nm.us or call 505-288-5572 \nTo learn more about AmeriCorps VISTA\, visit www.nationalservice.gov. \nThis event is free and open to the public.
URL:https://nhccnm.org/event/educator-community-gathering/
LOCATION:NHCC-Newsletter-August-11-–-24
ATTACH;FMTTYPE=image/jpeg:https://nhccnm.org/wp-content/uploads/2019/06/NHCC-Torreon-Fresco-3-16-dm-4SMALL.jpg
END:VEVENT
BEGIN:VEVENT
DTSTART;VALUE=DATE:20190810
DTEND;VALUE=DATE:20190812
DTSTAMP:20260421T004515
CREATED:20190605T191305Z
LAST-MODIFIED:20190605T191305Z
UID:7326-1565395200-1565567999@nhccnm.org
SUMMARY:Mundos de Mestizaje
DESCRIPTION:12 pm to 5 pm \nA Vision of History through Fresco… \nMundos de Mestizaje by Frederico Vigil is a mural housed in the Torreón on the campus of the National Hispanic Cultural Center. This monumental fresco depicts thousands of years of Hispanic history highlighting diverse cultural connections between people and places from the Iberian Peninsula to the Americas. The 4\,000 square foot painting is one of the largest frescos in North America. \nThe digitized imagery of the painting ensures that this culturally significant work can be a sharing and learning experience for students and families anywhere. We invite you to explore the imagery\, history and complexities of the Mundos de Mestizaje mural. \nDiscover on your own by clicking the link HERE.\n(It may take a moment to load.  Microsoft Internet Explorer is NOT recommended.  Best experienced with Safari\, Firefox or Chrome.)\nFree
URL:https://nhccnm.org/event/mundos-de-mestizaje-80/
LOCATION:NHCC Torreón\, 1701 4th street SW\, Albuquerque\, NM\, 87102\, United States
CATEGORIES:History and Literary Arts,Visual Arts
ATTACH;FMTTYPE=image/jpeg:https://nhccnm.org/wp-content/uploads/2017/08/Torreon.jpg
END:VEVENT
BEGIN:VEVENT
DTSTART;VALUE=DATE:20190817
DTEND;VALUE=DATE:20190819
DTSTAMP:20260421T004515
CREATED:20190605T191434Z
LAST-MODIFIED:20190605T191434Z
UID:7328-1566000000-1566172799@nhccnm.org
SUMMARY:Mundos de Mestizaje
DESCRIPTION:12 pm to 5 pm \nA Vision of History through Fresco… \nMundos de Mestizaje by Frederico Vigil is a mural housed in the Torreón on the campus of the National Hispanic Cultural Center. This monumental fresco depicts thousands of years of Hispanic history highlighting diverse cultural connections between people and places from the Iberian Peninsula to the Americas. The 4\,000 square foot painting is one of the largest frescos in North America. \nThe digitized imagery of the painting ensures that this culturally significant work can be a sharing and learning experience for students and families anywhere. We invite you to explore the imagery\, history and complexities of the Mundos de Mestizaje mural. \nDiscover on your own by clicking the link HERE.\n(It may take a moment to load.  Microsoft Internet Explorer is NOT recommended.  Best experienced with Safari\, Firefox or Chrome.)\nFree
URL:https://nhccnm.org/event/mundos-de-mestizaje-81/
LOCATION:NHCC Torreón\, 1701 4th street SW\, Albuquerque\, NM\, 87102\, United States
CATEGORIES:History and Literary Arts,Visual Arts
ATTACH;FMTTYPE=image/jpeg:https://nhccnm.org/wp-content/uploads/2017/08/Torreon.jpg
END:VEVENT
BEGIN:VEVENT
DTSTART;VALUE=DATE:20190824
DTEND;VALUE=DATE:20190826
DTSTAMP:20260421T004515
CREATED:20190605T191639Z
LAST-MODIFIED:20190605T191639Z
UID:7330-1566604800-1566777599@nhccnm.org
SUMMARY:Mundos de Mestizaje
DESCRIPTION:12 pm to 5 pm \nA Vision of History through Fresco… \nMundos de Mestizaje by Frederico Vigil is a mural housed in the Torreón on the campus of the National Hispanic Cultural Center. This monumental fresco depicts thousands of years of Hispanic history highlighting diverse cultural connections between people and places from the Iberian Peninsula to the Americas. The 4\,000 square foot painting is one of the largest frescos in North America. \nThe digitized imagery of the painting ensures that this culturally significant work can be a sharing and learning experience for students and families anywhere. We invite you to explore the imagery\, history and complexities of the Mundos de Mestizaje mural. \nDiscover on your own by clicking the link HERE.\n(It may take a moment to load.  Microsoft Internet Explorer is NOT recommended.  Best experienced with Safari\, Firefox or Chrome.)\nFree
URL:https://nhccnm.org/event/mundos-de-mestizaje-82/
LOCATION:NM
CATEGORIES:History and Literary Arts,Visual Arts
ATTACH;FMTTYPE=image/jpeg:https://nhccnm.org/wp-content/uploads/2017/08/Torreon.jpg
END:VEVENT
BEGIN:VEVENT
DTSTART;VALUE=DATE:20190831
DTEND;VALUE=DATE:20190902
DTSTAMP:20260421T004515
CREATED:20190605T191810Z
LAST-MODIFIED:20190605T191810Z
UID:7332-1567209600-1567382399@nhccnm.org
SUMMARY:Mundos de Mestizaje
DESCRIPTION:12 pm to 5 pm \nA Vision of History through Fresco… \nMundos de Mestizaje by Frederico Vigil is a mural housed in the Torreón on the campus of the National Hispanic Cultural Center. This monumental fresco depicts thousands of years of Hispanic history highlighting diverse cultural connections between people and places from the Iberian Peninsula to the Americas. The 4\,000 square foot painting is one of the largest frescos in North America. \nThe digitized imagery of the painting ensures that this culturally significant work can be a sharing and learning experience for students and families anywhere. We invite you to explore the imagery\, history and complexities of the Mundos de Mestizaje mural. \nDiscover on your own by clicking the link HERE.\n(It may take a moment to load.  Microsoft Internet Explorer is NOT recommended.  Best experienced with Safari\, Firefox or Chrome.)\nFree
URL:https://nhccnm.org/event/mundos-de-mestizaje-83/
LOCATION:NHCC Torreón\, 1701 4th street SW\, Albuquerque\, NM\, 87102\, United States
CATEGORIES:History and Literary Arts,Visual Arts
ATTACH;FMTTYPE=image/jpeg:https://nhccnm.org/wp-content/uploads/2017/08/Torreon.jpg
END:VEVENT
END:VCALENDAR