BEGIN:VCALENDAR
VERSION:2.0
PRODID:-// - ECPv6.15.14//NONSGML v1.0//EN
CALSCALE:GREGORIAN
METHOD:PUBLISH
X-ORIGINAL-URL:https://nhccnm.org
X-WR-CALDESC:Events for 
REFRESH-INTERVAL;VALUE=DURATION:PT1H
X-Robots-Tag:noindex
X-PUBLISHED-TTL:PT1H
BEGIN:VTIMEZONE
TZID:America/Denver
BEGIN:DAYLIGHT
TZOFFSETFROM:-0700
TZOFFSETTO:-0600
TZNAME:MDT
DTSTART:20190310T090000
END:DAYLIGHT
BEGIN:STANDARD
TZOFFSETFROM:-0600
TZOFFSETTO:-0700
TZNAME:MST
DTSTART:20191103T080000
END:STANDARD
BEGIN:DAYLIGHT
TZOFFSETFROM:-0700
TZOFFSETTO:-0600
TZNAME:MDT
DTSTART:20200308T090000
END:DAYLIGHT
BEGIN:STANDARD
TZOFFSETFROM:-0600
TZOFFSETTO:-0700
TZNAME:MST
DTSTART:20201101T080000
END:STANDARD
BEGIN:DAYLIGHT
TZOFFSETFROM:-0700
TZOFFSETTO:-0600
TZNAME:MDT
DTSTART:20210314T090000
END:DAYLIGHT
BEGIN:STANDARD
TZOFFSETFROM:-0600
TZOFFSETTO:-0700
TZNAME:MST
DTSTART:20211107T080000
END:STANDARD
END:VTIMEZONE
BEGIN:VEVENT
DTSTART;VALUE=DATE:20200202
DTEND;VALUE=DATE:20200210
DTSTAMP:20260420T142125
CREATED:20190530T194131Z
LAST-MODIFIED:20190530T194131Z
UID:7271-1580601600-1581292799@nhccnm.org
SUMMARY:NHCC & Opera Southwest Present Daniel Catan’s Il Postino
DESCRIPTION:February 2\, 7 & 9\, 2020\n2 pm—Sundays\n7:30 pm—Friday \nOpera Southwest presents Daniel Catán’s Il Postino\, a fully staged opera with orchestra\, sung in Spanish with both Spanish and English translation supertitles\, and presented in two acts with one intermission. \nPresented in partnership with the National Hispanic Cultural Center\, Il Postino is based on the novel Ardiente Paciencia by Antonio Skármeta\, as well as the film by Michael Radford. When exiled Chilean poet Pablo Neruda arrives on a tiny Italian island\, he receives so much fan mail that Mario is hired as his personal postman. Mario soon becomes Neruda’s student\, learning the art of poetry to woo a local barmaid. Inspired by Neruda\, Mario’s poetic voice continues to take wing as he expresses the struggles of his fellow working class villagers. A firm friendship develops\, and the postman is forever a changed man. \n$19\, $39\, $59\, $79\, $99; discounts for groups of eight or more and patrons 30 and younger \n \nThe sounds of the Mediterranean come alive in Catán’s stunningly beautiful\, Puccini-esque score—a story of love in its many forms\, set against a backdrop of conflicting political and spiritual ideologies. \nVisit the Opera Southwest website HERE.
URL:https://nhccnm.org/event/opera-southwest-il-postino-rental/
LOCATION:Roy E. Disney Center for Performing Arts: Albuquerque Journal Theatre\, 1701 4th St SW\, Albuquerque\, NM\, 87102
CATEGORIES:Music,Performing Arts,Rental,Theatre
ATTACH;FMTTYPE=image/jpeg:https://nhccnm.org/wp-content/uploads/2019/12/OSW_IlPostino.jpg
END:VEVENT
BEGIN:VEVENT
DTSTART;TZID=America/Denver:20200204T180000
DTEND;TZID=America/Denver:20200204T193000
DTSTAMP:20260420T142125
CREATED:20191209T214954Z
LAST-MODIFIED:20191209T214954Z
UID:8576-1580839200-1580844600@nhccnm.org
SUMMARY:Inside Opera Series: Il Postino
DESCRIPTION:6-7:30 pm\nTuesdays\, January 21\, 28\, and February 4 \nJoin us for our second year of “Inside Opera”—a workshop series presented by the NHCC in partnership with Opera Southwest.  This year the opera is “Il Postino” and each workshop will focus on a different element of the performance (see below).  Those who attend any one of the three workshops will receive a 15% discounted ticket to the show.  Sign up for the workshops here:  https://nhccnm.wufoo.com/forms/inside-opera-workshop-series-il-postino/ \n \nInside Opera: The Three Versions of Il Postino\nTuesday\, Jan. 21\, 2020\nSalon Ortega\n6 – 7:30 pm \nFree \nOpera newcomers and aficionados are invited to three\, free\, interactive presentations (January 21\, 28 and February 4) about Il Postino\, Daniel Catán’s beautiful opera about poetry\, love\, and the special friendship that develops between Chilean poet Pablo Neruda and Mario\, the young man who brings him his mail on an island off the coast of Italy. Il Postino will be presented by Opera Southwest in the Journal Theater at the NHCC on February 2\, 7 and 9\, 2020. \nOn January 21\, join poet Valerie Martinez for an in-depth discussion of the story of Il Postino and how it developed on its journey from the printed page to the big screen to the opera stage. Daniel Catán’s opera was inspired by the novel Ardiente Paciencia (Burning Patience)\, by Antonio Skarmeta\, and the Academy Award-nominated film adaptation\, Il Postino\, directed by Michael Radford.  Register here. \nValerie Martínez is the Director of History and Literary Arts at the National Hispanic Cultural Center. Valerie spent 23 years as a professor of literature at the college and university level\, and was Santa Fe’s second Poet Laureate. As a core artist and Executive Director of Littleglobe\, Valerie worked in collaboration with the Santa Fe Opera to create two community-based operas: Memorylines: Voces de Nuestras Jornadas (2008)\, and The Santa Fe Bus Opera (2010). Valerie joins the Inside Opera series as presenter for the second year. \n  \nInside Opera: The Music of Il Postino\nTuesday\, Jan. 28\, 2020\nSalon Ortega\n6 – 7:30 pm \nFree \nOpera newcomers and aficionados are invited to three\, free\, interactive presentations (January 21\, 28 and February 4) about Il Postino\, Daniel Catán’s beautiful opera about poetry\, love\, and the special friendship that develops between Chilean poet Pablo Neruda and Mario\, the young man who brings him his mail on an island off the coast of Italy. Il Postino will be presented by Opera Southwest in the Journal Theater at the NHCC Center on February 2\, 7 and 9\, 2020. \nOn January 28\, conductor and educator Oliver Prezant will introduce you to the music of Il Postino. We’ll explore the way the composer uses melodic shape\, harmony\, and rhythm to define characters and situations\, and we’ll take a detailed look at how music adds meaning and expression to the text.   Register here. \nOliver Prezant has presented lectures and education programs for The Santa Fe Opera\, the Santa Fe Chamber Music Festival\, Opera Southwest\, and Chamber Music Albuquerque\, and has presented programs on art and music for museums including The Georgia O’Keeffe Museum and The Albuquerque Museum of Art and History. He is the Music Director and Conductor of the Santa Fe Community Orchestra\, and the Artistic Advisor to the ArtWorks Program\, which provides arts education workshops for Santa Fe Public Schools students and teachers. Oliver was on the faculty of the Contemporary Music Program at Santa Fe University of Art and Design and The College of Santa Fe. \n  \nInside Opera: Bringing Il Postino to Life\nTuesday\, Feb 4\, 2020\nSalon Ortega\n6 – 7:30 pm \nFree \nOpera newcomers and aficionados are invited to three\, free\, interactive presentations (January 21\, 28 and February 4) about Il Postino\, Daniel Catán’s beautiful opera about poetry\, love\, and the special friendship that develops between Chilean poet Pablo Neruda and Mario\, the young man who brings him his mail on an island off the coast of Italy. Il Postino will be presented by Opera Southwest in the Journal Theater at the NHCC on February 2\, 7 and 9\, 2020. \nOn February 4\, Oliver Prezant and special guests will lead you on a magical journey through the creative process of bringing the Opera Southwest production of Il Postino to life. We’ll see the set on stage as well as costumes and props\, in the Journal Theater. We’ll also meet some of the people who have created the world of this enchanting opera experience. A very special opportunity to see what life is like on the other side of the footlights!  Register here. \nOliver Prezant has presented lectures and education programs for The Santa Fe Opera\, the Santa Fe Chamber Music Festival\, Opera Southwest\, and Chamber Music Albuquerque\, and has presented programs on art and music for museums including The Georgia O’Keeffe Museum and The Albuquerque Museum of Art and History. He is the Music Director and Conductor of the Santa Fe Community Orchestra\, and the Artistic Advisor to the ArtWorks Program\, which provides arts education workshops for Santa Fe Public Schools students and teachers. Oliver was on the faculty of the Contemporary Music Program at Santa Fe University of Art and Design and The College of Santa Fe. \n  \nABOUT THE OPERA\nFrom the Opera Southwest website:  “When exiled Chilean poet Pablo Neruda arrives on a tiny Italian island\, he receives so much fan mail that Mario is hired as his personal postman. Mario soon becomes Neruda’s student\, learning the art of poetry to woo a local barmaid. Inspired by Neruda\, Mario’s poetic voice continues to take wing as he expresses the struggles of his fellow working-class villagers. A firm friendship develops\, and the postman is forever a changed man. The sounds of the Mediterranean come alive in Catán’s stunningly beautiful\, Puccini-esque score – a story of love in its many forms\, set against a backdrop of conflicting political and spiritual ideologies. Based on the novel “Ardiente Paciencia” by Antonio Skármeta and the film by Michael Radford. Sung in Spanish with English supertitles.”
URL:https://nhccnm.org/event/inside-opera-workshop-series-il-postino-3/
LOCATION:Roy E. Disney Center for Performing Arts: Albuquerque Journal Theatre\, 1701 4th St SW\, Albuquerque\, NM\, 87102
CATEGORIES:Education,History and Literary Arts,Performing Arts,Speakers,Theatre
ATTACH;FMTTYPE=image/jpeg:https://nhccnm.org/wp-content/uploads/2019/12/OSW_IlPostino.jpg
END:VEVENT
BEGIN:VEVENT
DTSTART;VALUE=DATE:20200207
DTEND;VALUE=DATE:20200217
DTSTAMP:20260420T142125
CREATED:20200122T190333Z
LAST-MODIFIED:20200122T190333Z
UID:8897-1581033600-1581897599@nhccnm.org
SUMMARY:Cardboard Playhouse presents Disney's The AristoCats Kids
DESCRIPTION:Friday & Sunday\, February 7-9 & 14-16\, 2020\nFriday at 7 pm\, Saturdays at 2 pm & 6 pm and Sundays at 2 pm \nCardboard Playhouse presents Disney’s The AristoCats Kids\, Based on the beloved Disney animated film\, and featuring a jazzy\, upbeat score\, Disney’s The Aristocats KIDS is a non-stop thrill ride of feline fun\, complete with unbelievable twists and turns.\nIn the heart of Paris\, a kind and eccentric millionairess wills her entire estate to Duchess\, her high-society cat\, and her three little kittens. Laughs and adventure ensue as the greedy\, bumbling butler pulls off the ultimate catnap caper. Now it’s up to the rough-and-tumble alley cat\, Thomas O’Malley\, and his band of swingin’ jazz cats to save the day. \n$10 \n \n\nThe event is a rental event not an NHCC production. The title\, content\, photos/images and description for this event were provided to the NHCC by the organization renting the NHCC venue for the event. By serving as a venue and posting the event on its website\, the NHCC is not endorsing any views expressed in the title or description of the event\, nor is it endorsing the content of the event.
URL:https://nhccnm.org/event/cardboard-playhouse-presents-disneys-the-aristocats-kids/
LOCATION:NHCC-BOD-January-2020-Meeting
CATEGORIES:Performing Arts,Rental,Theatre
ATTACH;FMTTYPE=image/jpeg:https://nhccnm.org/wp-content/uploads/2020/01/AristoCats-Kids-photo-3.jpg
END:VEVENT
BEGIN:VEVENT
DTSTART;VALUE=DATE:20200213
DTEND;VALUE=DATE:20200214
DTSTAMP:20260420T142125
CREATED:20200129T171718Z
LAST-MODIFIED:20200129T171718Z
UID:8921-1581552000-1581638399@nhccnm.org
SUMMARY:Film: The Last Suit/El último traje
DESCRIPTION:7 pm \nAt 88\, Abraham Bursztein is seeing his place in the world rapidly disappear. His kids have sold his Buenos Aires residence\, set him up to move to a retirement home\, and disagree on how to handle his fading health. But Abraham survived the Holocaust\, made a successful life in a foreign land\, and isn’t about to quietly fade away. Instead\, he plots a secret one-way trip to Poland\, where he plans to find the Christian friend who saved him from certain death at the end of World War II\, and to keep his promise to return one day. \nPresented as part of the Bank of America Free Thursday Film Series. \n2017; Pablo Solarz; Spanish/Yiddish/German/Polish with English subtitles; 91 minutes; not rated. \nFree ticketed event; tickets available one hour before show
URL:https://nhccnm.org/event/film-the-last-suit-el-ultimo-traje/
LOCATION:NHCC-Newsletter-November-2-30
CATEGORIES:Film,Performing Arts,Theatre
ATTACH;FMTTYPE=image/jpeg:https://nhccnm.org/wp-content/uploads/2020/01/The-Last-Suit-El-ultimo-traje-poster.jpg
END:VEVENT
END:VCALENDAR