BEGIN:VCALENDAR
VERSION:2.0
PRODID:-// - ECPv6.15.14//NONSGML v1.0//EN
CALSCALE:GREGORIAN
METHOD:PUBLISH
X-ORIGINAL-URL:https://nhccnm.org
X-WR-CALDESC:Events for 
REFRESH-INTERVAL;VALUE=DURATION:PT1H
X-Robots-Tag:noindex
X-PUBLISHED-TTL:PT1H
BEGIN:VTIMEZONE
TZID:America/Denver
BEGIN:DAYLIGHT
TZOFFSETFROM:-0700
TZOFFSETTO:-0600
TZNAME:MDT
DTSTART:20200308T090000
END:DAYLIGHT
BEGIN:STANDARD
TZOFFSETFROM:-0600
TZOFFSETTO:-0700
TZNAME:MST
DTSTART:20201101T080000
END:STANDARD
BEGIN:DAYLIGHT
TZOFFSETFROM:-0700
TZOFFSETTO:-0600
TZNAME:MDT
DTSTART:20210314T090000
END:DAYLIGHT
BEGIN:STANDARD
TZOFFSETFROM:-0600
TZOFFSETTO:-0700
TZNAME:MST
DTSTART:20211107T080000
END:STANDARD
BEGIN:DAYLIGHT
TZOFFSETFROM:-0700
TZOFFSETTO:-0600
TZNAME:MDT
DTSTART:20220313T090000
END:DAYLIGHT
BEGIN:STANDARD
TZOFFSETFROM:-0600
TZOFFSETTO:-0700
TZNAME:MST
DTSTART:20221106T080000
END:STANDARD
END:VTIMEZONE
BEGIN:VEVENT
DTSTART;VALUE=DATE:20210826
DTEND;VALUE=DATE:20210827
DTSTAMP:20260420T110647
CREATED:20210526T164338Z
LAST-MODIFIED:20210526T164338Z
UID:12784-1629936000-1630022399@nhccnm.org
SUMMARY:NHCC Book Club: The Resurrection of Fulgencio Ramirez
DESCRIPTION:5:30 pm (MST) \nLive via Zoom\nTo join\, contact cassandra.osterloh@state.nm.us \n“In the 1950s\, tensions remain high in the border town of La Frontera. Penny loafers and sneakers clash with boots and huaraches. Bowling shirts and leather jackets compete with guayaberas. Convertibles fend with motorcycles. Yet amidst the discord\, young love blooms at first sight between Fulgencio Ramirez\, the son of impoverished immigrants\, and Carolina Mendelssohn\, the local pharmacist’s daughter. But as they’ll soon find out\, their bonds will be undone by a force more powerful than they could have known. \n \nThirty years after their first fateful encounter\, Fulgencio Ramirez\, RPh\, is conducting his daily ritual of reading the local obituaries in his cramped pharmacy office. After nearly a quarter of a century of waiting\, Fulgencio sees the news he’s been hoping for: his nemesis\, the husband of Carolina Mendelssohn\, has died. \nA work of magical realism\, The Resurrection of Fulgencio Ramirez weaves together the past and present as Fulgencio strives to succeed in America\, break a mystical family curse\, and win back Carolina’s love after their doomed youthful romance. Through enchanting language and meditations about the porous nature of borders–cultural\, geographic\, and otherworldly–The Resurrection of Fulgencio Ramirez offers a vision of how the past has divided us\, and how the future could unite us. ” – Goodreads. \nFree community event
URL:https://nhccnm.org/event/nhcc-book-club-the-resurrection-of-fulgencio-ramirez/
LOCATION:Live via Zoom or in-person
CATEGORIES:Book Club,Education,History and Literary Arts,Speakers,Workshops
ATTACH;FMTTYPE=image/jpeg:https://nhccnm.org/wp-content/uploads/2021/05/Resurrection.jpg
END:VEVENT
END:VCALENDAR