BEGIN:VCALENDAR
VERSION:2.0
PRODID:-// - ECPv6.15.14//NONSGML v1.0//EN
CALSCALE:GREGORIAN
METHOD:PUBLISH
X-ORIGINAL-URL:https://nhccnm.org
X-WR-CALDESC:Events for 
REFRESH-INTERVAL;VALUE=DURATION:PT1H
X-Robots-Tag:noindex
X-PUBLISHED-TTL:PT1H
BEGIN:VTIMEZONE
TZID:America/Denver
BEGIN:DAYLIGHT
TZOFFSETFROM:-0700
TZOFFSETTO:-0600
TZNAME:MDT
DTSTART:20220313T090000
END:DAYLIGHT
BEGIN:STANDARD
TZOFFSETFROM:-0600
TZOFFSETTO:-0700
TZNAME:MST
DTSTART:20221106T080000
END:STANDARD
BEGIN:DAYLIGHT
TZOFFSETFROM:-0700
TZOFFSETTO:-0600
TZNAME:MDT
DTSTART:20230312T090000
END:DAYLIGHT
BEGIN:STANDARD
TZOFFSETFROM:-0600
TZOFFSETTO:-0700
TZNAME:MST
DTSTART:20231105T080000
END:STANDARD
BEGIN:DAYLIGHT
TZOFFSETFROM:-0700
TZOFFSETTO:-0600
TZNAME:MDT
DTSTART:20240310T090000
END:DAYLIGHT
BEGIN:STANDARD
TZOFFSETFROM:-0600
TZOFFSETTO:-0700
TZNAME:MST
DTSTART:20241103T080000
END:STANDARD
END:VTIMEZONE
BEGIN:VEVENT
DTSTART;VALUE=DATE:20230425
DTEND;VALUE=DATE:20230426
DTSTAMP:20260424T204518
CREATED:20230201T234540Z
LAST-MODIFIED:20230201T234540Z
UID:17126-1682380800-1682467199@nhccnm.org
SUMMARY:Entre Palabras Online Book Club: Hollow Beasts
DESCRIPTION:5:30 pm MDT \nNHCC’s Entre Palabras Online Book Club explores diverse themes and topics within the Hispanic/Latine diaspora including identity\, place\, borders\, nationality\, race\, gender\, and language. The book club highlights pieces centered on New Mexico and the Southwest as well as Hispanic/Latine/Latin American works from both the United States and a variety of countries throughout the Hispanic world. \nEl club de libros en línea “Entre Palabras” del NHCC explora diversos temas del diaspora hispane/latine\, como identidad\, lugar\, fronteras\, nacionalidad\, raza\, género\, e idioma. El club de libros destaca obras centradas en Nuevo México y el Suroeste y también obras hispanes\, latines\, y latine americanes de los Estados Unidos y de una variedad de países del mundo hispano. \nPlease make a reservation HERE and we will send you the ZOOM link before the scheduled Book Club. \n \nSelected books offer a dynamic mix of history\, fiction\, novels\, and poetry. Most book selections are bilingual or available in both English and Spanish. The book club is open to mature English and/or Spanish readers everywhere and is held the fourth Tuesday of the month online in a discussion format with occasional guest speakers. \nFree Community Event. Please register here or or call the NHCC Welcome Center at 505-724-4771 for assistance. \nLos libros seleccionados ofrecen una mezcla dinámica de historia\, ficción\, novelas\, y poesía. La mayoría de los libros seleccionados son bilingües o son disponibles en inglés y español. El club de libros está abierto a lectores maduros de inglés y/o español en todas partes y nos reunimos el cuarto martes del mes en línea en formato conversación con oradores invitados de vez en cuando. \nEvento comunitario gratuito. Registración en www.nhccnm.org/events o llame al NHCC Welcome Center al 505-724-4771.
URL:https://nhccnm.org/event/entre-palabras-online-book-club-hollow-beasts/
LOCATION:Live via Zoom
CATEGORIES:Book Club,History and Literary Arts,Workshops
ATTACH;FMTTYPE=image/jpeg:https://nhccnm.org/wp-content/uploads/2023/01/Hollow_beasts.jpg
END:VEVENT
END:VCALENDAR