BEGIN:VCALENDAR
VERSION:2.0
PRODID:-// - ECPv6.15.14//NONSGML v1.0//EN
CALSCALE:GREGORIAN
METHOD:PUBLISH
X-ORIGINAL-URL:https://nhccnm.org
X-WR-CALDESC:Events for 
REFRESH-INTERVAL;VALUE=DURATION:PT1H
X-Robots-Tag:noindex
X-PUBLISHED-TTL:PT1H
BEGIN:VTIMEZONE
TZID:America/Denver
BEGIN:DAYLIGHT
TZOFFSETFROM:-0700
TZOFFSETTO:-0600
TZNAME:MDT
DTSTART:20230312T090000
END:DAYLIGHT
BEGIN:STANDARD
TZOFFSETFROM:-0600
TZOFFSETTO:-0700
TZNAME:MST
DTSTART:20231105T080000
END:STANDARD
BEGIN:DAYLIGHT
TZOFFSETFROM:-0700
TZOFFSETTO:-0600
TZNAME:MDT
DTSTART:20240310T090000
END:DAYLIGHT
BEGIN:STANDARD
TZOFFSETFROM:-0600
TZOFFSETTO:-0700
TZNAME:MST
DTSTART:20241103T080000
END:STANDARD
BEGIN:DAYLIGHT
TZOFFSETFROM:-0700
TZOFFSETTO:-0600
TZNAME:MDT
DTSTART:20250309T090000
END:DAYLIGHT
BEGIN:STANDARD
TZOFFSETFROM:-0600
TZOFFSETTO:-0700
TZNAME:MST
DTSTART:20251102T080000
END:STANDARD
END:VTIMEZONE
BEGIN:VEVENT
DTSTART;VALUE=DATE:20240424
DTEND;VALUE=DATE:20240425
DTSTAMP:20260420T132259
CREATED:20240311T171136Z
LAST-MODIFIED:20240404T180513Z
UID:20113-1713916800-1714003199@nhccnm.org
SUMMARY:NHCC Book Club
DESCRIPTION:5:00 pm – 7:00 pm \nThe NHCC is thrilled to announce that we will be reconnecting in person with lovers of literature\, folks who love to read\, and those who enjoy talking about the far reaches of Latinidad. We will meet on the last Wednesday of every month in the Center’s HLA Conference Room. \nIn April\, we will be reading Afterlife\, by Julia Alvarez. Afterlife tells the story of an immigrant writer\, reeling from her beloved husband’s sudden death in the wake of her retirement\, whose life is further derailed by the reappearance of her unstable sister and an entreaty for help by a pregnant undocumented teen. \nFree community event. Please let us know who will be attending below.
URL:https://nhccnm.org/event/nhcc-book-club-18/
LOCATION:HLA Conference Room\, 1701 4th Street SW\, Albuquerque\, NM\, 87102
CATEGORIES:Book Club,History and Literary Arts
ATTACH;FMTTYPE=image/png:https://nhccnm.org/wp-content/uploads/2024/03/April-Book-Club-Web-Graphic_.png
END:VEVENT
END:VCALENDAR