BEGIN:VCALENDAR
VERSION:2.0
PRODID:-// - ECPv6.15.14//NONSGML v1.0//EN
CALSCALE:GREGORIAN
METHOD:PUBLISH
X-ORIGINAL-URL:https://nhccnm.org
X-WR-CALDESC:Events for 
REFRESH-INTERVAL;VALUE=DURATION:PT1H
X-Robots-Tag:noindex
X-PUBLISHED-TTL:PT1H
BEGIN:VTIMEZONE
TZID:America/Denver
BEGIN:DAYLIGHT
TZOFFSETFROM:-0700
TZOFFSETTO:-0600
TZNAME:MDT
DTSTART:20230312T090000
END:DAYLIGHT
BEGIN:STANDARD
TZOFFSETFROM:-0600
TZOFFSETTO:-0700
TZNAME:MST
DTSTART:20231105T080000
END:STANDARD
BEGIN:DAYLIGHT
TZOFFSETFROM:-0700
TZOFFSETTO:-0600
TZNAME:MDT
DTSTART:20240310T090000
END:DAYLIGHT
BEGIN:STANDARD
TZOFFSETFROM:-0600
TZOFFSETTO:-0700
TZNAME:MST
DTSTART:20241103T080000
END:STANDARD
BEGIN:DAYLIGHT
TZOFFSETFROM:-0700
TZOFFSETTO:-0600
TZNAME:MDT
DTSTART:20250309T090000
END:DAYLIGHT
BEGIN:STANDARD
TZOFFSETFROM:-0600
TZOFFSETTO:-0700
TZNAME:MST
DTSTART:20251102T080000
END:STANDARD
END:VTIMEZONE
BEGIN:VEVENT
DTSTART;VALUE=DATE:20240405
DTEND;VALUE=DATE:20240406
DTSTAMP:20260419T073942
CREATED:20240329T193952Z
LAST-MODIFIED:20240329T193952Z
UID:20439-1712275200-1712361599@nhccnm.org
SUMMARY:Cervantes Film Series: Relatos de la Resistencia: La Chana
DESCRIPTION:12:00 pm MST (available for 96 hours)\nInstituto Cervantes Vimeo Channel Here \nRelatos de la Resistencia: Buscando un lugar en el mundo \nLa Chana reveals the story of a mythical dancer who rose to stardom and then plunged into anonymity. The profound gaze of director Lucija Stojevic – who has recently returned to portraiture with her documentary Pepi Fandango (2023) – follows her protagonist to understand how the artistic vocation of a woman like her could survive and be recreated throughout her life. \nSynopsis: A self-taught dancer\, Antonia Santiago Amador\, known as la Chana\, lives a quiet life in Catalonia. Between 1960 and 1980\, she was one of the biggest stars of the flamenco world\, astonishing with her innovative\, fast-paced style and inventive use of rhythm. Peter Sellers\, with whom she appeared in The Bobo (1967)\, invited her to Hollywood. And suddenly\, at the peak of her career\, she disappeared from the scene. Decades of dancing have worn out her body. Sensual\, vulnerable\, yet seemingly invincible\, she transports us to the essence of her passion as she returns to the stage after a twenty-five-year hiatus. \nDirector/s: Lucija Stojevic | Year: 2017 | Format: Digital | Running time: Largometraje – 82 min | Genre: Documental | Country: España | Original version: español | Subtitles: inglés\, francés | portugués (de Brasil)\, italiano\, español | Rated: SC \n \nRelators de la Resistencia: Buscando un lugar en el mundo\, the strength of documentary filmmaking in Spain is a phenomenon with three decades of history. The work of the monographic festivals has been crucial to maintain its strength and validity among the public interested in the new expressive forms of cinema\, but also among those who seek in the documentary to know the perspective and experiences of others\, often very distant spatially\, temporally\, and culturally. \nIn collaboration with the DocsBarcelona festival\, this online film series that stars the month of April on our Vimeo channel brings together four documentaries that allow us to meet people whose lives are marked by adventure\, and not always in its most positive interpretation. In addition\, the direction of these works tells us about the place from where we elaborate the stories of loss\, but also those of survival and overcoming. \nPROGRAM\nApril 4: La Chana (2017)\, by Lucija Stojevic\nApril 11: Los Bilbao (2022)\, by Pedro Speroni\nApril 18: Light Falls Vertical (2022)\, by Efthymia Zymvragaki\nApril 25: Querida Sara (2021)\, by Patricia Franquesa
URL:https://nhccnm.org/event/cervantes-film-series-relatos-de-la-resistencia-la-chana/
LOCATION:Virtual
CATEGORIES:Film,Instituto Cervantes
ATTACH;FMTTYPE=image/jpeg:https://nhccnm.org/wp-content/uploads/2024/03/IM_89290_Web.jpg
END:VEVENT
END:VCALENDAR