BEGIN:VCALENDAR
VERSION:2.0
PRODID:-// - ECPv6.15.14//NONSGML v1.0//EN
CALSCALE:GREGORIAN
METHOD:PUBLISH
X-ORIGINAL-URL:https://nhccnm.org
X-WR-CALDESC:Events for 
REFRESH-INTERVAL;VALUE=DURATION:PT1H
X-Robots-Tag:noindex
X-PUBLISHED-TTL:PT1H
BEGIN:VTIMEZONE
TZID:America/Denver
BEGIN:DAYLIGHT
TZOFFSETFROM:-0700
TZOFFSETTO:-0600
TZNAME:MDT
DTSTART:20230312T090000
END:DAYLIGHT
BEGIN:STANDARD
TZOFFSETFROM:-0600
TZOFFSETTO:-0700
TZNAME:MST
DTSTART:20231105T080000
END:STANDARD
BEGIN:DAYLIGHT
TZOFFSETFROM:-0700
TZOFFSETTO:-0600
TZNAME:MDT
DTSTART:20240310T090000
END:DAYLIGHT
BEGIN:STANDARD
TZOFFSETFROM:-0600
TZOFFSETTO:-0700
TZNAME:MST
DTSTART:20241103T080000
END:STANDARD
BEGIN:DAYLIGHT
TZOFFSETFROM:-0700
TZOFFSETTO:-0600
TZNAME:MDT
DTSTART:20250309T090000
END:DAYLIGHT
BEGIN:STANDARD
TZOFFSETFROM:-0600
TZOFFSETTO:-0700
TZNAME:MST
DTSTART:20251102T080000
END:STANDARD
BEGIN:DAYLIGHT
TZOFFSETFROM:-0700
TZOFFSETTO:-0600
TZNAME:MDT
DTSTART:20260308T090000
END:DAYLIGHT
BEGIN:STANDARD
TZOFFSETFROM:-0600
TZOFFSETTO:-0700
TZNAME:MST
DTSTART:20261101T080000
END:STANDARD
BEGIN:DAYLIGHT
TZOFFSETFROM:-0700
TZOFFSETTO:-0600
TZNAME:MDT
DTSTART:20270314T090000
END:DAYLIGHT
BEGIN:STANDARD
TZOFFSETFROM:-0600
TZOFFSETTO:-0700
TZNAME:MST
DTSTART:20271107T080000
END:STANDARD
END:VTIMEZONE
BEGIN:VEVENT
DTSTART;VALUE=DATE:20240913
DTEND;VALUE=DATE:20250728
DTSTAMP:20260422T111918
CREATED:20240823T221531Z
LAST-MODIFIED:20260305T162811Z
UID:21361-1726185600-1753660799@nhccnm.org
SUMMARY:Rendered Presence: Artistas de Nuevo México
DESCRIPTION:Rendered Presence: Artistas de Nuevo México – Guest curated by Vicente Telles\, the exhibition explores artworks by artists living and working throughout New Mexico. Many of the artworks are figurative and created on a scale that challenges limited understandings of New Mexican art. In their own way\, each artist explores identity and the self\, art history\, and the expanse of Hispanic\, Chicana/o/x\, and Latina/o/x contemporary art. \nRendered Presence: Artistas de Nuevo México –  El curador invitado es Vicente Telles y la exhibición explora las obras de arte de artistas viviendo y trabajando por todo Nuevo México. Muchas de las obras de arte son figurativas y creadas en una escala que crea dificultades de comprensión para los que tienen un limitado entendimiento del arte nuevo mexicano. Cada artista\, de su manera personal\, explora la identidad y su ser interior\, la historia del arte y la gran extensión del arte contemporáneo Hispano\, Chicana/o/x y Latina/o/x. \nThis exhibition is generously supported by Bank of America. \nParticipating Artists / Artistas participantes: \nVanessa Alvarado \nBeedallo \nGabriela Campos \nRubén Cantú \nPola Lopez \nAndres Martinez \nIsabela Ortega \nEric Romero \nTravis Ruiz \nMarie Sena \nVicente Telles \nDaisy Quezada Ureña \nJim Vogel \n  \nAbout the curator: \nVicente Telles is a Santero and Cultural Iconographer who is driven by the desire to honor the culture and tradition of his native New Mexico. He began painting traditional retablos using natural pigments created from clays and minerals on homemade gesso\, which is then sealed with an archival varnish. Always looking for ways to push boundaries\, his style has evolved to include various interpretations of traditional Catholic and cultural iconography\, which is evident in his social commentary retablos and his ongoing border culture series. In recent years\, Telles has worked to honor his network of fellow artists and is engaging in opportunities to expand network connections through organizing art shows throughout the southwest. Recently\, he was instrumental in organizing the multi-site exhibition Son de Allí y son de Acá in Albuquerque as well as in San Diego at Chicano Park Museum and Cultural Center. \nAcerca del curador: \nVicente Telles es un Santero y Iconógrafo Cultural que es motivado por su deseo de honrar la cultura y tradiciones de su Nuevo México natal. Comenzó pintando retablos tradicionales usando pigmentos creados de arcillas y minerales en yeserías hecho en casa que después se sella con un barniz de archivo. Siempre buscando nuevos modos de extender los límites\, su estilo se ha evolucionado para incluir varias interpretaciones tradicionales\, católicas y la cultura iconográfica\, evidente en sus comentarios sociales en sus retablos y sus series incesantes de la cultura fronteriza. En los años recientes ha trabajado en homenajear su red de artistas colegas. Está participando en las oportunidades para extender la red de conexiones a través de la organización de exposiciones de arte por todo el sudoeste. Recientemente jugó un papel importante en la organización de sitios múltiples de la exhibición Son de Allí y son de Acá en Albuquerque y San Diego en el Museo del Parque Chicano y Centro Cultural.
URL:https://nhccnm.org/event/rendered-presence-artistas-de-nuevo-mexico/
LOCATION:Visual Art Museum\, 1701 4th Street SW\, Albuquerque\, NM\, 87102\, United States
CATEGORIES:Exhibitions,Visual Arts
ATTACH;FMTTYPE=image/png:https://nhccnm.org/wp-content/uploads/2024/08/Web-Feature-Rendered-Presence_.png
END:VEVENT
BEGIN:VEVENT
DTSTART;VALUE=DATE:20250425
DTEND;VALUE=DATE:20260209
DTSTAMP:20260422T111918
CREATED:20250207T002311Z
LAST-MODIFIED:20260305T162753Z
UID:22383-1745539200-1770595199@nhccnm.org
SUMMARY:Voces del Pueblo: Artists of the Levantamiento Chicano in New Mexico
DESCRIPTION:This is an exhibition 7 years in the making that features a group of New Mexican artists who were among the earliest generation of Chicana and Chicano activists in the state. All 6 artists\, 3 men and 3 women\, were students at New Mexico Highlands University (NMHU) in Las Vegas in the early 1970s when Chicano scholar Pedro Rodríguez was hired as the inaugural Director of Chicano Studies at NMHU. It was at NMHU that these young men and women became politically activated and proceeded to paint murals\, produce art\, and organize in New Mexico as part of the nascent Chicano civil rights movement that was unfolding nationally. The artworks on display capture a distinctly New Mexican Chicana and Chicano experience that has received little attention in Chicano art history. \nArtists: \nIgnacio Jaramillo \nJuanita J. Lavadie \nFrancisco LeFebre \nNoel Márquez \nRoberta Márquez \nAdelita M. Medina \nCurators: \nRay Hernández-Durán\, Ph.D. and Irene Vásquez\, Ph.D.
URL:https://nhccnm.org/event/voces-del-pueblo-artists-of-the-levantamiento-chicano-in-new-mexico/
LOCATION:Visual Art Museum\, 1701 4th Street SW\, Albuquerque\, NM\, 87102\, United States
CATEGORIES:Education
ATTACH;FMTTYPE=image/png:https://nhccnm.org/wp-content/uploads/2025/02/Voces-Web-Square.png
END:VEVENT
BEGIN:VEVENT
DTSTART;VALUE=DATE:20250701
DTEND;VALUE=DATE:20260701
DTSTAMP:20260422T111918
CREATED:20260403T181031Z
LAST-MODIFIED:20260407T162721Z
UID:25999-1751328000-1782863999@nhccnm.org
SUMMARY:Reserve Your tickets Here!
DESCRIPTION:For a list and quick access to events here at the NHCC click here to see a calendar view of all the events listed below: \nClick Here for National Hispanic Culture Center Events Here. 
URL:https://nhccnm.org/event/reserve-your-tickets-here/
LOCATION:NHCC Campus\, 1701 4th Street SW\, Albuquerque\, NM\, 87102
ATTACH;FMTTYPE=image/jpeg:https://nhccnm.org/wp-content/uploads/2024/03/nhcc_corner_logo-2025.jpg
END:VEVENT
BEGIN:VEVENT
DTSTART;VALUE=DATE:20250703
DTEND;VALUE=DATE:20250704
DTSTAMP:20260422T111918
CREATED:20250626T155009Z
LAST-MODIFIED:20250703T143449Z
UID:23596-1751500800-1751587199@nhccnm.org
SUMMARY:Herencia 1776 Ceremony
DESCRIPTION:NOTE: This event has been moved to the Roy E. Disney Center for Performing Arts lobby due to weather. \n9:30 – 10:30 am \nAs part of the arts and diplomacy herencia series at the center\, please join friends and familia for a ceremony sharing the collective history of 1776 between Spain and the United States.  \nCo-hosted with the Spanish Resource Center Education Ministry of Spain. Special guests include renowned poet Aaron Abeyta and historian Dr. Tomas Chavez! The event begins at 9:30am and will be located in the Pete Padilla Manuel Mora Memorial Park inside the National Hispanic Cultural Center.  \nFree Community Event\, please register below.
URL:https://nhccnm.org/event/herencia-1776-ceremony/
LOCATION:Roy E. Disney Center for Performing Arts\, 1701 4th Street SW\, Albuquerque\, NM\, 87102\, United States
CATEGORIES:History and Literary Arts,Seasonal Events,Speakers
ATTACH;FMTTYPE=image/png:https://nhccnm.org/wp-content/uploads/2025/06/Invitation-2.png
END:VEVENT
BEGIN:VEVENT
DTSTART;VALUE=DATE:20250706
DTEND;VALUE=DATE:20250707
DTSTAMP:20260422T111918
CREATED:20250419T155640Z
LAST-MODIFIED:20250621T203424Z
UID:23121-1751760000-1751846399@nhccnm.org
SUMMARY:Visual Arts Museum: First Sunday Free Admission
DESCRIPTION:10:00 am to 4:00 pm \nThe Art Museum presents multiple exhibitions in its three gallery spaces each year and welcomes visitors of all ages. Our three galleries showcase artworks from a range of media that focus on diverse subject matter and examine identity and culture. \nOn the first Sunday of every month\, the Visual Arts Museum is free to all New Mexico residents!
URL:https://nhccnm.org/event/visual-arts-museum-first-sunday-free-admission-38/
LOCATION:Visual Art Museum\, 1701 4th Street SW\, Albuquerque\, NM\, 87102\, United States
CATEGORIES:Visual Arts
ATTACH;FMTTYPE=image/jpeg:https://nhccnm.org/wp-content/uploads/2024/08/VA-Museum-Feature-700x700-1.jpg
END:VEVENT
BEGIN:VEVENT
DTSTART;VALUE=DATE:20250709
DTEND;VALUE=DATE:20250710
DTSTAMP:20260422T111918
CREATED:20250609T175606Z
LAST-MODIFIED:20250609T180308Z
UID:23442-1752019200-1752105599@nhccnm.org
SUMMARY:Stitch Night
DESCRIPTION:5:00 – 7:00 pm \nNHCC | HLA Conference Room \nStitch socially with us on the second Wednesday of the month! Bring whatever knitting\, crocheting\, weaving\, or cross stitch\, or fiber art projects you’re working on\, and join the conversation with your fellow crafters for an informal craft get-together. If you would like to learn the basics of a particular stitching technique\, please bring supplies with you\, though we will always have basic crochet and knitting materials on hand for an impromptu demonstration! \nMeetings will be in the Conference Room of The History and Literary Arts building from 5:00pm-7:00pm. For young adult and adult audiences. \nFree community event. Please let us know who will be attending by registering below.
URL:https://nhccnm.org/event/stitch-night-14/
LOCATION:HLA Conference Room
CATEGORIES:History and Literary Arts,Workshops
ATTACH;FMTTYPE=image/png:https://nhccnm.org/wp-content/uploads/2024/02/Stitch-Night-Web_.png
END:VEVENT
BEGIN:VEVENT
DTSTART;VALUE=DATE:20250712
DTEND;VALUE=DATE:20250713
DTSTAMP:20260422T111918
CREATED:20240702T205124Z
LAST-MODIFIED:20250708T172502Z
UID:23621-1752278400-1752364799@nhccnm.org
SUMMARY:2025 National Spanish Spelling Bee
DESCRIPTION:8:00 am \nNHCC | Albuquerque Journal Theatre \nJoin us at the Center on Saturday\, July 12 for the National Spanish Spelling Bee. The National Spanish Spelling Bee is open to students in grades 4 through 8 who have placed in a state or regional Spanish Spelling Bee during the year of the National Bee. \nParticipants are encouraged to prepare using the official study materials\, which include a list of words and rules for the competition. The event aims to help children develop self-confidence\, communication skills\, and the ability to perform under pressure. \nFor more information\, including registration and resources\, you can visit the official website of the National Spanish Spelling Bee. This event not only promotes literacy but also provides a platform for students to showcase their academic skills in Spanish orthography. \nSchedule: \n\n8:00 am- Arrive at the NHCC\n8:45 am- Introduction of Judges\, Pronouncer\, Sponsors and Participants\n9:00 am- Competition Begins\n12:00 pm- Lunch at the Domenici Education Building\n1:00 pm- Competition Continues\n6:30 pm- National Spanish Spelling Bee Awards Dinner in the Domenici Education Building\n\nQuestions:\nDavid Briseño | (505) 238-6812  | nssbsa@gmail.com\nSilvia Zacarias | (915) 630-8623 | zacariasnssb@gmail.com\nVisit the National Spanish Spelling Bee here: nationalspanishspellingbee.com
URL:https://nhccnm.org/event/2025-national-spanish-spelling-bee/
LOCATION:Roy E. Disney Center for Performing Arts: Albuquerque Journal Theatre\, 1701 4th St SW\, Albuquerque\, NM\, 87102
CATEGORIES:Education,Performing Arts,School and Youth Programs,Workshops
ATTACH;FMTTYPE=image/jpeg:https://nhccnm.org/wp-content/uploads/2025/07/Spelling-Bee-Logo-NHCC.jpg
END:VEVENT
BEGIN:VEVENT
DTSTART;VALUE=DATE:20250712
DTEND;VALUE=DATE:20250713
DTSTAMP:20260422T111918
CREATED:20250621T154654Z
LAST-MODIFIED:20250621T154654Z
UID:23558-1752278400-1752364799@nhccnm.org
SUMMARY:Saturday Special- Torreón Tour: Mundos de Mestizaje
DESCRIPTION:11:00 am \nIn addition to our regularly scheduled Thursday and Friday Torreón Tours\, the National Hispanic Cultural Center now has a newly added Saturday Tour on the second Saturday of every month. This is a guided tour of the Mundos de Mestizaje fresco created by artist Frederico Vigil\, located in the Torreón on the NHCC Campus\, depicting thousands of years of Hispanic culture\, history\, and identity. \nAdmission to the tour is $2 and tickets are available for advance purchase below. Tickets can also be purchased in the New Mexico Mutual Welcome Center\, depending on availability. Capacity for each tour is limited. \nA Vision of History through Fresco…\nMundos de Mestizaje by Frederico Vigil is a mural housed in the Torreón on the campus of the National Hispanic Cultural Center. This monumental fresco depicts thousands of years of Hispanic history highlighting diverse cultural connections between people and places from the Iberian Peninsula to the Americas. The 4\,000 square foot painting is one of the largest frescos in North America. \nThe digitized imagery of the painting ensures that this culturally significant work can be a sharing and learning experience for students and families anywhere. We invite you to explore the imagery\, history and complexities of the Mundos de Mestizaje mural. \nDiscover on your own by clicking the link HERE.\n(It may take a moment to load.  Microsoft Internet Explorer is NOT recommended.  Best experienced with Safari\, Firefox or Chrome.
URL:https://nhccnm.org/event/saturday-special-torreon-tour-mundos-de-mestizaje-3/
LOCATION:NHCC Torreón\, 1701 4th street SW\, Albuquerque\, NM\, 87102\, United States
CATEGORIES:Education,History and Literary Arts,Visual Arts,Workshops
ATTACH;FMTTYPE=image/jpeg:https://nhccnm.org/wp-content/uploads/2025/04/NHCC-Torreon-Fresco-1200x1200-1.jpg
END:VEVENT
BEGIN:VEVENT
DTSTART;VALUE=DATE:20250713
DTEND;VALUE=DATE:20250714
DTSTAMP:20260422T111918
CREATED:20250626T171402Z
LAST-MODIFIED:20250710T193608Z
UID:23604-1752364800-1752451199@nhccnm.org
SUMMARY:New Mexico Entertainment Awards
DESCRIPTION:5:30 pm VIP Meet & Greet\n6:00 pm Doors Open and Red Carpet\n7:00 pm Awards Ceremony \nThe New Mexico Entertainment Magazine Awards is an annual event that honors individuals\, businesses\, and organizations contributing to the state’s vibrant entertainment scene. This formal gala recognizes excellence in categories like live events\, film\, radio\, music\, comedy\, arts\, books\, and nightlife. Our goal is to spotlight the talented people and groups who consistently deliver quality entertainment across New Mexico. This year\, 55 categories will be honored\, including the Icon Award presentation to radio legend Bobby Box! \nApproximate run time of event: 3 and a half hours \n$29 General Admission \n\n*The event is a rental event not an NHCC production. The title\, content\, photos/images and description for this event were provided to the NHCC by the organization renting the NHCC venue for the event. By serving as a venue and posting the event on its website\, the NHCC is not endorsing any views expressed in the title or description of the event\, nor is it endorsing the content of the event. \n*All NHCC performance/event ticket sales go through the National Hispanic Cultural Center Website. NHCC is a division of New Mexico Department of Cultural Affairs. You will be redirected to our central ticketing system. DO NOT BUY FROM THIRD PARTIES. If you see a third party app or website\, please report it to the Center at (505) 246-2261. \n 
URL:https://nhccnm.org/event/new-mexico-entertainment-awards/
LOCATION:Roy E. Disney Center for Performing Arts: Albuquerque Journal Theatre\, 1701 4th St SW\, Albuquerque\, NM\, 87102
CATEGORIES:Dance,Film,Music,Performing Arts,Rental,Theatre
ATTACH;FMTTYPE=image/jpeg:https://nhccnm.org/wp-content/uploads/2025/06/NME-Awards-graphic-1.jpg
END:VEVENT
BEGIN:VEVENT
DTSTART;VALUE=DATE:20250715
DTEND;VALUE=DATE:20250716
DTSTAMP:20260422T111918
CREATED:20250612T195522Z
LAST-MODIFIED:20250612T195522Z
UID:23412-1752537600-1752623999@nhccnm.org
SUMMARY:Early Childhood Bilingual Storytime
DESCRIPTION:10:00 am \nNHCC | HLA Library \nStories come to life through art\, movement\, and more! For children ages 3 to 5 and caregivers. \nBilingual Storytime is designed for children ages 3 to 5 and their caregivers. For school\, childcare\, or homeschool groups; please reach out to NHCC Librarian Amy Padilla at amy.padilla@dca.nm.gov or the NHCC HLA Interim Program Manager Robin Moses at robin.moses@dca.nm.gov to find out about group options and available dates. We are unable to accommodate these groups during the Bilingual Storytime on third Tuesdays. \nFree community event\, generously supported by NM Gas. Please let us know who will be attending by registering below.
URL:https://nhccnm.org/event/early-childhood-bilingual-storytime-18/
LOCATION:NHCC Library\, 1701 4th Street SW\, Albuquerque\, NM\, 87102
CATEGORIES:Book Club,Education,History and Literary Arts,School and Youth Programs,Workshops
ATTACH;FMTTYPE=image/png:https://nhccnm.org/wp-content/uploads/2025/01/Yellow-Bilingual.png
END:VEVENT
BEGIN:VEVENT
DTSTART;VALUE=DATE:20250717
DTEND;VALUE=DATE:20250718
DTSTAMP:20260422T111918
CREATED:20250130T210632Z
LAST-MODIFIED:20250717T172216Z
UID:22319-1752710400-1752796799@nhccnm.org
SUMMARY:NHCC Summer Film Series: El Norte
DESCRIPTION:7:00 pm\n6:00 pm cash bar with Pop Fizz  \nNHCC | Wells Fargo Auditorium \nThe NHCC Summer Film Series features Hispanic filmmakers that preserve our stories\, promote our experiences and advance the vast cultural identity of our gente. \nAfter an unsuccessful attempt by a community of Mayan Indians to improve their living conditions\, the Guatemalan army destroys their village. Brother and sister are able to escape and begin their challenging journey towards a new life in the USA. \nDirector(s): Gregory Nava | Production year: 1983 | Rating: R | Studio: Lions Gate Films\, Inc. | Runtime: 139 minutes | Cast: David Villalpando\, Zaide Silvia Gutierrez\, Ernesto Gómez Cruz\, Alicia Del Lago\, Eraclio Zepeda \nFree community event. Please let us know who will be attending by making a reservation below.
URL:https://nhccnm.org/event/nhcc-summer-film-series/
LOCATION:Roy E. Disney Center for Performing Arts: Wells Fargo Auditorium\, 1701 4th Street SW\, Albuquerque\, NM\, 87102
CATEGORIES:Film,Theatre
ATTACH;FMTTYPE=image/jpeg:https://nhccnm.org/wp-content/uploads/2025/01/el-norte-website-graphic.jpg
END:VEVENT
BEGIN:VEVENT
DTSTART;VALUE=DATE:20250717
DTEND;VALUE=DATE:20250718
DTSTAMP:20260422T111918
CREATED:20250317T070046Z
LAST-MODIFIED:20250711T200150Z
UID:22624-1752710400-1752796799@nhccnm.org
SUMMARY:AMP Concerts: Flor de Toloache
DESCRIPTION:7:30 pm \nAMP Concerts presents Flor de Toloache. Latin Grammy® winning\, New York-based\, all-female ensemble Flor de Toloache continue to win the hearts of both progressive and traditional mariachi music fans alike through their distinct artistic vision and sophisticated\, enlightened interpretation of traditional mariachi instruments. The female quartet’s diverse ethnicities and musical backgrounds have also transcended culture and gender by forging new paths. Catch Flor de Toloache in Albuquerque before they head up to Taos for She Rises III! \n$24\, $34\, & $44\, discounts for kids 12 and younger \nApproximate time of event: 2 hours including intermission. \n\n*The event is a rental event not an NHCC production. The title\, content\, photos/images and description for this event were provided to the NHCC by the organization renting the NHCC venue for the event. By serving as a venue and posting the event on its website\, the NHCC is not endorsing any views expressed in the title or description of the event\, nor is it endorsing the content of the event. \n*All NHCC performance/event ticket sales go through the National Hispanic Cultural Center Website. NHCC is a division of New Mexico Department of Cultural Affairs. You will be redirected to our central ticketing system. DO NOT BUY FROM THIRD PARTIES. If you see a third party app or website\, please report it to the Center at (505) 246-2261.
URL:https://nhccnm.org/event/amp-concerts-flor-de-toloache-2/
LOCATION:Roy E. Disney Center for Performing Arts: Bank of America Theatre\, 1701 4th Street SW\, Albuquerque\, NM\, 87102
CATEGORIES:Dance,Music,Performing Arts,Rental
ATTACH;FMTTYPE=image/jpeg:https://nhccnm.org/wp-content/uploads/2025/03/Flor-de-Toloache-cKelvin-Pagan-1200.jpg
END:VEVENT
BEGIN:VEVENT
DTSTART;VALUE=DATE:20250720
DTEND;VALUE=DATE:20250721
DTSTAMP:20260422T111918
CREATED:20250502T221831Z
LAST-MODIFIED:20250605T202045Z
UID:23203-1752969600-1753055999@nhccnm.org
SUMMARY:On Point Dance Studio: Moonwalk Magic
DESCRIPTION:6:00 pm \nNHCC | Albuquerque Journal Theatre \nOn Point Dance Studio presents Moonwalk Magic\, which includes performances from our mini-3-year-old dancers all the way through our high school dancers. We will be showcasing different genres of dance\, including Jazz\, Hip Hop\, Ballet\, Folklorico\, Contemporary and Tumbling. Our amazing competitive teams will be making an appearance\, and the teachers will also be celebrating the best of Michael Jackson and his music! We’ll be Thrilled to have you join us. \n$25\, $30 & $35 \nOn Point Dance Company’s production of Moonwalk Magic will go on sale starting on Monday\, June 9\, 2025 at 10:00 am. \n\n*The event is a rental event not an NHCC production. The title\, content\, photos/images and description for this event were provided to the NHCC by the organization renting the NHCC venue for the event. By serving as a venue and posting the event on its website\, the NHCC is not endorsing any views expressed in the title or description of the event\, nor is it endorsing the content of the event.
URL:https://nhccnm.org/event/on-point-dance-studio-moonwalk-magic/
LOCATION:Roy E. Disney Center for Performing Arts: Albuquerque Journal Theatre\, 1701 4th St SW\, Albuquerque\, NM\, 87102
CATEGORIES:Dance,Education,Music,Performing Arts,Rental
ATTACH;FMTTYPE=image/jpeg:https://nhccnm.org/wp-content/uploads/2025/05/On-Point-Dance-Studio-Logo-scaled.jpg
END:VEVENT
BEGIN:VEVENT
DTSTART;VALUE=DATE:20250720
DTEND;VALUE=DATE:20250721
DTSTAMP:20260422T111918
CREATED:20250711T214821Z
LAST-MODIFIED:20250714T211437Z
UID:23706-1752969600-1753055999@nhccnm.org
SUMMARY:Artist Chisme: Creative Conversations
DESCRIPTION:2:00 to 4:00 pm  \nJoin the curator and artist Vicente Telles along with artists Vanessa Alvarado\, Eric Romero\, and Daisy Quezada Ureña for a fun and casual afternoon celebrating the NHCC art exhibition Rendered Presence: Artistas de Nuevo México.  \nAttendees will have a chance to walk through the exhibit with the artists. Community\, artists and NHCC staff will sit and relax in the museum while participating in engaging conversation. The chisme will continue over light refreshments served in the museum courtyard. \nFree community event\, please register using the link below. For more information about this event\, contact Education Program Manager Elena Baca at 505-220-7928 or ElenaD.Baca@dca.nm.gov. To learn more about our guest artists please check out their websites.  \nVicente Telles  \nVanessa Alvarado – Albuquerque Fine Arts Oil Painter  \nEric Romero Art  \nDaisy Quezada Ureña
URL:https://nhccnm.org/event/artist-chisme-creative-conversations-2/
LOCATION:Visual Art Museum\, 1701 4th Street SW\, Albuquerque\, NM\, 87102\, United States
CATEGORIES:Education,Food,Speakers,Visual Arts
ATTACH;FMTTYPE=image/png:https://nhccnm.org/wp-content/uploads/2025/07/Web-Graphic-Chisme.png
END:VEVENT
BEGIN:VEVENT
DTSTART;VALUE=DATE:20250723
DTEND;VALUE=DATE:20250724
DTSTAMP:20260422T111918
CREATED:20250612T201808Z
LAST-MODIFIED:20250628T180805Z
UID:23430-1753228800-1753315199@nhccnm.org
SUMMARY:NHCC Book Club: The Seventh Veil of Salome by Silvia Moreno-Garcia
DESCRIPTION:6:00 pm – 7:30 pm \nNHCC | HLA Conference Room \nThe NHCC invites lovers of literature\, folks who love to read\, and those who enjoy talking about the history and vast the array of identities that contribute to Latinidad/Hispanidad to join us! We will meet on the fourth Wednesday of every month in the Center’s HLA Conference Room. \nFor the month of July\, we will be reading Silvia Moreno-Garcia’s The Seventh Veil of Salome. In 1950s Hollywood\, when an unknown Mexican ingenue is cast as Salome\, a star-making role in a big-budget movie about the legendary heroine\, she becomes the object of envy of Nancy Hartley\, a bit player who will do anything to win the fame she believes she richly deserves. \nFree community event. Please let us know who will be attending by registering below.
URL:https://nhccnm.org/event/nhcc-book-club-29/
LOCATION:HLA Conference Room
CATEGORIES:Book Club,History and Literary Arts,Workshops
ATTACH;FMTTYPE=image/jpeg:https://nhccnm.org/wp-content/uploads/2025/06/Book-Club-The-Seventh-Veil-of-Salome-graphic-C.jpg
END:VEVENT
END:VCALENDAR