BEGIN:VCALENDAR
VERSION:2.0
PRODID:-// - ECPv6.15.14//NONSGML v1.0//EN
CALSCALE:GREGORIAN
METHOD:PUBLISH
X-ORIGINAL-URL:https://nhccnm.org
X-WR-CALDESC:Events for 
REFRESH-INTERVAL;VALUE=DURATION:PT1H
X-Robots-Tag:noindex
X-PUBLISHED-TTL:PT1H
BEGIN:VTIMEZONE
TZID:America/Denver
BEGIN:DAYLIGHT
TZOFFSETFROM:-0700
TZOFFSETTO:-0600
TZNAME:MDT
DTSTART:20240310T090000
END:DAYLIGHT
BEGIN:STANDARD
TZOFFSETFROM:-0600
TZOFFSETTO:-0700
TZNAME:MST
DTSTART:20241103T080000
END:STANDARD
BEGIN:DAYLIGHT
TZOFFSETFROM:-0700
TZOFFSETTO:-0600
TZNAME:MDT
DTSTART:20250309T090000
END:DAYLIGHT
BEGIN:STANDARD
TZOFFSETFROM:-0600
TZOFFSETTO:-0700
TZNAME:MST
DTSTART:20251102T080000
END:STANDARD
BEGIN:DAYLIGHT
TZOFFSETFROM:-0700
TZOFFSETTO:-0600
TZNAME:MDT
DTSTART:20260308T090000
END:DAYLIGHT
BEGIN:STANDARD
TZOFFSETFROM:-0600
TZOFFSETTO:-0700
TZNAME:MST
DTSTART:20261101T080000
END:STANDARD
BEGIN:DAYLIGHT
TZOFFSETFROM:-0700
TZOFFSETTO:-0600
TZNAME:MDT
DTSTART:20270314T090000
END:DAYLIGHT
BEGIN:STANDARD
TZOFFSETFROM:-0600
TZOFFSETTO:-0700
TZNAME:MST
DTSTART:20271107T080000
END:STANDARD
END:VTIMEZONE
BEGIN:VEVENT
DTSTART;VALUE=DATE:20250425
DTEND;VALUE=DATE:20260209
DTSTAMP:20260420T183556
CREATED:20250207T002311Z
LAST-MODIFIED:20260305T162753Z
UID:22383-1745539200-1770595199@nhccnm.org
SUMMARY:Voces del Pueblo: Artists of the Levantamiento Chicano in New Mexico
DESCRIPTION:This is an exhibition 7 years in the making that features a group of New Mexican artists who were among the earliest generation of Chicana and Chicano activists in the state. All 6 artists\, 3 men and 3 women\, were students at New Mexico Highlands University (NMHU) in Las Vegas in the early 1970s when Chicano scholar Pedro Rodríguez was hired as the inaugural Director of Chicano Studies at NMHU. It was at NMHU that these young men and women became politically activated and proceeded to paint murals\, produce art\, and organize in New Mexico as part of the nascent Chicano civil rights movement that was unfolding nationally. The artworks on display capture a distinctly New Mexican Chicana and Chicano experience that has received little attention in Chicano art history. \nArtists: \nIgnacio Jaramillo \nJuanita J. Lavadie \nFrancisco LeFebre \nNoel Márquez \nRoberta Márquez \nAdelita M. Medina \nCurators: \nRay Hernández-Durán\, Ph.D. and Irene Vásquez\, Ph.D.
URL:https://nhccnm.org/event/voces-del-pueblo-artists-of-the-levantamiento-chicano-in-new-mexico/
LOCATION:Visual Art Museum\, 1701 4th Street SW\, Albuquerque\, NM\, 87102\, United States
CATEGORIES:Education
ATTACH;FMTTYPE=image/png:https://nhccnm.org/wp-content/uploads/2025/02/Voces-Web-Square.png
END:VEVENT
BEGIN:VEVENT
DTSTART;VALUE=DATE:20250905
DTEND;VALUE=DATE:20260608
DTSTAMP:20260420T183556
CREATED:20250805T155202Z
LAST-MODIFIED:20260305T162010Z
UID:23884-1757030400-1780876799@nhccnm.org
SUMMARY:What We Bring to the Table
DESCRIPTION:To celebrate the National Hispanic Cultural Center’s 25th birthday\, we explore artworks created by the artists who spend their days (and nights) keeping the Center going. What We Bring to the Table will be on view in the NHCC Visual Art Museum Community Gallery beginning September 5th. \nFeatured Artworks by: \nAdri De La Cruz\, Visual Arts Set & Exhibition Designer \nAnna Lee DeSaulniers\, Film Coordinator \nAmy Padilla\, History & Literacy Arts Librarian \nChristopher Acevedo\, Visual & Performing Arts Set & Exhibition Designer \nElena Baca\, Education Program Manager \nGabriella Vigil\, Event Coordinator \nhazel batrezchavez\, Curator \nJacob Saavedra\, Customer Service Representative \nJames R. Chávez\, Business Operations Specialist \nJoe Stephensen\, Contractor \nJosh Barreras\, Campus Safety & Security. \nKatie Rooke\, Graphic Designer. \nKim Arthun\, Contractor. \nPetra Brown\, History & Literacy Arts Digitization Project Manager. \nRalph Trujillo\, Custodial. \nRosemary Castro-Gallegos\, Performing Arts Set & Exhibition Designer. \nRobin Sanchez\, Interim History & Literary Arts Program Manager & Archivist. \nSamantha\, Campus Safety & Security.
URL:https://nhccnm.org/event/what-we-bring-to-the-table/
LOCATION:Visual Art Museum\, 1701 4th Street SW\, Albuquerque\, NM\, 87102\, United States
CATEGORIES:Visual Arts
ATTACH;FMTTYPE=image/png:https://nhccnm.org/wp-content/uploads/2025/07/Web-1.png
END:VEVENT
BEGIN:VEVENT
DTSTART;VALUE=DATE:20260201
DTEND;VALUE=DATE:20260202
DTSTAMP:20260420T183556
CREATED:20251108T211919Z
LAST-MODIFIED:20260311T204744Z
UID:24444-1769904000-1769990399@nhccnm.org
SUMMARY:Visual Arts Museum: First Sunday Free Admission
DESCRIPTION:Sunday\, February 1\, 2026\n10:00 am to 4:00 pm \nThe Art Museum presents multiple exhibitions in its three gallery spaces each year and welcomes visitors of all ages. Our three galleries showcase artworks from a range of media that focus on diverse subject matter and examine identity and culture. \nOn the first Sunday of every month\, the Visual Arts Museum is free to all New Mexico residents! \nPLEASE MAKE YOUR RESERVATION HERE! \n 
URL:https://nhccnm.org/event/visual-arts-museum-first-sunday-free-admission-45/
LOCATION:Visual Art Museum\, 1701 4th Street SW\, Albuquerque\, NM\, 87102\, United States
ATTACH;FMTTYPE=image/jpeg:https://nhccnm.org/wp-content/uploads/2024/08/VA-Museum-Feature-700x700-1.jpg
END:VEVENT
BEGIN:VEVENT
DTSTART;VALUE=DATE:20260214
DTEND;VALUE=DATE:20260215
DTSTAMP:20260420T183556
CREATED:20251108T214547Z
LAST-MODIFIED:20260311T200845Z
UID:24462-1771027200-1771113599@nhccnm.org
SUMMARY:Saturday Special- Torreón Tour: Mundos de Mestizaje
DESCRIPTION:Saturday\, February 14\, 2026\n11:00 am \nIn addition to our regularly scheduled Thursday and Friday Torreón Tours\, the National Hispanic Cultural Center now has a newly added Saturday Tour on the second Saturday of every month. This is a guided tour of the Mundos de Mestizaje fresco created by artist Frederico Vigil\, located in the Torreón on the NHCC Campus\, depicting thousands of years of Hispanic culture\, history\, and identity. \nAdmission to the tour is $2 and tickets are available for advance purchase below. Tickets can also be purchased in the New Mexico Mutual Welcome Center\, depending on availability. Capacity for each tour is limited. \nPLEASE MAKE YOUR RESERVATION HERE! \nA Vision of History through Fresco…\nMundos de Mestizaje by Frederico Vigil is a mural housed in the Torreón on the campus of the National Hispanic Cultural Center. This monumental fresco depicts thousands of years of Hispanic history highlighting diverse cultural connections between people and places from the Iberian Peninsula to the Americas. The 4\,000 square foot painting is one of the largest frescos in North America. \nThe digitized imagery of the painting ensures that this culturally significant work can be a sharing and learning experience for students and families anywhere. We invite you to explore the imagery\, history and complexities of the Mundos de Mestizaje mural. \nDiscover on your own by clicking the link HERE.\n(It may take a moment to load.  Microsoft Internet Explorer is NOT recommended.  Best experienced with Safari\, Firefox or Chrome.
URL:https://nhccnm.org/event/saturday-special-torreon-tour-mundos-de-mestizaje-january-10-2/
LOCATION:NHCC Torreón\, 1701 4th street SW\, Albuquerque\, NM\, 87102\, United States
ATTACH;FMTTYPE=image/jpeg:https://nhccnm.org/wp-content/uploads/2025/04/NHCC-Torreon-Fresco-1200x1200-1.jpg
END:VEVENT
END:VCALENDAR