BEGIN:VCALENDAR
VERSION:2.0
PRODID:-// - ECPv6.15.14//NONSGML v1.0//EN
CALSCALE:GREGORIAN
METHOD:PUBLISH
X-ORIGINAL-URL:https://nhccnm.org
X-WR-CALDESC:Events for 
REFRESH-INTERVAL;VALUE=DURATION:PT1H
X-Robots-Tag:noindex
X-PUBLISHED-TTL:PT1H
BEGIN:VTIMEZONE
TZID:America/Denver
BEGIN:DAYLIGHT
TZOFFSETFROM:-0700
TZOFFSETTO:-0600
TZNAME:MDT
DTSTART:20180311T090000
END:DAYLIGHT
BEGIN:STANDARD
TZOFFSETFROM:-0600
TZOFFSETTO:-0700
TZNAME:MST
DTSTART:20181104T080000
END:STANDARD
BEGIN:DAYLIGHT
TZOFFSETFROM:-0700
TZOFFSETTO:-0600
TZNAME:MDT
DTSTART:20190310T090000
END:DAYLIGHT
BEGIN:STANDARD
TZOFFSETFROM:-0600
TZOFFSETTO:-0700
TZNAME:MST
DTSTART:20191103T080000
END:STANDARD
BEGIN:DAYLIGHT
TZOFFSETFROM:-0700
TZOFFSETTO:-0600
TZNAME:MDT
DTSTART:20200308T090000
END:DAYLIGHT
BEGIN:STANDARD
TZOFFSETFROM:-0600
TZOFFSETTO:-0700
TZNAME:MST
DTSTART:20201101T080000
END:STANDARD
END:VTIMEZONE
BEGIN:VEVENT
DTSTART;VALUE=DATE:20190927
DTEND;VALUE=DATE:20191007
DTSTAMP:20260420T130624
CREATED:20190524T211338Z
LAST-MODIFIED:20190524T211338Z
UID:7236-1569542400-1570406399@nhccnm.org
SUMMARY:Sandia Performing Arts Company Presents Rosalie’s Magic Rocks
DESCRIPTION:Friday-Sunday\, September 27-29 & October 4-6\, 2019\n7:30 pm—Friday & Saturday\n2 pm—Sunday \nSandia Performing Arts Company presents the world premiere of Rosalie’s Magic Rocks\, a tale of how life changes for an enterprising young Latina. Rosalie goes to live with her grandfather\, and\, misinterpreting his advice\, begins selling magic rocks at her school. When she gets into trouble\, her abuelo assists her in finding a solution. This story of coming of age in Hispanic New Mexico\, a “Latino version of Tom Sawyer\,” is based on real-life events. It features a cast of young actors\, and will delight younger\, as well as adult\, audiences. \n$20 w/ $2 discount for seniors\, students and NHCC members; $12 for children 12 and under  \nThank you to our Performing Arts Season Sponsors Heritage Hotels and Resorts\, the Albuquerque Journal and Southwest Airlines!
URL:https://nhccnm.org/event/sandia-performing-arts-company-presents-rosalies-magic-rocks/
LOCATION:NHCC-BOD-January-2020-Meeting
CATEGORIES:Performing Arts,Theatre
ATTACH;FMTTYPE=image/jpeg:https://nhccnm.org/wp-content/uploads/2019/05/Rosalies-Magic-Rocks-Graphic.jpg
END:VEVENT
BEGIN:VEVENT
DTSTART;VALUE=DATE:20191003
DTEND;VALUE=DATE:20191004
DTSTAMP:20260420T130624
CREATED:20181229T212911Z
LAST-MODIFIED:20181229T212911Z
UID:6071-1570060800-1570147199@nhccnm.org
SUMMARY:¡HAH! Happy Arte Hour
DESCRIPTION:5:30 pm to 7:30 pm \nOn the first Thursday of the month\, NHCC invites adults for artistic fun in a relaxed social setting\, which includes snacks\, refreshments\, and beer & wine for sale from Pop Fizz. This is a great opportunity for friends to hang out\, a unique date night option\, or a place to come solo and connect with fellow art enthusiasts.\nPlease pre-register using the link HERE (so we know how many materials to prepare) \nFor more information please call or email Elena Baca at 505-246-2261 or ElenaD.Baca@state.nm.us \nFree\, $5 donations are encouraged to support the artists & purchase supplies
URL:https://nhccnm.org/event/hah-happy-arte-hour-38/
LOCATION:NM
CATEGORIES:Education,Food,Workshops
ATTACH;FMTTYPE=image/jpeg:https://nhccnm.org/wp-content/uploads/2016/12/HAH-2017-WebsiteBanner.jpg
END:VEVENT
BEGIN:VEVENT
DTSTART;VALUE=DATE:20191010
DTEND;VALUE=DATE:20191011
DTSTAMP:20260420T130624
CREATED:20191003T175337Z
LAST-MODIFIED:20191003T175337Z
UID:8068-1570665600-1570751999@nhccnm.org
SUMMARY:Film: Sueño en Otro Idioma/I Dream in Another Language
DESCRIPTION:7 pm \nWhen a young linguist travels into a rural area of Veracruz to record conversations between the last speakers of Zikril\, a dying indigenous language\, he discovers that the language is at the point of disappearing\, as the last two speakers had a fight 50 years ago and have refused to speak to each other ever since. Trying to bring the two old friends back together\, he discovers that a secret from the past\, concealed by the language\, will make it difficult for the heart of Zikril to beat again. Presented as part of the Bank of America Free Thursday Film Series. \n2017; directed by Ernesto Contreras; Spanish with English subtitles; 103 minutes; not rated. \nFree ticketed event; tickets available one hour before show
URL:https://nhccnm.org/event/film-i-dream-in-another-language-sueno-en-otro-idioma/
LOCATION:NHCC-Newsletter-November-2-30
CATEGORIES:Film,Performing Arts,Theatre
ATTACH;FMTTYPE=image/jpeg:https://nhccnm.org/wp-content/uploads/2019/10/I-Dream-in-Another-Language-Sueno-en-Otro-Idioma-poster-2.jpg
END:VEVENT
BEGIN:VEVENT
DTSTART;VALUE=DATE:20191024
DTEND;VALUE=DATE:20191025
DTSTAMP:20260420T130624
CREATED:20191003T180726Z
LAST-MODIFIED:20191003T180726Z
UID:8075-1571875200-1571961599@nhccnm.org
SUMMARY:Film: Don’t Swallow My Heart\, Alligator Girl!/Não Devore Meu Coração
DESCRIPTION:7 pm \nOn the turbulent border of modern-day Brazil and Paraguay\, marked by the waters of the Río Apa\, a war is brewing between rival gangs on either side. Caught in the middle of it all\, Joca\, a Brazilian boy of 13\, has fallen in love with Basano La Tatuada\, an indigenous Paraguayan girl living on the border\, and is determined to win her over regardless of the consequences. As Joca’s brother Fernando becomes heavily embroiled in the hostilities\, and Basano is threatened by the unwanted affections of an older boy in her village\, Joca is forced to confront where his own loyalties lie. Presented as part of the Bank of America Free Thursday Film Series. \n2017; directed by Felipe Bragança; Portuguese with English subtitles; 106 minutes; not rated. \nFree ticketed event; tickets available one hour before show
URL:https://nhccnm.org/event/film-dont-swallow-my-heart-alligator-girl-nao-devore-meu-coracao/
LOCATION:NHCC-Newsletter-November-2-30
CATEGORIES:Film,Performing Arts,Theatre
ATTACH;FMTTYPE=image/jpeg:https://nhccnm.org/wp-content/uploads/2019/10/Dont-Swallow-My-Heart-Alligator-Girl-Nao-devore-meu-coracao-poster-1.jpg
END:VEVENT
BEGIN:VEVENT
DTSTART;VALUE=DATE:20191029
DTEND;VALUE=DATE:20191030
DTSTAMP:20260420T130624
CREATED:20190606T174838Z
LAST-MODIFIED:20190606T174838Z
UID:7415-1572307200-1572393599@nhccnm.org
SUMMARY:¡Baile! Casino (Cuban Salsa) Dance Class
DESCRIPTION:6 pm to 8:15 pm \n6 pm to 7:15 pm—Beginning and Intermediate Class.\nNo experience is necessary to participate in this class. \n7:15 pm to 8:15 pm—Advanced Class\nIn order to participate in this class\, dancers must come to at least one 6 pm class and be familiar with the vocabulary and movement introduced in these classes. \nDance classes are taught by Larry Heard and Rueda 505 Friends. \nThere is no need to pre-register; just show up in comfortable clothes ready to dance! For more information\, call 505-246-2261. \n$5 to $10 per class (pay what you can)
URL:https://nhccnm.org/event/baile-casino-cuban-salsa-dance-class-16/
LOCATION:NHCC-Newsletter-August-11-–-24
CATEGORIES:Dance,Dance Classes,Performing Arts,Workshops
ATTACH;FMTTYPE=image/jpeg:https://nhccnm.org/wp-content/uploads/2016/12/BaileHomeBanner-tall.jpg
END:VEVENT
END:VCALENDAR