BEGIN:VCALENDAR
VERSION:2.0
PRODID:-// - ECPv6.15.14//NONSGML v1.0//EN
CALSCALE:GREGORIAN
METHOD:PUBLISH
X-ORIGINAL-URL:https://nhccnm.org
X-WR-CALDESC:Events for 
REFRESH-INTERVAL;VALUE=DURATION:PT1H
X-Robots-Tag:noindex
X-PUBLISHED-TTL:PT1H
BEGIN:VTIMEZONE
TZID:America/Denver
BEGIN:DAYLIGHT
TZOFFSETFROM:-0700
TZOFFSETTO:-0600
TZNAME:MDT
DTSTART:20190310T090000
END:DAYLIGHT
BEGIN:STANDARD
TZOFFSETFROM:-0600
TZOFFSETTO:-0700
TZNAME:MST
DTSTART:20191103T080000
END:STANDARD
BEGIN:DAYLIGHT
TZOFFSETFROM:-0700
TZOFFSETTO:-0600
TZNAME:MDT
DTSTART:20200308T090000
END:DAYLIGHT
BEGIN:STANDARD
TZOFFSETFROM:-0600
TZOFFSETTO:-0700
TZNAME:MST
DTSTART:20201101T080000
END:STANDARD
BEGIN:DAYLIGHT
TZOFFSETFROM:-0700
TZOFFSETTO:-0600
TZNAME:MDT
DTSTART:20210314T090000
END:DAYLIGHT
BEGIN:STANDARD
TZOFFSETFROM:-0600
TZOFFSETTO:-0700
TZNAME:MST
DTSTART:20211107T080000
END:STANDARD
END:VTIMEZONE
BEGIN:VEVENT
DTSTART;VALUE=DATE:20200107
DTEND;VALUE=DATE:20200108
DTSTAMP:20260421T132033
CREATED:20191204T205154Z
LAST-MODIFIED:20191204T205154Z
UID:8533-1578355200-1578441599@nhccnm.org
SUMMARY:¡Baile! Casino (Cuban Salsa) Dance Class
DESCRIPTION:6 pm to 8:15 pm \n6 pm to 7:15 pm—Beginning and Intermediate Class.\nNo experience is necessary to participate in this class. \n7:15 pm to 8:15 pm—Advanced Class\nIn order to participate in this class\, dancers must come to at least one 6 pm class and be familiar with the vocabulary and movement introduced in these classes. \nDance classes are taught by Larry Heard and Rueda 505 Friends. \nThere is no need to pre-register; just show up in comfortable clothes ready to dance! For more information\, call 505-246-2261. \n$5 to $10 per class (pay what you can)
URL:https://nhccnm.org/event/baile-casino-cuban-salsa-dance-class-24/
LOCATION:NHCC-Newsletter-August-11-–-24
CATEGORIES:Dance,Dance Classes,Education,Performing Arts,Workshops
ATTACH;FMTTYPE=image/jpeg:https://nhccnm.org/wp-content/uploads/2019/12/Baile-400x600-1.jpg
END:VEVENT
BEGIN:VEVENT
DTSTART;VALUE=DATE:20200114
DTEND;VALUE=DATE:20200115
DTSTAMP:20260421T132033
CREATED:20191204T210033Z
LAST-MODIFIED:20191204T210033Z
UID:8536-1578960000-1579046399@nhccnm.org
SUMMARY:¡Baile! Casino (Cuban Salsa) Dance Class
DESCRIPTION:6 pm to 8:15 pm \n6 pm to 7:15 pm—Beginning and Intermediate Class.\nNo experience is necessary to participate in this class. \n7:15 pm to 8:15 pm—Advanced Class\nIn order to participate in this class\, dancers must come to at least one 6 pm class and be familiar with the vocabulary and movement introduced in these classes. \nDance classes are taught by Larry Heard and Rueda 505 Friends. \nThere is no need to pre-register; just show up in comfortable clothes ready to dance! For more information\, call 505-246-2261. \n$5 to $10 per class (pay what you can)
URL:https://nhccnm.org/event/baile-casino-cuban-salsa-dance-class-25/
LOCATION:NHCC-Newsletter-August-11-–-24
CATEGORIES:Dance,Dance Classes,Education,Performing Arts,Workshops
ATTACH;FMTTYPE=image/jpeg:https://nhccnm.org/wp-content/uploads/2019/12/Baile-400x600-1.jpg
END:VEVENT
BEGIN:VEVENT
DTSTART;VALUE=DATE:20200121
DTEND;VALUE=DATE:20200122
DTSTAMP:20260421T132033
CREATED:20191219T192819Z
LAST-MODIFIED:20191219T192819Z
UID:8651-1579564800-1579651199@nhccnm.org
SUMMARY:¡Baile! Casino (Cuban Salsa) Dance Class
DESCRIPTION:6 pm to 8:15 pm \n6 pm to 7:15 pm—Beginning and Intermediate Class.\nNo experience is necessary to participate in this class. \n7:15 pm to 8:15 pm—Advanced Class\nIn order to participate in this class\, dancers must come to at least one 6 pm class and be familiar with the vocabulary and movement introduced in these classes. \nDance classes are taught by Larry Heard and Rueda 505 Friends. \nThere is no need to pre-register; just show up in comfortable clothes ready to dance! For more information\, call 505-246-2261. \n$5 to $10 per class (pay what you can)
URL:https://nhccnm.org/event/baile-casino-cuban-salsa-dance-class-26/
LOCATION:NHCC-Newsletter-August-11-–-24
CATEGORIES:Dance,Dance Classes,Education,Performing Arts,Workshops
ATTACH;FMTTYPE=image/jpeg:https://nhccnm.org/wp-content/uploads/2019/12/Baile-400x600-1.jpg
END:VEVENT
BEGIN:VEVENT
DTSTART;VALUE=DATE:20200124
DTEND;VALUE=DATE:20200125
DTSTAMP:20260421T132033
CREATED:20191206T184808Z
LAST-MODIFIED:20191206T184808Z
UID:8551-1579824000-1579910399@nhccnm.org
SUMMARY:NM Jazz Latino Orchestra
DESCRIPTION:8 pm \nIn their fourth performance at the NHCC\, the New Mexico Jazz Latino Orchestra will present a two-part show featuring Latin jazz\, cha cha\, salsa\, and rumba and showcasing the versatility of the group’s musicians. The 13-piece ensemble seeks to highlight the great musical talents of New Mexico residents\, while bringing in international guest artists to introduce audiences to traditional instrumentation and rhythms from Latin America and demonstrate how jazz fusion can provide a harmonious and exciting blend of ancestral and contemporary tones. This year’s concert salutes the Quiñones family\, “¡La familia de la salsa!”—Marc Quiñones\, percussionist for international salsa band sensation Ocho y Más\, and Tony and Camilo Quiñones—and features César Bauvallet\, Jackie Zamora\, Paul Gonzales\, Doug Lawrence and Steve Figueroa\, Adolfo Acosta\, Lester Rodriguez\, Maud Beenhouwer\, and Alex Murzyn. \n$25 & $27 with a $3 discount for NHCC members \n \nThank you to our Performing Arts Season Sponsors Heritage Hotels and Resorts\, the Albuquerque Journal and Southwest Airlines!
URL:https://nhccnm.org/event/nm-jazz-latino-orchestra-2/
LOCATION:Roy E. Disney Center for Performing Arts: Albuquerque Journal Theatre\, 1701 4th St SW\, Albuquerque\, NM\, 87102
CATEGORIES:Music,Performing Arts,Theatre
ATTACH;FMTTYPE=image/jpeg:https://nhccnm.org/wp-content/uploads/2019/12/NMJLO-January-2020-600.jpg
END:VEVENT
END:VCALENDAR