BEGIN:VCALENDAR
VERSION:2.0
PRODID:-// - ECPv6.15.14//NONSGML v1.0//EN
CALSCALE:GREGORIAN
METHOD:PUBLISH
X-ORIGINAL-URL:https://nhccnm.org
X-WR-CALDESC:Events for 
REFRESH-INTERVAL;VALUE=DURATION:PT1H
X-Robots-Tag:noindex
X-PUBLISHED-TTL:PT1H
BEGIN:VTIMEZONE
TZID:America/Denver
BEGIN:DAYLIGHT
TZOFFSETFROM:-0700
TZOFFSETTO:-0600
TZNAME:MDT
DTSTART:20190310T090000
END:DAYLIGHT
BEGIN:STANDARD
TZOFFSETFROM:-0600
TZOFFSETTO:-0700
TZNAME:MST
DTSTART:20191103T080000
END:STANDARD
BEGIN:DAYLIGHT
TZOFFSETFROM:-0700
TZOFFSETTO:-0600
TZNAME:MDT
DTSTART:20200308T090000
END:DAYLIGHT
BEGIN:STANDARD
TZOFFSETFROM:-0600
TZOFFSETTO:-0700
TZNAME:MST
DTSTART:20201101T080000
END:STANDARD
BEGIN:DAYLIGHT
TZOFFSETFROM:-0700
TZOFFSETTO:-0600
TZNAME:MDT
DTSTART:20210314T090000
END:DAYLIGHT
BEGIN:STANDARD
TZOFFSETFROM:-0600
TZOFFSETTO:-0700
TZNAME:MST
DTSTART:20211107T080000
END:STANDARD
END:VTIMEZONE
BEGIN:VEVENT
DTSTART;VALUE=DATE:20200204
DTEND;VALUE=DATE:20200205
DTSTAMP:20260421T184531
CREATED:20191219T193316Z
LAST-MODIFIED:20191219T193316Z
UID:8657-1580774400-1580860799@nhccnm.org
SUMMARY:¡Baile! Casino (Cuban Salsa) Dance Class
DESCRIPTION:6 pm to 8:15 pm \n6 pm to 7:15 pm—Beginning and Intermediate Class.\nNo experience is necessary to participate in this class. \n7:15 pm to 8:15 pm—Advanced Class\nIn order to participate in this class\, dancers must come to at least one 6 pm class and be familiar with the vocabulary and movement introduced in these classes. \nDance classes are taught by Larry Heard and Rueda 505 Friends. \nThere is no need to pre-register; just show up in comfortable clothes ready to dance! For more information\, call 505-246-2261. \n$5 to $10 per class (pay what you can)
URL:https://nhccnm.org/event/baile-casino-cuban-salsa-dance-class-28/
LOCATION:NHCC-Newsletter-August-11-–-24
CATEGORIES:Dance,Dance Classes,Education,Performing Arts,Workshops
ATTACH;FMTTYPE=image/jpeg:https://nhccnm.org/wp-content/uploads/2019/12/Baile-400x600-1.jpg
END:VEVENT
BEGIN:VEVENT
DTSTART;VALUE=DATE:20200206
DTEND;VALUE=DATE:20200207
DTSTAMP:20260421T184531
CREATED:20200107T193108Z
LAST-MODIFIED:20200107T193108Z
UID:8786-1580947200-1581033599@nhccnm.org
SUMMARY:¡HAH! Happy Arte Hour 2020
DESCRIPTION:6- 8 pm (new time!) \nThis year\, in the spirit of the NHCC’s 20th Anniversary\, we have invited back some of the artists that have contributed to the success of Happy Arte Hour over the years. Many of these artists were part of past exhibitions or have pieces of art in our permanent collection. \nOn the first Thursday of the month\, NHCC invites adults for artistic fun in a relaxed social setting\, which includes snacks\, refreshments\, and beer & wine for sale from Pop Fizz. This is a great opportunity for friends to hang out\, a unique date night option\, or a place to come solo and connect with fellow art enthusiasts. \nOn February 6\, Nick Abdalla and Susan Spring will join us again for Valentine Assemblage! \nPlease pre-register HERE (so we know how many materials to prepare). Registration for the following month is available the day after the current program month. \nFor more information please call or email Elena Baca at 505-246-2261 or ElenaD.Baca@state.nm.us \nFree\, $5+ donations are encouraged to support the artists & purchase supplies
URL:https://nhccnm.org/event/hah-happy-arte-hour-35/
LOCATION:Domenici Education Building – Grand Hall
CATEGORIES:Education,Food,Visual Arts,Workshops
ATTACH;FMTTYPE=image/jpeg:https://nhccnm.org/wp-content/uploads/2016/12/HAH-2017-WebsiteBanner.jpg
END:VEVENT
BEGIN:VEVENT
DTSTART;VALUE=DATE:20200211
DTEND;VALUE=DATE:20200212
DTSTAMP:20260421T184531
CREATED:20191219T193506Z
LAST-MODIFIED:20191219T193506Z
UID:8659-1581379200-1581465599@nhccnm.org
SUMMARY:¡Baile! Casino (Cuban Salsa) Dance Class
DESCRIPTION:6 pm to 8:15 pm \n6 pm to 7:15 pm—Beginning and Intermediate Class.\nNo experience is necessary to participate in this class. \n7:15 pm to 8:15 pm—Advanced Class\nIn order to participate in this class\, dancers must come to at least one 6 pm class and be familiar with the vocabulary and movement introduced in these classes. \nDance classes are taught by Larry Heard and Rueda 505 Friends. \nThere is no need to pre-register; just show up in comfortable clothes ready to dance! For more information\, call 505-246-2261. \n$5 to $10 per class (pay what you can)
URL:https://nhccnm.org/event/baile-casino-cuban-salsa-dance-class-29/
LOCATION:NHCC-Newsletter-August-11-–-24
CATEGORIES:Dance,Dance Classes,Education,Performing Arts,Workshops
ATTACH;FMTTYPE=image/jpeg:https://nhccnm.org/wp-content/uploads/2019/12/Baile-400x600-1.jpg
END:VEVENT
BEGIN:VEVENT
DTSTART;VALUE=DATE:20200213
DTEND;VALUE=DATE:20200214
DTSTAMP:20260421T184531
CREATED:20200129T171718Z
LAST-MODIFIED:20200129T171718Z
UID:8921-1581552000-1581638399@nhccnm.org
SUMMARY:Film: The Last Suit/El último traje
DESCRIPTION:7 pm \nAt 88\, Abraham Bursztein is seeing his place in the world rapidly disappear. His kids have sold his Buenos Aires residence\, set him up to move to a retirement home\, and disagree on how to handle his fading health. But Abraham survived the Holocaust\, made a successful life in a foreign land\, and isn’t about to quietly fade away. Instead\, he plots a secret one-way trip to Poland\, where he plans to find the Christian friend who saved him from certain death at the end of World War II\, and to keep his promise to return one day. \nPresented as part of the Bank of America Free Thursday Film Series. \n2017; Pablo Solarz; Spanish/Yiddish/German/Polish with English subtitles; 91 minutes; not rated. \nFree ticketed event; tickets available one hour before show
URL:https://nhccnm.org/event/film-the-last-suit-el-ultimo-traje/
LOCATION:NHCC-Newsletter-November-2-30
CATEGORIES:Film,Performing Arts,Theatre
ATTACH;FMTTYPE=image/jpeg:https://nhccnm.org/wp-content/uploads/2020/01/The-Last-Suit-El-ultimo-traje-poster.jpg
END:VEVENT
BEGIN:VEVENT
DTSTART;VALUE=DATE:20200214
DTEND;VALUE=DATE:20200216
DTSTAMP:20260421T184531
CREATED:20200110T181744Z
LAST-MODIFIED:20200110T181744Z
UID:8824-1581638400-1581811199@nhccnm.org
SUMMARY:Festival Ballet Albuquerque Presents Dracula\, A Love Story
DESCRIPTION:7 pm \nBack by popular demand\, Patricia Dickinson Wells brings Bram Stoker’s macabre novel Dracula back to the stage for two breathtaking performances of a fully realized dance rendition\, Dracula\, A Love Story. Festival Ballet Albuquerque’s production promises to be a truly 21st century version of the 19th century story that continues to capture the imaginations of young and old alike. The company is also known for its critically acclaimed Firebird Ballet\, The Nutcracker in the Land of Enchantment\, Billy the Kid\, Coppelia\, and Midsummer Night’s Dream. \n$12\, $18\, $26\, $34\, $42 w/ $2 discount for seniors and children 12 years old and younger \n \n“Dracula meets Lestat” in this dramatic vampire production\, complete with choreography by Patricia Dickinson Wells\, sets by John Malolepsy\, lighting by Eric Kennedy\, lavish costumes\, and flying trickery provided by Flying by Foy from Las Vegas. The powerful choreography\, classical music\, eerie effects\, and unsurpassed love story spanning centuries all combine to pack plenty of scares into a production not to be missed—a sophisticated original ballet set in an elegant\, dark portrayal of Stoker’s timeless tale of love\, blood-lust\, loss\, and redemption.  A great Valentine’s Day offering—see it if you dare! \n\nThe event is a rental event not an NHCC production. The title\, content\, photos/images and description for this event were provided to the NHCC by the organization renting the NHCC venue for the event. By serving as a venue and posting the event on its website\, the NHCC is not endorsing any views expressed in the title or description of the event\, nor is it endorsing the content of the event.
URL:https://nhccnm.org/event/festival-ballet-albuquerque-dracula-a-love-story/
LOCATION:Roy E. Disney Center for Performing Arts: Albuquerque Journal Theatre\, 1701 4th St SW\, Albuquerque\, NM\, 87102
CATEGORIES:Dance,Performing Arts,Rental
ATTACH;FMTTYPE=image/jpeg:https://nhccnm.org/wp-content/uploads/2020/01/Dracula-A-Love-Story-photo-2.jpg
END:VEVENT
BEGIN:VEVENT
DTSTART;VALUE=DATE:20200218
DTEND;VALUE=DATE:20200219
DTSTAMP:20260421T184531
CREATED:20191219T193744Z
LAST-MODIFIED:20191219T193744Z
UID:8662-1581984000-1582070399@nhccnm.org
SUMMARY:¡Baile! Casino (Cuban Salsa) Dance Class
DESCRIPTION:6 pm to 8:15 pm \n6 pm to 7:15 pm—Beginning and Intermediate Class.\nNo experience is necessary to participate in this class. \n7:15 pm to 8:15 pm—Advanced Class\nIn order to participate in this class\, dancers must come to at least one 6 pm class and be familiar with the vocabulary and movement introduced in these classes. \nDance classes are taught by Larry Heard and Rueda 505 Friends. \nThere is no need to pre-register; just show up in comfortable clothes ready to dance! For more information\, call 505-246-2261. \n$5 to $10 per class (pay what you can)
URL:https://nhccnm.org/event/baile-casino-cuban-salsa-dance-class-30/
LOCATION:NHCC-Newsletter-August-11-–-24
CATEGORIES:Dance,Dance Classes,Education,Performing Arts,Workshops
ATTACH;FMTTYPE=image/jpeg:https://nhccnm.org/wp-content/uploads/2019/12/Baile-400x600-1.jpg
END:VEVENT
BEGIN:VEVENT
DTSTART;VALUE=DATE:20200221
DTEND;VALUE=DATE:20200223
DTSTAMP:20260421T184531
CREATED:20191206T182459Z
LAST-MODIFIED:20191206T182459Z
UID:8548-1582243200-1582415999@nhccnm.org
SUMMARY:Carnaval Celebration 2020
DESCRIPTION:7:30 pm—Friday & Saturday \nCarnaval\, the festive season occurring before Lent in many countries\, is one of the world’s most widespread celebrations and one of its biggest parties. Frank Leto Musical Ventures and the NHCC continue their annual partnership to celebrate Carnaval at the Center with a festive and colorful evening of music\, dance\, and theatre\, featuring the Odara Dance Ensemble and the musical group PANdemonium. Carnaval 2020\, a dazzling spectacle of vibrant dance\, engaging music\, and beautiful costumes\, showcases the Carnaval traditions of Cuba\, Trinidad\, Brazil\, and New Orleans and marks the 15th annual Carnaval Celebration at the NHCC. \n$17\, $22\, $27with a $2 discount for seniors\, children 12 years old and younger & NHCC members \n \nThank you to our Performing Arts Season Sponsors Heritage Hotels and Resorts\, the Albuquerque Journal and Southwest Airlines!
URL:https://nhccnm.org/event/carnaval-2020-with-pandemonium-and-odara-dance-ensemble/
LOCATION:Roy E. Disney Center for Performing Arts: Albuquerque Journal Theatre\, 1701 4th St SW\, Albuquerque\, NM\, 87102
CATEGORIES:Dance,Music,Performing Arts,Seasonal Events,Theatre
ATTACH;FMTTYPE=image/jpeg:https://nhccnm.org/wp-content/uploads/2019/12/HomeBanner.Carnaval-tall.jpg
END:VEVENT
END:VCALENDAR