BEGIN:VCALENDAR
VERSION:2.0
PRODID:-// - ECPv6.15.14//NONSGML v1.0//EN
CALSCALE:GREGORIAN
METHOD:PUBLISH
X-ORIGINAL-URL:https://nhccnm.org
X-WR-CALDESC:Events for 
REFRESH-INTERVAL;VALUE=DURATION:PT1H
X-Robots-Tag:noindex
X-PUBLISHED-TTL:PT1H
BEGIN:VTIMEZONE
TZID:America/Denver
BEGIN:DAYLIGHT
TZOFFSETFROM:-0700
TZOFFSETTO:-0600
TZNAME:MDT
DTSTART:20190310T090000
END:DAYLIGHT
BEGIN:STANDARD
TZOFFSETFROM:-0600
TZOFFSETTO:-0700
TZNAME:MST
DTSTART:20191103T080000
END:STANDARD
BEGIN:DAYLIGHT
TZOFFSETFROM:-0700
TZOFFSETTO:-0600
TZNAME:MDT
DTSTART:20200308T090000
END:DAYLIGHT
BEGIN:STANDARD
TZOFFSETFROM:-0600
TZOFFSETTO:-0700
TZNAME:MST
DTSTART:20201101T080000
END:STANDARD
BEGIN:DAYLIGHT
TZOFFSETFROM:-0700
TZOFFSETTO:-0600
TZNAME:MDT
DTSTART:20210314T090000
END:DAYLIGHT
BEGIN:STANDARD
TZOFFSETFROM:-0600
TZOFFSETTO:-0700
TZNAME:MST
DTSTART:20211107T080000
END:STANDARD
END:VTIMEZONE
BEGIN:VEVENT
DTSTART;VALUE=DATE:20201002
DTEND;VALUE=DATE:20201003
DTSTAMP:20260423T064815
CREATED:20201002T155440Z
LAST-MODIFIED:20201002T155440Z
UID:10680-1601596800-1601683199@nhccnm.org
SUMMARY:Film: LGTBI+ en línea: Porque no/Why Not
DESCRIPTION:8 pm (available for 48 hours)\nInstituto Cervantes Vimeo Channel here \nInstituto Cervantes Albuquerque presents LGTBI+ en línea\, an online showcase of short subjects\, both feature films and documentaries\, by Spanish\, Colombian\, and Mexican filmmakers showcasing the individuality and creativity demonstrated in the exploration of distinct sexual identities. It is presented in collaboration with the National Hispanic Cultural Center as part of the Bank of America Free Film Series. \nThe first film in the series is Ruth Caudeli’s short feature film Porque no. As Victoria and Paula are on their way to a wedding outside Bogotá\, an unfinished conversation unleashes feelings that they had thought were forgotten. 2016; Spanish with English subtitles; 13 minutes; not recommended for children under 12. \nFree virtual community evert \n \n \nCiclo de cortometrajes LGTBI+ en español from Instituto Cervantes on Vimeo. \nLGTBI+ programming:\n* Friday\, October 2: Porque no (Colombia/Spain: Ruth Caudeli\, 2016)\n* Tuesday\, October 6: Eva menos Candela (Colombia\, Ruth Caudeli\, 2018)\n* Friday\, October 9: Juan de las brujas (Mexico\, Andrew Houchens\, 2019)\n* Tuesday\, October 13: Princesa de hielo (Spain\, Pablo Guerrero\, 2017)\n* Friday\, October 16: Piscina (Spain\, Carlos Ruano\, 2017)\n* Tuesday\, October 20: El niño que quería volar (Spain\, Jorge Muriel Mencia\, 2018)\n* Friday\, October 23: Visibles (Spain\, Enrique Rey Monzón\, 2018)\n* Tuesday\, October 27: En la azotea (Spain\, Damià Serra Cauchetiez\, 2016)\nAll titles will be available on the Instituto Cervantes Vimeo channel for 48 hours.
URL:https://nhccnm.org/event/film-lgtbi-en-linea-porque-no-why-not/
LOCATION:NM
CATEGORIES:Film,Instituto Cervantes,Performing Arts,Theatre
ATTACH;FMTTYPE=image/jpeg:https://nhccnm.org/wp-content/uploads/2020/10/50DF0225-04AD-485B-9777-5F7EAE2FB632.jpeg
END:VEVENT
BEGIN:VEVENT
DTSTART;VALUE=DATE:20201006
DTEND;VALUE=DATE:20201007
DTSTAMP:20260423T064815
CREATED:20201003T154920Z
LAST-MODIFIED:20201003T154920Z
UID:10695-1601942400-1602028799@nhccnm.org
SUMMARY:Film: LGTBI+ en línea: Eva menos Candela/Eva without Candela
DESCRIPTION:12 pm (available for 48 hours)\nInstituto Cervantes Vimeo Channel Here \nInstituto Cervantes Albuquerque presents LGTBI+ en línea\, an online showcase of short subjects\, both feature films and documentaries\, by Spanish\, Colombian\, and Mexican filmmakers showcasing the individuality and creativity demonstrated in the exploration of distinct sexual identities. It is presented in collaboration with the National Hispanic Cultural Center as part of the Bank of America Free Film Series. \nEva menos Candela\, another short feature film by Ruth Caudeli\, follows the filmmaker’s Porque no\, shown as the opening film in this series. This film also deals with the lack of transparency in some lesbian relationships\, as Eva and Candela come together two years after their relationship has ended.  While it appears that they have moved on with their lives\, there is still unfinished business between them. 2018; Spanish with English subtitles; 18 minutes; not recommended for children under 12. \nFree virtual community event \n \n \nCiclo de cortometrajes LGTBI+ en español from Instituto Cervantes on Vimeo. \nLGTBI+ programming:\n* Friday\, October 2: Porque no (Colombia/Spain: Ruth Caudeli\, 2016)\n* Tuesday\, October 6: Eva menos Candela (Colombia\, Ruth Caudeli\, 2018)\n* Friday\, October 9: Juan de las brujas (Mexico\, Andrew Houchens\, 2019)\n* Tuesday\, October 13: Princesa de hielo (Spain\, Pablo Guerrero\, 2017)\n* Friday\, October 16: Piscina (Spain\, Carlos Ruano\, 2017)\n* Tuesday\, October 20: El niño que quería volar (Spain\, Jorge Muriel Mencia\, 2018)\n* Friday\, October 23: Visibles (Spain\, Enrique Rey Monzón\, 2018)\n* Tuesday\, October 27: En la azotea (Spain\, Damià Serra Cauchetiez\, 2016)\nAll titles will be available on the Instituto Cervantes Vimeo channel for 48 hours.
URL:https://nhccnm.org/event/film-lgtbi-en-linea-eva-menos-candela-eva-without-candela/
LOCATION:NM
CATEGORIES:Film,Instituto Cervantes,Theatre
ATTACH;FMTTYPE=image/jpeg:https://nhccnm.org/wp-content/uploads/2020/10/50DF0225-04AD-485B-9777-5F7EAE2FB632.jpeg
END:VEVENT
BEGIN:VEVENT
DTSTART;VALUE=DATE:20201028
DTEND;VALUE=DATE:20201029
DTSTAMP:20260423T064815
CREATED:20201023T231953Z
LAST-MODIFIED:20201023T231953Z
UID:11281-1603843200-1603929599@nhccnm.org
SUMMARY:Teatro Paraguas: Volver\, Volver\, Volver
DESCRIPTION:7 pm (MTS) \nLive via Zoom\nFree with registration; suggested donation of $7. Register HERE  \nOur friends and partners at Teatro Paraguas are presenting a live Zoom performance of Volver\, Volver\, Volver\, a play by New Mexico playwright Leonard Madrid.  Both Teatro Paraguas and Leonard Madrid have collaborated on various projects with the NHCC’s Performing Arts program over the years. \nIn Volver\, Volver\, Volver\, which premiered at the NHCC in 2009\, a young man who led a fast and reckless life is called back from the dead by an unknown bruja in Portales\, and finds the inner peace that eluded him in life. \n \nLeonard Madrid works as a designer\, actor\, playwright\, and educator in Albuquerque. His plays Tecolotito\, Perla\, and Aurora have received the Kennedy Center’s KCACTF Latino Playwriting Award. Other works have received readings and performances around the nation. His participation in the production of Stories of Barelas was a highlight of our 2018-2019 season. \nTeatro Paraguas has collaborated with the NHCC for many years\, producing many works for our Siembra: Latino Theatre Seasons. The Santa Fe-based company stages contemporary award-winning Latinx plays in English and bilingual productions of Hispanic/Latinx poetry and classic cuentos (folk tales)\, while promoting children’s theatre\, producing the works of New Mexico playwrights\, and celebrating the history\, richness\, and diversity of New Mexico’s many cultures and artistic talents.
URL:https://nhccnm.org/event/teatro-paraguas-volver-volver-volver/
LOCATION:Live via Zoom or in-person
CATEGORIES:Member Event,Theatre
ATTACH;FMTTYPE=image/jpeg:https://nhccnm.org/wp-content/uploads/2020/10/D8612A32-EA9F-4263-B6DC-7EC807A6AF90.jpeg
END:VEVENT
END:VCALENDAR