BEGIN:VCALENDAR
VERSION:2.0
PRODID:-// - ECPv6.15.14//NONSGML v1.0//EN
CALSCALE:GREGORIAN
METHOD:PUBLISH
X-ORIGINAL-URL:https://nhccnm.org
X-WR-CALDESC:Events for 
REFRESH-INTERVAL;VALUE=DURATION:PT1H
X-Robots-Tag:noindex
X-PUBLISHED-TTL:PT1H
BEGIN:VTIMEZONE
TZID:America/Denver
BEGIN:DAYLIGHT
TZOFFSETFROM:-0700
TZOFFSETTO:-0600
TZNAME:MDT
DTSTART:20200308T090000
END:DAYLIGHT
BEGIN:STANDARD
TZOFFSETFROM:-0600
TZOFFSETTO:-0700
TZNAME:MST
DTSTART:20201101T080000
END:STANDARD
BEGIN:DAYLIGHT
TZOFFSETFROM:-0700
TZOFFSETTO:-0600
TZNAME:MDT
DTSTART:20210314T090000
END:DAYLIGHT
BEGIN:STANDARD
TZOFFSETFROM:-0600
TZOFFSETTO:-0700
TZNAME:MST
DTSTART:20211107T080000
END:STANDARD
BEGIN:DAYLIGHT
TZOFFSETFROM:-0700
TZOFFSETTO:-0600
TZNAME:MDT
DTSTART:20220313T090000
END:DAYLIGHT
BEGIN:STANDARD
TZOFFSETFROM:-0600
TZOFFSETTO:-0700
TZNAME:MST
DTSTART:20221106T080000
END:STANDARD
END:VTIMEZONE
BEGIN:VEVENT
DTSTART;VALUE=DATE:20210204
DTEND;VALUE=DATE:20210205
DTSTAMP:20260424T005323
CREATED:20210112T173717Z
LAST-MODIFIED:20210112T173717Z
UID:11886-1612396800-1612483199@nhccnm.org
SUMMARY:Virtual ¡Happy Arte Hour!
DESCRIPTION:6:30 pm (MST) \nLive on Zoom \nRegister in advance HERE \nWe are back! Coming to you through zoom! \nHappy Arte Hour is an adult only at making program and social gathering. We really miss seeing you at the NHCC but hope you will join us on the first Thursday of the month at 6:30 pm (MST) February – December. \nPlease register and prior to the class you will receive an email with the zoom link and items/art supplies  to gather from around your house.  Please do not pass out the link\, we will let you in to the zoom room from your registration\, thank you! \nFree community event \n \nWe will have simple project demos and suggestions for at home art making. We will have breakout rooms to bring back our roundtable small group discussions.  \nVirtual Happy Arte Hour is a chance for us to reconnect with our regular participants and for new people near and far to join us for a creative night of fun! \nOur first HAH of the year\, February 4\, 2021\, we will keep the tradition of a Valentine inspired project. \n#NewMexicoCulture #HappyArteHour #NHCC #Make #MuseumatHome
URL:https://nhccnm.org/event/virtual-happy-arte-hour-2/
LOCATION:NM
CATEGORIES:Education,Food,Visual Arts,Workshops
ATTACH;FMTTYPE=image/jpeg:https://nhccnm.org/wp-content/uploads/2021/01/43D1BE1B-9AFC-409F-8E85-4E328D11615F.jpeg
END:VEVENT
BEGIN:VEVENT
DTSTART;VALUE=DATE:20210205
DTEND;VALUE=DATE:20210206
DTSTAMP:20260424T005323
CREATED:20210127T161211Z
LAST-MODIFIED:20210127T161211Z
UID:12087-1612483200-1612569599@nhccnm.org
SUMMARY:Virtual Screening & Discussion: Con Alma
DESCRIPTION:7 pm (MST)\nThis event can be viewed AMP Concerts website HERE \nCon Alma: Exploring the Creative Process with Paola Prestini & Magos Herrera \nScreening of videos from the Con Alma project\, including a world premiere video\, La Creación de las Aves (The Creation of the Birds)\, followed by a live on-line discussion and open Q&A session with Paola Prestini and Magos Herrera\, moderated by Cristina Baccin from KUNM’s Raices program. The discussion will be hosted by the National Hispanic Cultural Center via Zoom\, in collaboration with Instituto Cervantes de Albuquerque and UNM’s Latin America and Iberian Institute. Prestini and Herrera will discuss the creative process\, the social engagement\, and the creation of the virtual event. \nDonations will be accepted on the AMP Concerts webpage \n \nCon Alma is an album and live digital experience of original works by composer Paola Prestini and vocalist and composer Magos Herrera\, along with some classics from the Mexican and jazz songbook\, created and recorded remotely during the COVID-19 pandemic\, that explores the question of how we can find communion in a time of isolation. The album grew out of the personal and collective experience of this moment of deep division—be it spiritual\, ideological\, political or geographical—and seeks to use music to create a shared sense of the experiences that we are all going through together\, alone. \n“Con Alma is a sonic painting representing a 15-year friendship through a collaborative process of writing\, telling the story of shared ambitions and triumphs\, love\, trials\, hope\, and losses\,” Herrera and Prestini wrote in a joint statement about the project. “The artists we worked with form our international musical family\, and it’s a joy to be able to connect through this album\, leaving an artifact of this time\, and our response to the pandemic: alone\, but together.” \nBorn in Mexico City and now based out of New York City\, Magos Herrera presented a concert\, blending classical jazz styling with Latin melodies\, at the NHCC in 2012 as part of the Center’s signature Latin Diva Series. \nAdditional information on this project is available at https://www.conalmaproject.com. For other events at AMP Concerts\, please visit: https://www.ampconcerts.org.
URL:https://nhccnm.org/event/virtual-screening-discussion-con-alma/
LOCATION:NM
CATEGORIES:Music,Performing Arts
ATTACH;FMTTYPE=image/jpeg:https://nhccnm.org/wp-content/uploads/2021/01/6BAE93C8-EE75-4D3F-9E3E-3DBE460E62F4.jpeg
END:VEVENT
BEGIN:VEVENT
DTSTART;VALUE=DATE:20210219
DTEND;VALUE=DATE:20210220
DTSTAMP:20260424T005323
CREATED:20210203T175759Z
LAST-MODIFIED:20210203T175759Z
UID:12134-1613692800-1613779199@nhccnm.org
SUMMARY:Film: Ciclo Ángela Molina\, La mitad del cielo
DESCRIPTION:12 pm (available for 48 hours) \nInstituto Cervantes Vimeo Channel HERE \nManuel Gutiérrez Aragón had a significant influence on Ángela Molina’s career\, directing several of the films she made in the years of transition to democracy\, including Camada negra (1977)\, El corazón del bosque (1979)\, and Demonios en el jardín (1982). In La mitad del cielo\, set after the Spanish Civil War\, Rosa\, the daughter of a humble family in Asturias\, travels to Madrid with her own daughter following the death of her husband. With the help of the influential supplier who hires her to work in his household\, she obtains a market position that serves as the point of departure for a meteoric career rise. Rosa ultimately opens an exclusive restaurant that transforms into a political and intellectual meeting place. \nFree event \n \n1986; Spanish with English subtitles; 95 minutes; rated G. \nÁngela Molina’s distinguished career began in the midst of Spain’s transition to democracy\, and continues to this day. She has also appeared in numerous international films\, beginning with her appearance in Luis Buñuel’s last film\, That Obscure Object of Desire. In recognition of her brilliant career\, the Academy of Motion Picture Arts and Sciences awarded her the 2021 Goya Prize of Honor. Instituto Cervantes is pleased to present “Ciclo Ángela Molina” in homage to this extraordinary artist\, beloved for her authenticity\, her undeniable talent and her special sensibility\, and in gratitude for her outstanding contributions to Spanish cinema.
URL:https://nhccnm.org/event/film-ciclo-angela-molina-la-mitad-del-cielo/
LOCATION:NM
CATEGORIES:Film,Performing Arts,Theatre
ATTACH;FMTTYPE=image/jpeg:https://nhccnm.org/wp-content/uploads/2021/02/063CF1A2-87BE-4B62-95F4-DC89F8A62BD9.jpeg
END:VEVENT
BEGIN:VEVENT
DTSTART;VALUE=DATE:20210222
DTEND;VALUE=DATE:20210226
DTSTAMP:20260424T005323
CREATED:20210223T221902Z
LAST-MODIFIED:20210223T221902Z
UID:12233-1613952000-1614297599@nhccnm.org
SUMMARY:Pioneras: Mujeres de Vanguardia/Pioneers: Women of the Avant-Garde
DESCRIPTION:11 am (MST) \nInstituto Cervantes YouTube Channel: www.youtube.com/cervantesabq \nThis series of on-line talks highlights the work of women who have paved the way in investigating new artistic languages in disciplines such as electronic music\, video creation\, or photography. It features New Mexico artists such as filmmaker Sally Kewayosh\, Spanish-speaking artists living in the United States such as photographer and filmmaker Jose Girl\, and Spanish artists such as musician Niet! and video artist Regina Álvarez. \nFree community event \n \nIn March\, this programming will be complemented by “Pioneers of Spanish Cinema\,” an on-line exhibition of films made from the 1950s through the early 1980s by directors including Pilar Miró\, Josefina Molina\, and Ana Mariscal. \nThe Pioneras series is supported by the National Endowment for the Humanities and the New Mexico Humanities Council. \nSchedule:\nFebruary 22:  Jose Girl\nFebruary 23:  Nietl!\nFebruary 24:  Sally Kewayosh\nFebruary 25:  Regina Álvarez
URL:https://nhccnm.org/event/pioneras-mujeres-de-vanguardia-pioneers-women-of-the-avant-garde/
LOCATION:NM
CATEGORIES:Film,Instituto Cervantes,Performing Arts
ATTACH;FMTTYPE=image/jpeg:https://nhccnm.org/wp-content/uploads/2021/02/49B5E1BA-1B4C-4C99-AC6B-74B93569081B.jpeg
END:VEVENT
BEGIN:VEVENT
DTSTART;VALUE=DATE:20210226
DTEND;VALUE=DATE:20210227
DTSTAMP:20260424T005323
CREATED:20210203T180217Z
LAST-MODIFIED:20210203T180217Z
UID:12137-1614297600-1614383999@nhccnm.org
SUMMARY:Film: Ciclo Ángela Molina\, Las cosas del querer
DESCRIPTION:12 pm (available for 48 hours) \nInstituto Cervantes Vimeo Channel HERE \nJaime Chávarrri’s Las cosas del querer follows the trajectory of a song-and-dance duo and their piano player in the 1940s\, with a look into their backstage lives and an evocation of the popular music of their times. As the group’s rise to fame and fortune parallels Franco’s consolidation of power in collusion with the Spanish aristocracy\, their return to Madrid marks the most difficult  moments of their careers. Lavishly produced and vibrantly entertaining as a musical\, Las cosas del querer also addresses issues of fascism\, feminism\, and homophobia in postwar Spain. \nFree event \n \n1989; Spanish with English subtitles; 89 minutes; rated G. \nÁngela Molina’s distinguished career began in the midst of Spain’s transition to democracy\, and continues to this day. She has also appeared in numerous international films\, beginning with her appearance in Luis Buñuel’s last film\, That Obscure Object of Desire. In recognition of her brilliant career\, the Academy of Motion Picture Arts and Sciences awarded her the 2021 Goya Prize of Honor. Instituto Cervantes is pleased to present “Ciclo Ángela Molina” in homage to this extraordinary artist\, beloved for her authenticity\, her undeniable talent and her special sensibility\, and in gratitude for her outstanding contributions to Spanish cinema.
URL:https://nhccnm.org/event/film-ciclo-angela-molina-las-cosas-del-querer/
LOCATION:NM
CATEGORIES:Film,Instituto Cervantes,Performing Arts,Theatre
ATTACH;FMTTYPE=image/jpeg:https://nhccnm.org/wp-content/uploads/2021/02/063CF1A2-87BE-4B62-95F4-DC89F8A62BD9.jpeg
END:VEVENT
END:VCALENDAR