BEGIN:VCALENDAR
VERSION:2.0
PRODID:-// - ECPv6.15.14//NONSGML v1.0//EN
CALSCALE:GREGORIAN
METHOD:PUBLISH
X-ORIGINAL-URL:https://nhccnm.org
X-WR-CALDESC:Events for 
REFRESH-INTERVAL;VALUE=DURATION:PT1H
X-Robots-Tag:noindex
X-PUBLISHED-TTL:PT1H
BEGIN:VTIMEZONE
TZID:America/Denver
BEGIN:DAYLIGHT
TZOFFSETFROM:-0700
TZOFFSETTO:-0600
TZNAME:MDT
DTSTART:20200308T090000
END:DAYLIGHT
BEGIN:STANDARD
TZOFFSETFROM:-0600
TZOFFSETTO:-0700
TZNAME:MST
DTSTART:20201101T080000
END:STANDARD
BEGIN:DAYLIGHT
TZOFFSETFROM:-0700
TZOFFSETTO:-0600
TZNAME:MDT
DTSTART:20210314T090000
END:DAYLIGHT
BEGIN:STANDARD
TZOFFSETFROM:-0600
TZOFFSETTO:-0700
TZNAME:MST
DTSTART:20211107T080000
END:STANDARD
BEGIN:DAYLIGHT
TZOFFSETFROM:-0700
TZOFFSETTO:-0600
TZNAME:MDT
DTSTART:20220313T090000
END:DAYLIGHT
BEGIN:STANDARD
TZOFFSETFROM:-0600
TZOFFSETTO:-0700
TZNAME:MST
DTSTART:20221106T080000
END:STANDARD
END:VTIMEZONE
BEGIN:VEVENT
DTSTART;VALUE=DATE:20210304
DTEND;VALUE=DATE:20210305
DTSTAMP:20260424T074344
CREATED:20210112T174426Z
LAST-MODIFIED:20210112T174426Z
UID:11890-1614816000-1614902399@nhccnm.org
SUMMARY:Virtual ¡Happy Arte Hour!
DESCRIPTION:6:30 pm (MST) \nLive on Zoom \nRegister in advance HERE \nWe are back! Coming to you through zoom! \nHappy Arte Hour is an adult only at making program and social gathering. We really miss seeing you at the NHCC but hope you will join us on the first Thursday of the month at 6:30 pm (MST) February – December. \nPlease register and prior to the class you will receive an email with the zoom link and items/art supplies to gather from around your house.  Please do not pass out the link\, we will let you in to the zoom room from your registration\, thank you! \nFree community event \n \nWe will have simple project demos and suggestions for at home art making. We will have breakout rooms to bring back our roundtable small group discussions. \nJoin us on March 4th with Artist Jocelyn Salas!  Jocelyn has two paintings in our permanent collection\, courtesy of the NM Arts in Public Places program. Jocelyn is known to work in oils\, cochineal\, gold leaf and a variety of other techniques. She has currently shifted from painting to working with textiles\, she will discuss her work and will show us a couple of approaches to the art of  appliqué. \nSupplies needed: Needle\, thread\, scissors\, paper\, pencil\, fabric. Optional if you want to learn the freezer paper technique:  freezer paper\, glue stick and an iron. \nVirtual Happy Arte Hour is a chance for us to reconnect with our regular participants and for new people near and far to join us for a creative night of fun! \n#NewMexicoCulture #HappyArteHour #NHCC #Make #MuseumatHome
URL:https://nhccnm.org/event/virtual-happy-arte-hour-3/
LOCATION:NM
CATEGORIES:Education,Visual Arts,Workshops
ATTACH;FMTTYPE=image/jpeg:https://nhccnm.org/wp-content/uploads/2021/01/43D1BE1B-9AFC-409F-8E85-4E328D11615F.jpeg
END:VEVENT
BEGIN:VEVENT
DTSTART;VALUE=DATE:20210312
DTEND;VALUE=DATE:20210313
DTSTAMP:20260424T074344
CREATED:20210310T161448Z
LAST-MODIFIED:20210310T161448Z
UID:12277-1615507200-1615593599@nhccnm.org
SUMMARY:Film: Pioneras: Mujeres de Vanguardia/Pioneers: Women of the Avant-Garde\, La gata
DESCRIPTION:12 pm (MST)\nAvailable for 48 hours \nInstituto Cervantes Vimeo Channel HERE \nCo-directed by Margarita Alexandre and Rafael Torrecilla\, La gata\, set in in the Andalusian countryside\, is the story of a love triangle playing out in the world of bullfighting. It has been described as a “beautiful tragedy\,” as well as a melodrama. Actress\, director\, and producer Margarita Alexandre worked in film and theatre in Spain during the early days of the Franco regime\, and in Cuba following the Revolution. Born in León in 1923\, she died in Madrid in 2015\, at the age of 93. \n1956; Spanish with English subtitles; 94 minutes; not rated. \nFree community event \n \nIn February\, the Pioneras series featured on-line talks highlighting the work of women who have paved the way in investigating new artistic languages in disciplines such as electronic music\, video creation\, or photography. This programming is now complemented by “Pioneers of Spanish Cinema\,” an on-line exhibition of films made from the 1950s through the early 1980s. \nPioneras Film Schedule:\nMarch 9: Segundo López\, aventurero urbano (Ana Mariscal\, 1953)\nMarch 12: La gata (Margarita Alexandre & Rafael Torrecilla\, 1956)\nMarch 16: El crimen de Cuenca (Pilar Miró\, 1979)\nMarch 19: Función de noche (Josefina Molina\, 1981)\nMarch 23: Después de… No se os puede dejar solos (Cecilia & José Juan Bartolomé\, 1981)\nMarch 26: Despuús de… Atado y bien atado (Cecilia & José Juan Bartolomé\, 1981) \nThe series is supported by the National Endowment for the Humanities and the New Mexico Humanities Council.
URL:https://nhccnm.org/event/film-pioneras-mujeres-de-vanguardia-pioneers-women-of-the-avant-garde-la-gata/
LOCATION:NM
CATEGORIES:Film,Instituto Cervantes,Theatre
ATTACH;FMTTYPE=image/jpeg:https://nhccnm.org/wp-content/uploads/2021/03/7DD6E78D-9419-436A-81C5-49EF37D605F3.jpeg
END:VEVENT
BEGIN:VEVENT
DTSTART;VALUE=DATE:20210316
DTEND;VALUE=DATE:20210317
DTSTAMP:20260424T074344
CREATED:20210310T163252Z
LAST-MODIFIED:20210310T163252Z
UID:12285-1615852800-1615939199@nhccnm.org
SUMMARY:Film: Pioneras: Mujeres de Vanguardia/Pioneers: Women of the Avant-Garde\, El crimen de Cuenca
DESCRIPTION:12 pm (MST)\nAvailable for 48 hours \nInstituto Cervantes Vimeo Channel HERE \nPilar Miró’s El crimen de Cuenca is an unsparing depiction of real events that took place in 1913 in the Spanish province of Cuenca.  When a shepherd mysteriously disappears\, his companions\, believed to be responsible for his murder\, confess to the crime under torture and are condemned to prison\, serving 11 years of an 18-year sentence.  After they are released\, the man they supposedly killed turns up alive. The film was initially banned in Spain and the director brought before the military courts; when it was allowed to be shown in 1981\, it became the highest-grossing Spanish film in the country up to that time. \n1979; Spanish with English subtitles; 92 minutes; Rated R (18+) \nFree community event \n \nIn February\, the Pioneras series featured on-line talks highlighting the work of women who have paved the way in investigating new artistic languages in disciplines such as electronic music\, video creation\, or photography. This programming is now complemented by “Pioneers of Spanish Cinema\,” an on-line exhibition of films made from the 1950s through the early 1980s. \nPioneras Film Schedule:\nMarch 9: Segundo López\, aventurero urbano (Ana Mariscal\, 1953)\nMarch 12: La gata (Margarita Alexandre & Rafael Torrecilla\, 1956)\nMarch 16: El crimen de Cuenca (Pilar Miró\, 1979)\nMarch 19: Función de noche (Josefina Molina\, 1981)\nMarch 23: Después de… No se os puede dejar solos (Cecilia & José Juan Bartolomé\, 1981)\nMarch 26: Despuús de… Atado y bien atado (Cecilia & José Juan Bartolomé\, 1981) \nThe series is supported by the National Endowment for the Humanities and the New Mexico Humanities Council.
URL:https://nhccnm.org/event/film-pioneras-mujeres-de-vanguardia-pioneers-women-of-the-avant-garde-el-crimen-de-cuenca/
LOCATION:NM
CATEGORIES:Film,Instituto Cervantes,Theatre
ATTACH;FMTTYPE=image/jpeg:https://nhccnm.org/wp-content/uploads/2021/03/7DD6E78D-9419-436A-81C5-49EF37D605F3.jpeg
END:VEVENT
BEGIN:VEVENT
DTSTART;VALUE=DATE:20210326
DTEND;VALUE=DATE:20210327
DTSTAMP:20260424T074344
CREATED:20210310T170625Z
LAST-MODIFIED:20210310T170625Z
UID:12296-1616716800-1616803199@nhccnm.org
SUMMARY:Pioneras: Mujeres de Vanguardia/Pioneers: Women of the Avant-Garde\, Después de… Atado y bien atado
DESCRIPTION:12 pm (MST)\nAvailable for 48 hours \nInstituto Cervantes Vimeo Channel HERE \nThe second part of the documentary Después de…\, by Cecilia and José Juan Bartolomé\, features politicians\, professionals\, and citizens from all walks of life as they express their opinions of the changes that have befallen Spain during the years of the country’s transition to democracy following the death of Francisco Franco. The outspokenness of some of these testimonies and the sense of tension that pervades the film caused its release to be held up until late 1983. Después de… places its directors in the vanguard of social documentarians who continue to play a critical role in Spanish cinema. \n1979-1981; Spanish with English subtitles; 90 minutes; not rated \nFree community event \n \nIn February\, the Pioneras series featured on-line talks highlighting the work of women who have paved the way in investigating new artistic languages in disciplines such as electronic music\, video creation\, or photography. This programming is now complemented by “Pioneers of Spanish Cinema\,” an on-line exhibition of films made from the 1950s through the early 1980s. \nPioneras Film Schedule:\nMarch 9: Segundo López\, aventurero urbano (Ana Mariscal\, 1953)\nMarch 12: La gata (Margarita Alexandre & Rafael Torrecilla\, 1956)\nMarch 16: El crimen de Cuenca (Pilar Miró\, 1979)\nMarch 19: Función de noche (Josefina Molina\, 1981)\nMarch 23: Después de… No se os puede dejar solos (Cecilia & José Juan Bartolomé\, 1981)\nMarch 26: Después de… Atado y bien atado (Cecilia & José Juan Bartolomé\, 1981) \nThe series is supported by the National Endowment for the Humanities and the New Mexico Humanities Council.
URL:https://nhccnm.org/event/film-pioneras-mujeres-de-vanguardia-pioneers-women-of-the-avant-garde-despuus-de-atado-y-bien-atado/
LOCATION:NM
CATEGORIES:Film,Instituto Cervantes,Theatre
ATTACH;FMTTYPE=image/jpeg:https://nhccnm.org/wp-content/uploads/2021/03/7DD6E78D-9419-436A-81C5-49EF37D605F3.jpeg
END:VEVENT
END:VCALENDAR