BEGIN:VCALENDAR
VERSION:2.0
PRODID:-// - ECPv6.15.14//NONSGML v1.0//EN
CALSCALE:GREGORIAN
METHOD:PUBLISH
X-ORIGINAL-URL:https://nhccnm.org
X-WR-CALDESC:Events for 
REFRESH-INTERVAL;VALUE=DURATION:PT1H
X-Robots-Tag:noindex
X-PUBLISHED-TTL:PT1H
BEGIN:VTIMEZONE
TZID:America/Denver
BEGIN:DAYLIGHT
TZOFFSETFROM:-0700
TZOFFSETTO:-0600
TZNAME:MDT
DTSTART:20200308T090000
END:DAYLIGHT
BEGIN:STANDARD
TZOFFSETFROM:-0600
TZOFFSETTO:-0700
TZNAME:MST
DTSTART:20201101T080000
END:STANDARD
BEGIN:DAYLIGHT
TZOFFSETFROM:-0700
TZOFFSETTO:-0600
TZNAME:MDT
DTSTART:20210314T090000
END:DAYLIGHT
BEGIN:STANDARD
TZOFFSETFROM:-0600
TZOFFSETTO:-0700
TZNAME:MST
DTSTART:20211107T080000
END:STANDARD
BEGIN:DAYLIGHT
TZOFFSETFROM:-0700
TZOFFSETTO:-0600
TZNAME:MDT
DTSTART:20220313T090000
END:DAYLIGHT
BEGIN:STANDARD
TZOFFSETFROM:-0600
TZOFFSETTO:-0700
TZNAME:MST
DTSTART:20221106T080000
END:STANDARD
END:VTIMEZONE
BEGIN:VEVENT
DTSTART;VALUE=DATE:20210401
DTEND;VALUE=DATE:20210402
DTSTAMP:20260424T060924
CREATED:20210112T174700Z
LAST-MODIFIED:20210112T174700Z
UID:11892-1617235200-1617321599@nhccnm.org
SUMMARY:Virtual ¡Happy Arte Hour!
DESCRIPTION:6:30 pm (MST) \nLive on Zoom \nRegister in advance HERE \nWe are back! Coming to you through zoom! \nHappy Arte Hour is an adult only at making program and social gathering. We really miss seeing you at the NHCC but hope you will join us on the first Thursday of the month at 6:30 pm (MST) February – December. \nPlease register and prior to the class you will receive an email with the zoom link and items/art supplies  to gather from around your house.  Please do not pass out the link\, we will let you in to the zoom room from your registration\, thank you! \nFree community event \n \nWe will have simple project demos and suggestions for at home art making. We will have breakout rooms to bring back our roundtable small group discussions.  \nVirtual Happy Arte Hour is a chance for us to reconnect with our regular participants and for new people near and far to join us for a creative night of fun! \n#NewMexicoCulture #HappyArteHour #NHCC #Make #MuseumatHome
URL:https://nhccnm.org/event/virtual-happy-arte-hour-4/
LOCATION:NM
CATEGORIES:Education,Food,Visual Arts,Workshops
ATTACH;FMTTYPE=image/jpeg:https://nhccnm.org/wp-content/uploads/2021/01/43D1BE1B-9AFC-409F-8E85-4E328D11615F.jpeg
END:VEVENT
BEGIN:VEVENT
DTSTART;VALUE=DATE:20210420
DTEND;VALUE=DATE:20210421
DTSTAMP:20260424T060924
CREATED:20210416T200529Z
LAST-MODIFIED:20210416T200529Z
UID:12505-1618876800-1618963199@nhccnm.org
SUMMARY:Film: Del corto al largo (y viceversa)\, Rodilla
DESCRIPTION:12 pm (MST) \nAvailable for 48 hours \nInstituto Cervantes Vimeo Channel HERE \nSeveral of Juanjo Giménez’ short subjects explore the world of soccer\, and its emotional impact on fans. In Rodilla\, a chance sighting of the legendary player Rodilla working as a cab driver leads a middle-aged man on a search for a missing trading card to settle childhood scores. \n2009; Spanish with English subtitles; 16 minutes; not rated. \nFree community event \n \nDuring April\, Instituto Cervantes presents the work of four filmmakers in collaboration with Alcine\, the film festival of Alcalá de Henares (Madrid\, Spain). One of the oldest festivals in Spain\, Alcine celebrated its 50th anniversary in 2020. \nTo mark the anniversary of the festival\, Del corto al largo (y viceversa) presents a dialogue between two works (a short subject and a feature film) by each of the filmmakers selected from among its participants. In addition to showcasing the work of Alcine\, this cycle shows how filmmakers may work in one format or another\, according to their interests and the stories they have to tell. \nDel corto al largo includes the work of directors Álex Montoya\, Belén Macías\, and Juanjo Giménez\, as well as producer María del Puy Alvarado\, four artists who have presented their work at Alcine—known for its short film program\, although it also includes feature films—throughout their careers. \nDel corto al largo Film Schedule:\nApril 6: Lucas (Álex Montoya\, 2012)\nApril 9: Asamblea (Álex Montoya\, 2018)\nApril 13: Mala espina (Belén Macías\, 2001)\nApril 16: Marsella (Belén Macías\, 2013)\nApril 20: Rodilla (Juanjo Giménez\, 2009)\nApril 23: Nos hacemos falta (Juanjo Giménez\, 2001)\nApril 27: Pulse (Álvaro Giménez Sarmiento\, 2013)\nApril 30: Antonio Muñoz Molina\, el oficio del escritor (Álvaro Giménez Sarmiento\, 2014)
URL:https://nhccnm.org/event/film-del-corto-al-largo-y-viceversa-rodilla/
LOCATION:NM
CATEGORIES:Film,Instituto Cervantes,Performing Arts,Theatre
ATTACH;FMTTYPE=image/jpeg:https://nhccnm.org/wp-content/uploads/2021/04/EC2F034D-3AA1-462D-90D8-88F6ED30ADC9.jpeg
END:VEVENT
BEGIN:VEVENT
DTSTART;VALUE=DATE:20210423
DTEND;VALUE=DATE:20210424
DTSTAMP:20260424T060924
CREATED:20210416T200909Z
LAST-MODIFIED:20210416T200909Z
UID:12508-1619136000-1619222399@nhccnm.org
SUMMARY:Film: Del corto al largo (y viceversa)\, Nos hacemos falta
DESCRIPTION:12 pm (MST) \nAvailable for 48 hours \nInstituto Cervantes Vimeo Channel HERE \nIn Juanjo Giménez’ first feature film\, Nos hacemos falta\, a prisoner granted leave to attend his mother’s funeral encounters an old friend\, a newly discovered little brother\, and a truck with a clandestine cargo. As the assorted characters travel through the desert in this “peculiar road movie\,” they discover what unites them\, as well as what keeps them apart.  \n2001; Spanish with English subtitles; 97 minutes; not rated. \nFree community event \n \nDuring April\, Instituto Cervantes presents the work of four filmmakers in collaboration with Alcine\, the film festival of Alcalá de Henares (Madrid\, Spain). One of the oldest festivals in Spain\, Alcine celebrated its 50th anniversary in 2020. \nTo mark the anniversary of the festival\, Del corto al largo (y viceversa) presents a dialogue between two works (a short subject and a feature film) by each of the filmmakers selected from among its participants. In addition to showcasing the work of Alcine\, this cycle shows how filmmakers may work in one format or another\, according to their interests and the stories they have to tell. \nDel corto al largo includes the work of directors Álex Montoya\, Belén Macías\, and Juanjo Giménez\, as well as producer María del Puy Alvarado\, four artists who have presented their work at Alcine—known for its short film program\, although it also includes feature films—throughout their careers. \nDel corto al largo Film Schedule:\nApril 6: Lucas (Álex Montoya\, 2012)\nApril 9: Asamblea (Álex Montoya\, 2018)\nApril 13: Mala espina (Belén Macías\, 2001)\nApril 16: Marsella (Belén Macías\, 2013)\nApril 20: Rodilla (Juanjo Giménez\, 2009)\nApril 23: Nos hacemos falta (Juanjo Giménez\, 2001)\nApril 27: Pulse (Álvaro Giménez Sarmiento\, 2013)\nApril 30: Antonio Muñoz Molina\, el oficio del escritor (Álvaro Giménez Sarmiento\, 2014)
URL:https://nhccnm.org/event/film-del-corto-al-largo-y-viceversa-nos-hacemos-falta/
LOCATION:NM
CATEGORIES:Film,Instituto Cervantes,Performing Arts,Theatre
ATTACH;FMTTYPE=image/jpeg:https://nhccnm.org/wp-content/uploads/2021/04/EC2F034D-3AA1-462D-90D8-88F6ED30ADC9.jpeg
END:VEVENT
BEGIN:VEVENT
DTSTART;VALUE=DATE:20210429
DTEND;VALUE=DATE:20210430
DTSTAMP:20260424T060924
CREATED:20210415T211931Z
LAST-MODIFIED:20210415T211931Z
UID:12474-1619654400-1619740799@nhccnm.org
SUMMARY:On-Line Albuquerque Premiere: Conjunto Blues
DESCRIPTION:7 pm (MST) \nThe premiere performance will be on our Foundation YouTube page HERE \nThis performance\, the Albuquerque premiere of Valdez’ critically acclaimed work\, is made possible through the generous sponsorship of AARP. \nIn Conjunto Blues\, playwright\, actor\, and musician Nicolás Valdez explores the social and historical conditions that led to the development of conjunto music as an expression of cultural resistance and liberation. Centering on Valdez’ personal experience growing up in the conjunto music scene\, the work is loosely based on his relationship with his grandfather\, also an aficionado of the music. Audiences are taken through a shifting landscape of memory and reflection that is highlighted throughout by traditional music performed live by Valdez and accompanied by musicians Luis Gonzalez on bajo sexto (12-string Mexican guitar)\, Sarah Rocha on tololoche (upright bass)\, and Joaquin Abrego on batería (drums). With a cast of colorfully poignant characters\, Conjunto Blues is a deeply personal performance for viewers of all ages and backgrounds\, and one that is sure to entertain as well as educate. \n \nJoin us for three members only/donors webinars in association with the premiere of Conjunto Blues. \nFollowing the opening night performance at 7 pm on April 29\, Valdez will host a live question-and-answer session via Zoom\, during which audience members can discuss the show and ask questions about conjunto music in general. \nOn Saturday\, May 1 at 2 pm\, Valdez will present an hour-long workshop and discussion live from his home\, revolving around specific themes drawn from pre-recorded interviews and historical documentary footage that he has compiled. \nOn Sunday\, May 2 at 2 pm\, Conjunto Blues\, performance sponsor\, AARP will offer a live webinar on brain health and the arts\, including the intrinsic connection between music and memory\, the lasting effects of music on the brain\, and tools to assist in boosting brain health and wellness. \nPlease register\, with donations suggested HERE through 9 pm on Sunday\, May 2\, 2021. You may also email marmijo@nhccfoundation.org to register for any of these events. We will send you the link to the performance. \nThe world premiere of Conjunto Blues took place in Denver in 2013 with the support of Su Teatro\, the National Endowment for the Arts\, and the National Performance Network.  The work has also been performed at venues including Tucson’s Fox Theater and San Antonio’s Guadalupe Cultural Arts Center (GCAC)\, and as part of the Los Angeles Theater Company’s Encuentro de las Américas. Conjunto Blues was adapted for online viewing in November of 2020 through collaborations with the GCAC and Teatro Vivo of Austin\, Texas. \nThis performance\, the Albuquerque premiere of Valdez’ critically acclaimed work\, is made possible through the generous sponsorship of AARP.  Access to the artist’s live workshop on May 1 and to an AARP webinar on May 2\, both described below\, is free to members of the NHCC Foundation and AARP members\, as well as to donors contributing $50 or more.
URL:https://nhccnm.org/event/on-line-albuquerque-premiere-conjunto-blues/
LOCATION:NM
CATEGORIES:Music,Performing Arts,Theatre
ATTACH;FMTTYPE=image/jpeg:https://nhccnm.org/wp-content/uploads/2021/04/400x600.ConjuntoBlues.jpg
END:VEVENT
END:VCALENDAR