BEGIN:VCALENDAR
VERSION:2.0
PRODID:-// - ECPv6.15.14//NONSGML v1.0//EN
CALSCALE:GREGORIAN
METHOD:PUBLISH
X-ORIGINAL-URL:https://nhccnm.org
X-WR-CALDESC:Events for 
REFRESH-INTERVAL;VALUE=DURATION:PT1H
X-Robots-Tag:noindex
X-PUBLISHED-TTL:PT1H
BEGIN:VTIMEZONE
TZID:America/Denver
BEGIN:DAYLIGHT
TZOFFSETFROM:-0700
TZOFFSETTO:-0600
TZNAME:MDT
DTSTART:20150308T090000
END:DAYLIGHT
BEGIN:STANDARD
TZOFFSETFROM:-0600
TZOFFSETTO:-0700
TZNAME:MST
DTSTART:20151101T080000
END:STANDARD
BEGIN:DAYLIGHT
TZOFFSETFROM:-0700
TZOFFSETTO:-0600
TZNAME:MDT
DTSTART:20160313T090000
END:DAYLIGHT
BEGIN:STANDARD
TZOFFSETFROM:-0600
TZOFFSETTO:-0700
TZNAME:MST
DTSTART:20161106T080000
END:STANDARD
BEGIN:DAYLIGHT
TZOFFSETFROM:-0700
TZOFFSETTO:-0600
TZNAME:MDT
DTSTART:20170312T090000
END:DAYLIGHT
BEGIN:STANDARD
TZOFFSETFROM:-0600
TZOFFSETTO:-0700
TZNAME:MST
DTSTART:20171105T080000
END:STANDARD
END:VTIMEZONE
BEGIN:VEVENT
DTSTART;VALUE=DATE:20160929
DTEND;VALUE=DATE:20161030
DTSTAMP:20260423T052643
CREATED:20160929T225256Z
LAST-MODIFIED:20160929T225256Z
UID:2663-1475107200-1477785599@nhccnm.org
SUMMARY:Dia de los Muertos
DESCRIPTION:Día de Muertos is an annual traditional holiday celebrated throughout Mexico and many Hispanic communities. Join the NHCC and experienced\, knowledgeable local artists to learn about the meaning of this celebration\, the traditional arts and crafts associated with the celebration and development of ofrendas that honor families and individuals. \nFor a PDF with all of our Día de los Muertosevents click HERE. \nFor more information please call or email Elena Baca at 505-246-2261 or ElenaD.Baca@state.nm.us \nDia de los Muertos 2016 events at the NHCC are generously sponsored by Holman’s USA.
URL:https://nhccnm.org/event/dia-de-los-muertos/
LOCATION:Domenici Education Building\, 1701 4th Street SW\, Albuquerque\, NM\, 87102
CATEGORIES:Education,School and Youth Programs,Workshops
ATTACH;FMTTYPE=image/jpeg:https://nhccnm.org/wp-content/uploads/2016/09/Altar.jpg.jpg
END:VEVENT
BEGIN:VEVENT
DTSTART;VALUE=DATE:20161001
DTEND;VALUE=DATE:20161002
DTSTAMP:20260423T052643
CREATED:20160901T224913Z
LAST-MODIFIED:20160901T224913Z
UID:2582-1475280000-1475366399@nhccnm.org
SUMMARY:¡Vamos al Museo!: Día de los Muertos: Sugar Skulls & Mini Ofrendas
DESCRIPTION:10:30 am to 12:30 pm \nThe National Hispanic Cultural Center is pleased to offer children’s programming on the first Saturday morning of every month. This is a fun and engaging docent and artist-led family program.  Families (limited to 25 participants) get a 30-minute museum tour focused on an art form\, source inspiration\, artist or type of material.  Following the tour\, the whole family can create their own artwork in the Pete V. Domenici Education Building Messy Classroom. \nA great morning of art-making for children of all ages and families of all sizes! \nPlease pre-register using the link HERE (so we know how many materials to prepare) \nFor more information please call or email Elena Baca at 505-246-2261 or ElenaD.Baca@state.nm.us\nFree\, $5 donations are encouraged to support the artists & purchase supplies \nThis and all other Dia de los Muertos events at the NHCC are generously sponsored by Holman’s USA.
URL:https://nhccnm.org/event/vamos-al-museo-2/
LOCATION:Domenici Education Building\, 1701 4th Street SW\, Albuquerque\, NM\, 87102
CATEGORIES:Education,School and Youth Programs,Workshops
ATTACH;FMTTYPE=image/jpeg:https://nhccnm.org/wp-content/uploads/2016/09/Altar.jpg.jpg
END:VEVENT
BEGIN:VEVENT
DTSTART;VALUE=DATE:20161006
DTEND;VALUE=DATE:20161007
DTSTAMP:20260423T052643
CREATED:20160901T225501Z
LAST-MODIFIED:20160901T225501Z
UID:2585-1475712000-1475798399@nhccnm.org
SUMMARY:¡HAH! Happy Arte Hour: Día de los Muertos: Ofrendas & Sugar Skulls
DESCRIPTION:5:30 pm to 7:30 pm \nOn the first Thursday of the month\, NHCC invites adults for artistic fun in a relaxed social setting\, which includes snacks\, refreshments\, and beer & wine for sale from Pop Fizz.  This is a great opportunity for friends to hang out\, a unique date night option\, or a place to come solo and connect with fellow art enthusiasts. \nPlease pre-register using this link HERE (so we know how many materials to prepare) \nFor more information please call or email Elena Baca at 505-246-2261 or ElenaD.Baca@state.nm.us\nFree\, $5 donations are encouraged to support the artists & purchase supplies \nThis and all other Dia de los Muertos events at the NHCC are generously sponsored by Holman’s USA.
URL:https://nhccnm.org/event/hah-happy-arte-hour-7/
LOCATION:Domenici Education Building\, 1701 4th Street SW\, Albuquerque\, NM\, 87102
CATEGORIES:Education,Workshops
ATTACH;FMTTYPE=image/jpeg:https://nhccnm.org/wp-content/uploads/2016/09/Altar.jpg.jpg
END:VEVENT
BEGIN:VEVENT
DTSTART;VALUE=DATE:20161011
DTEND;VALUE=DATE:20161012
DTSTAMP:20260423T052643
CREATED:20160825T213740Z
LAST-MODIFIED:20160825T213740Z
UID:2545-1476144000-1476230399@nhccnm.org
SUMMARY:Making Art: Día de los Muertos Workshop
DESCRIPTION:10 am to 11:30 am ** \nSchool groups attend a 90-minute session which includes a short lecture on the history of the celebration\, a hands-on art station\, and a guided tour of our student created ofrenda (altar) installations. \nThis is a free event with registration. Limited availability. Limit 35 per session \n**Workshop only\, \nOfrenda Exhibit opens on 10/18 \nFor a PDF with all of the education opportunities please click HERE. \nIf you would like to register please click HERE. \nFor more information please contact Elena Baca at ElenaD.Baca@state.nm.us or call her direct line at 505-383-4734. \nThis and all other Dia de los Muertos events at the NHCC are generously sponsored by Holman’s USA.
URL:https://nhccnm.org/event/making-art-dia-de-los-muertos-workshop/
LOCATION:Domenici Education Building\, 1701 4th Street SW\, Albuquerque\, NM\, 87102
CATEGORIES:Education,School and Youth Programs,Workshops
ATTACH;FMTTYPE=image/jpeg:https://nhccnm.org/wp-content/uploads/2016/09/sugar-skulls.jpg
END:VEVENT
BEGIN:VEVENT
DTSTART;VALUE=DATE:20161012
DTEND;VALUE=DATE:20161015
DTSTAMP:20260423T052643
CREATED:20160929T183322Z
LAST-MODIFIED:20160929T183322Z
UID:2651-1476230400-1476489599@nhccnm.org
SUMMARY:Día de los Muertos Exhibition - Call for Entries
DESCRIPTION:10 am to 5 pm \nEach year the Education Department at the National Hispanic Cultural Center\, works with schools and community organizations\, to host an Ofrenda (altar) Exhibit\, in celebration of Día de los Muertos. Your altar \nInstallation dates are October 12-14\, 2016 \nThe exhibit runs October 18-November 11\, 2016 \nPlease provide your own tables\, boxes or structure for you Altar. We cannot accommodate all requests for tables\, since they are also used for many other programs and rentals.  Thank you! \nPlease use this link HERE to register\, you will receive an email confirmation\, notifying you of your acceptance. \nFor more information or questions please call or email Elena at ElenaD.Baca@state.nm.us or 505-383-4734\nFree community event \nThis and all other Dia de los Muertos events at the NHCC are generously sponsored by Holman’s USA.
URL:https://nhccnm.org/event/dia-de-los-muertos-exhibition-call-entries/
LOCATION:Domenici Education Building\, 1701 4th Street SW\, Albuquerque\, NM\, 87102
CATEGORIES:Education,School and Youth Programs,Workshops
ATTACH;FMTTYPE=image/jpeg:https://nhccnm.org/wp-content/uploads/2016/09/Altar.jpg.jpg
END:VEVENT
BEGIN:VEVENT
DTSTART;VALUE=DATE:20161018
DTEND;VALUE=DATE:20161019
DTSTAMP:20260423T052643
CREATED:20160825T214138Z
LAST-MODIFIED:20160825T214138Z
UID:2548-1476748800-1476835199@nhccnm.org
SUMMARY:Making Art: Día de los Muertos Workshop
DESCRIPTION:9:30 am or 11:30 am \nSchool groups attend a 90-minute session which includes a short lecture on the history of the celebration\, a hands-on art station\, and a guided tour of our student created ofrenda (altar) installations. \nThis is a free event with registration. Limited availability. Limit 35 per session \nOfrenda Exhibit opens on 10/18 \nFor a PDF with all of the education opportunities please click HERE. \nIf you would like to register please click HERE. \nFor more information please contact Elena Baca at ElenaD.Baca@state.nm.us or call her direct line at 505-383-4734. \nThis and all other Dia de los Muertos events at the NHCC are generously sponsored by Holman’s USA.
URL:https://nhccnm.org/event/making-art-dia-de-los-muertos-workshop-2/
LOCATION:Domenici Education Building\, 1701 4th Street SW\, Albuquerque\, NM\, 87102
CATEGORIES:Education,School and Youth Programs,Workshops
ATTACH;FMTTYPE=image/jpeg:https://nhccnm.org/wp-content/uploads/2016/09/Altar.jpg.jpg
END:VEVENT
BEGIN:VEVENT
DTSTART;VALUE=DATE:20161018
DTEND;VALUE=DATE:20161112
DTSTAMP:20260423T052643
CREATED:20160929T215352Z
LAST-MODIFIED:20160929T215352Z
UID:2655-1476748800-1478908799@nhccnm.org
SUMMARY:Día de los Muertos Ofrendas
DESCRIPTION:Tuesday–Saturday\, 10 am to 5 pm \nDía de Muertos is an annual traditional holiday celebrated throughout Mexico and many Hispanic communities. Join the NHCC and experienced\, knowledgeable local artists to learn about the meaning of this celebration\, the traditional arts and crafts associated with the celebration and development of ofrendas that honor families and individuals. \nEach year the Education Department at the National Hispanic Cultural Center\, works with schools and community organizations\, to host an Ofrenda (altar) Exhibit\, in celebration of Día de los Muertos. Your altar \nTours available \nFor more information or questions please call or email Elena at ElenaD.Baca@state.nm.us or 505-383-4734\nFree community event \nThis and all other Dia de los Muertos events at the NHCC are generously sponsored by Holman’s USA.
URL:https://nhccnm.org/event/exhibit-dia-de-los-muertos-ofrendas/
LOCATION:Domenici Education Building\, 1701 4th Street SW\, Albuquerque\, NM\, 87102
CATEGORIES:Education,Exhibitions,School and Youth Programs,Visual Arts
ATTACH;FMTTYPE=image/jpeg:https://nhccnm.org/wp-content/uploads/2016/09/Altar.jpg.jpg
END:VEVENT
END:VCALENDAR