BEGIN:VCALENDAR
VERSION:2.0
PRODID:-// - ECPv6.15.14//NONSGML v1.0//EN
CALSCALE:GREGORIAN
METHOD:PUBLISH
X-ORIGINAL-URL:https://nhccnm.org
X-WR-CALDESC:Events for 
REFRESH-INTERVAL;VALUE=DURATION:PT1H
X-Robots-Tag:noindex
X-PUBLISHED-TTL:PT1H
BEGIN:VTIMEZONE
TZID:America/Denver
BEGIN:DAYLIGHT
TZOFFSETFROM:-0700
TZOFFSETTO:-0600
TZNAME:MDT
DTSTART:20150308T090000
END:DAYLIGHT
BEGIN:STANDARD
TZOFFSETFROM:-0600
TZOFFSETTO:-0700
TZNAME:MST
DTSTART:20151101T080000
END:STANDARD
BEGIN:DAYLIGHT
TZOFFSETFROM:-0700
TZOFFSETTO:-0600
TZNAME:MDT
DTSTART:20160313T090000
END:DAYLIGHT
BEGIN:STANDARD
TZOFFSETFROM:-0600
TZOFFSETTO:-0700
TZNAME:MST
DTSTART:20161106T080000
END:STANDARD
BEGIN:DAYLIGHT
TZOFFSETFROM:-0700
TZOFFSETTO:-0600
TZNAME:MDT
DTSTART:20170312T090000
END:DAYLIGHT
BEGIN:STANDARD
TZOFFSETFROM:-0600
TZOFFSETTO:-0700
TZNAME:MST
DTSTART:20171105T080000
END:STANDARD
END:VTIMEZONE
BEGIN:VEVENT
DTSTART;VALUE=DATE:20161018
DTEND;VALUE=DATE:20161112
DTSTAMP:20260422T225237
CREATED:20160929T215352Z
LAST-MODIFIED:20160929T215352Z
UID:2655-1476748800-1478908799@nhccnm.org
SUMMARY:Día de los Muertos Ofrendas
DESCRIPTION:Tuesday–Saturday\, 10 am to 5 pm \nDía de Muertos is an annual traditional holiday celebrated throughout Mexico and many Hispanic communities. Join the NHCC and experienced\, knowledgeable local artists to learn about the meaning of this celebration\, the traditional arts and crafts associated with the celebration and development of ofrendas that honor families and individuals. \nEach year the Education Department at the National Hispanic Cultural Center\, works with schools and community organizations\, to host an Ofrenda (altar) Exhibit\, in celebration of Día de los Muertos. Your altar \nTours available \nFor more information or questions please call or email Elena at ElenaD.Baca@state.nm.us or 505-383-4734\nFree community event \nThis and all other Dia de los Muertos events at the NHCC are generously sponsored by Holman’s USA.
URL:https://nhccnm.org/event/exhibit-dia-de-los-muertos-ofrendas/
LOCATION:Domenici Education Building\, 1701 4th Street SW\, Albuquerque\, NM\, 87102
CATEGORIES:Education,Exhibitions,School and Youth Programs,Visual Arts
ATTACH;FMTTYPE=image/jpeg:https://nhccnm.org/wp-content/uploads/2016/09/Altar.jpg.jpg
END:VEVENT
BEGIN:VEVENT
DTSTART;VALUE=DATE:20161103
DTEND;VALUE=DATE:20161104
DTSTAMP:20260422T225237
CREATED:20160929T221339Z
LAST-MODIFIED:20160929T221339Z
UID:2656-1478131200-1478217599@nhccnm.org
SUMMARY:Día de los Muertos: Hands on Workshop
DESCRIPTION:4 pm to 5:30 pm \nThe National Hispanic Cultural Center will hold its annual Despedida to celebrate  Día de los Muertos with music\, poetry and hands-on art making at this time-honored community gathering. This is a great event for all ages. \nWorkshop – Mini Ofrendas & Sugar Skulls at 4 pm to 5:30 pm \nTour the ofrendas around the NHCC campus; enjoy music\, traditional chocolate mexicano\, pan de muertos\, and sharing of special and heartfelt memories. \nFor more information please call or email Elena Baca at 505-246-2261 or ElenaD.Baca@state.nm.us\nFree community event \nThis and all other Dia de los Muertos events at the NHCC are generously sponsored by Holman’s USA.
URL:https://nhccnm.org/event/dia-de-los-muertos-hands-workshop/
LOCATION:Domenici Education Building\, 1701 4th Street SW\, Albuquerque\, NM\, 87102
CATEGORIES:Education,School and Youth Programs,Workshops
ATTACH;FMTTYPE=image/jpeg:https://nhccnm.org/wp-content/uploads/2016/09/Altar.jpg.jpg
END:VEVENT
BEGIN:VEVENT
DTSTART;VALUE=DATE:20161103
DTEND;VALUE=DATE:20161104
DTSTAMP:20260422T225237
CREATED:20160929T221705Z
LAST-MODIFIED:20160929T221705Z
UID:2657-1478131200-1478217599@nhccnm.org
SUMMARY:Día de los Muertos: Despedida
DESCRIPTION:5 pm to 7 pm \nDía de Muertos is an annual traditional holiday celebrated throughout Mexico and many Hispanic communities. Join the NHCC and experienced\, knowledgeable local artists to learn about the meaning of this celebration\, the traditional arts and crafts associated with the celebration and development of ofrendas that honor families and individuals. \nThe National Hispanic Cultural Center will hold its annual Despedida to celebrate  Día de los Muertos with music\, poetry and hands-on art making at this time-honored community gathering. This is a great event for all ages. Tour the ofrendas around the NHCC campus; enjoy music\, traditional chocolate mexicano\, pan de muertos\, and sharing of special and heartfelt memories. \nFor more information please call or email Elena Baca at 505-246-2261 or ElenaD.Baca@state.nm.us\nFree community event \nThis and all other Dia de los Muertos events at the NHCC are generously sponsored by Holman’s USA.
URL:https://nhccnm.org/event/dia-de-los-muertos-despedida/
LOCATION:Domenici Education Building\, 1701 4th Street SW\, Albuquerque\, NM\, 87102
CATEGORIES:Education,Workshops
ATTACH;FMTTYPE=image/jpeg:https://nhccnm.org/wp-content/uploads/2016/09/sugar-skulls.jpg
END:VEVENT
BEGIN:VEVENT
DTSTART;VALUE=DATE:20161105
DTEND;VALUE=DATE:20161106
DTSTAMP:20260422T225237
CREATED:20160901T225035Z
LAST-MODIFIED:20160901T225035Z
UID:2583-1478304000-1478390399@nhccnm.org
SUMMARY:¡Vamos al Museo!: Día de los Muertos: Sugar Skulls & Mini Ofrendas
DESCRIPTION:10:30 am to 12:30 pm \nThe National Hispanic Cultural Center is pleased to offer children’s programming on the first Saturday morning of every month. This is a fun and engaging docent and artist-led family program.  Families (limited to 25 participants) get a 30-minute museum tour focused on an art form\, source inspiration\, artist or type of material.  Following the tour\, the whole family can create their own artwork in the Pete V. Domenici Education Building Messy Classroom. \nA great morning of art-making for children of all ages and families of all sizes! \nPlease pre-register using the link HERE (so we know how many materials to prepare) \nFor more information please call or email Elena Baca at 505-246-2261 or ElenaD.Baca@state.nm.us\nFree\, $5 donations are encouraged to support the artists & purchase supplies \nThis and all other Dia de los Muertos events at the NHCC are generously sponsored by Holman’s USA.
URL:https://nhccnm.org/event/vamos-al-museo-6/
LOCATION:Domenici Education Building\, 1701 4th Street SW\, Albuquerque\, NM\, 87102
CATEGORIES:Education,School and Youth Programs,Workshops
ATTACH;FMTTYPE=image/jpeg:https://nhccnm.org/wp-content/uploads/2016/09/Altar.jpg.jpg
END:VEVENT
END:VCALENDAR