BEGIN:VCALENDAR
VERSION:2.0
PRODID:-// - ECPv6.15.14//NONSGML v1.0//EN
CALSCALE:GREGORIAN
METHOD:PUBLISH
X-ORIGINAL-URL:https://nhccnm.org
X-WR-CALDESC:Events for 
REFRESH-INTERVAL;VALUE=DURATION:PT1H
X-Robots-Tag:noindex
X-PUBLISHED-TTL:PT1H
BEGIN:VTIMEZONE
TZID:America/Denver
BEGIN:DAYLIGHT
TZOFFSETFROM:-0700
TZOFFSETTO:-0600
TZNAME:MDT
DTSTART:20150308T090000
END:DAYLIGHT
BEGIN:STANDARD
TZOFFSETFROM:-0600
TZOFFSETTO:-0700
TZNAME:MST
DTSTART:20151101T080000
END:STANDARD
BEGIN:DAYLIGHT
TZOFFSETFROM:-0700
TZOFFSETTO:-0600
TZNAME:MDT
DTSTART:20160313T090000
END:DAYLIGHT
BEGIN:STANDARD
TZOFFSETFROM:-0600
TZOFFSETTO:-0700
TZNAME:MST
DTSTART:20161106T080000
END:STANDARD
BEGIN:DAYLIGHT
TZOFFSETFROM:-0700
TZOFFSETTO:-0600
TZNAME:MDT
DTSTART:20170312T090000
END:DAYLIGHT
BEGIN:STANDARD
TZOFFSETFROM:-0600
TZOFFSETTO:-0700
TZNAME:MST
DTSTART:20171105T080000
END:STANDARD
END:VTIMEZONE
BEGIN:VEVENT
DTSTART;VALUE=DATE:20160819
DTEND;VALUE=DATE:20160820
DTSTAMP:20260425T070120
CREATED:20160624T173755Z
LAST-MODIFIED:20160624T173755Z
UID:2269-1471564800-1471651199@nhccnm.org
SUMMARY:Domingos en Arte\, featuring Jesús Díaz y Su QBA
DESCRIPTION:7 pm \nThe NHCC’s new summer music and dance series in the Center’s enchanting Fountain Courtyard presents this season’s last concert\, in partnership with Melaza Music. Spend a final evening with us enjoying live music\, drinks\, and the delicious Latin cuisine of Nob Hill’s Guava Tree Cafe. We have invited some of our musician friends\, from the local community and outside\, for lively summer get-togethers right next to the beautiful Rio Grande Bosque. \nCuban-born percussionist\, arranger\, vocalist\, and educator Jesús Díaz\, a resident of the Bay Area since 1980\, is now one of the most in-demand performers and studio musicians worldwide. A key member of many of the region’s leading Latin ensembles\, he has performed with artists including Stevie Wonder\, Carlos Santana\, Dizzy Gillespie\, Tito Puente\, and Celia Cruz. His 10-piece orchestra Jesús Díaz y Su QBA\, founded in 1998\, has a repertoire of original compositions based on traditional Afro-Cuban music with influences of funk and jazz—the new Cuban dance music known as timba. \nJoining Díaz as a special guest will be Grammy award-winner and four-time Grammy nominee Raul Pineda\, named one of the best and most innovative Latin drummers in the world today. His unique style of playing—a blend of Afro-Cuban and contemporary jazz influences applied to the modern drum set—has made him one of Cuba’s most influential drummers in his generation.\n$17; free for 12 and younger
URL:https://nhccnm.org/event/domingos-en-arte-featuring-jesus-diaz-y-su-qba/
LOCATION:Patio | Fountain Courtyard\, 1701 4th Street SW\, Albuquerque\, NM\, 87102\, United States
CATEGORIES:Dance,Music,Performing Arts
END:VEVENT
END:VCALENDAR