BEGIN:VCALENDAR
VERSION:2.0
PRODID:-// - ECPv6.15.14//NONSGML v1.0//EN
CALSCALE:GREGORIAN
METHOD:PUBLISH
X-ORIGINAL-URL:https://nhccnm.org
X-WR-CALDESC:Events for 
REFRESH-INTERVAL;VALUE=DURATION:PT1H
X-Robots-Tag:noindex
X-PUBLISHED-TTL:PT1H
BEGIN:VTIMEZONE
TZID:America/Denver
BEGIN:DAYLIGHT
TZOFFSETFROM:-0700
TZOFFSETTO:-0600
TZNAME:MDT
DTSTART:20170312T090000
END:DAYLIGHT
BEGIN:STANDARD
TZOFFSETFROM:-0600
TZOFFSETTO:-0700
TZNAME:MST
DTSTART:20171105T080000
END:STANDARD
BEGIN:DAYLIGHT
TZOFFSETFROM:-0700
TZOFFSETTO:-0600
TZNAME:MDT
DTSTART:20180311T090000
END:DAYLIGHT
BEGIN:STANDARD
TZOFFSETFROM:-0600
TZOFFSETTO:-0700
TZNAME:MST
DTSTART:20181104T080000
END:STANDARD
BEGIN:DAYLIGHT
TZOFFSETFROM:-0700
TZOFFSETTO:-0600
TZNAME:MDT
DTSTART:20190310T090000
END:DAYLIGHT
BEGIN:STANDARD
TZOFFSETFROM:-0600
TZOFFSETTO:-0700
TZNAME:MST
DTSTART:20191103T080000
END:STANDARD
END:VTIMEZONE
BEGIN:VEVENT
DTSTART;VALUE=DATE:20181004
DTEND;VALUE=DATE:20181005
DTSTAMP:20260421T143629
CREATED:20180509T162651Z
LAST-MODIFIED:20180509T162651Z
UID:5039-1538611200-1538697599@nhccnm.org
SUMMARY:¡HAH! Happy Arte Hour
DESCRIPTION:5:30 pm to 7:30 pm \nOn the first Thursday of the month\, NHCC invites adults for artistic fun in a relaxed social setting\, which includes snacks\, refreshments\, and beer & wine for sale from Pop Fizz. This is a great opportunity for friends to hang out\, a unique date night option\, or a place to come solo and connect with fellow art enthusiasts. \nThis month\, join an artist Ehren Kee Natay from the exhibition Because It’s Time: Unraveling Race and Place in NM who will lead the workshop. \nPlease pre-register using the link HERE (so we know how many materials to prepare) \nFor more information please call or email Elena Baca at 505-246-2261 or ElenaD.Baca@state.nm.us\nFree\, $5 donations are encouraged to support the artists & purchase supplies
URL:https://nhccnm.org/event/hah-happy-arte-hour-27/
LOCATION:Domenici Education Building\, 1701 4th Street SW\, Albuquerque\, NM\, 87102
CATEGORIES:Education,Food,Visual Arts,Workshops
ATTACH;FMTTYPE=image/jpeg:https://nhccnm.org/wp-content/uploads/2016/12/HAH-2017-WebsiteBanner.jpg
END:VEVENT
BEGIN:VEVENT
DTSTART;VALUE=DATE:20181006
DTEND;VALUE=DATE:20181007
DTSTAMP:20260421T143629
CREATED:20180509T163010Z
LAST-MODIFIED:20180509T163010Z
UID:5040-1538784000-1538870399@nhccnm.org
SUMMARY:¡Vamos al Museo!
DESCRIPTION:10:30 am to noon \nA great morning of art-making for children of all ages and families of all sizes. A visit to the museum is included in this workshop led by artist Ehren Kee Natay from the NHCC Art Museum exhibit Because It’s Time: Unraveling Race and Place in NM. We will meet in the Creative Classroom in the Pete V. Domenici Building. \nPlease pre-register (so we know how many materials to prepare): https://docs.google.com/forms/d/e/1FAIpQLSdnco4M-Pt962pqqqtS5H7WUOkIPhyq5n0tUyoTeYDRFpri9w/viewform \nFor more information please call or email Elena Baca at 505-246-2261 or ElenaD.Baca@state.nm.us\nFree\, $5 donations are encouraged to support the artists & purchase supplies
URL:https://nhccnm.org/event/vamos-al-museo-23/
LOCATION:Domenici Education Building\, 1701 4th Street SW\, Albuquerque\, NM\, 87102
CATEGORIES:Education,Visual Arts,Workshops
ATTACH;FMTTYPE=image/jpeg:https://nhccnm.org/wp-content/uploads/2018/05/VAM-2017-BannerLogo.jpg
END:VEVENT
BEGIN:VEVENT
DTSTART;VALUE=DATE:20181006
DTEND;VALUE=DATE:20181007
DTSTAMP:20260421T143629
CREATED:20180901T194514Z
LAST-MODIFIED:20180901T194514Z
UID:5416-1538784000-1538870399@nhccnm.org
SUMMARY:Escribir Nuevo Mexico—Taos County
DESCRIPTION:3 pm \nEscribir Nuevo Mexico—Taos County: Featuring NM Authors David Gurule\, Rose Spader\, and Joanna Vidaurre-Trujillo \nThe NHCC is proud to present a new reading series featuring books about New Mexico authored by New Mexican writers. Each reading will feature 2-3 writers whose books focus on a particular place in the Land of Enchantment. On Oct. 6 we feature Tortillas and Butter\, A Young Man’s Quest for a Meaningful Life by David J. Gurule\, Overturned Bucket\, by Rose Spader\, based on the true story of one woman’s resilience during the New Mexico Territorial fight for land\, and Potatoes and Beans/Papas y Frijoles\, by Joanna Vidaurre-Trujillo\, a collection of short stories and poems written in the traditional Spanish dialect of northern New Mexico\, with English translations.\nFree
URL:https://nhccnm.org/event/escribir-nuevo-mexico-taos-county/
LOCATION:NHCC-Newsletter-August-11-–-24
CATEGORIES:Book Club,Education,History and Literary Arts,Speakers,Workshops
ATTACH;FMTTYPE=image/jpeg:https://nhccnm.org/wp-content/uploads/2018/09/ESCRIBIR-NUEVO-MEXICO-2018-logo.jpg
END:VEVENT
BEGIN:VEVENT
DTSTART;VALUE=DATE:20181006
DTEND;VALUE=DATE:20181007
DTSTAMP:20260421T143629
CREATED:20180920T195105Z
LAST-MODIFIED:20180920T195105Z
UID:5469-1538784000-1538870399@nhccnm.org
SUMMARY:Monthly Speakers Program for the Hispanic Genealogical Research Center of NM (Rental)
DESCRIPTION:10:30 am \nSuzanne Stamatov will present\, “Colonial New Mexico Families: Community\, Church and State 1692-1800.”  The title is from her book of the same name\, which will be available after the meeting. In villages scattered across the northern reaches of Spain’s New World Empire\, remote from each other and from the centers of power\, family mattered. In this book Suzanne M. Stamatov skillfully relies on both ecclesiastical and civil records to discover how families formed and endured during this period of contention in the eighteenth century. Family was both the source of comfort and support and of competition\, conflict\, and even harm. Cases\, including those of seduction\, broken marriage promises\, domestic violence\, and inheritance\, reveal the variability’s families faced and how they coped. Stamatov further places family in its larger contexts of church\, secular governance\, and community and reveals how these exchanges–mundane and dramatic–wove families into the enduring networks that created an intimate colonial New Mexico.
URL:https://nhccnm.org/event/monthly-speakers-program-hispanic-genealogical-research-center-nm-rental-10/
LOCATION:NHCC-BOD-January-2020-Meeting
CATEGORIES:Rental
ATTACH;FMTTYPE=image/jpeg:https://nhccnm.org/wp-content/uploads/2017/08/hgrc_state_logo.jpg
END:VEVENT
BEGIN:VEVENT
DTSTART;VALUE=DATE:20181006
DTEND;VALUE=DATE:20181008
DTSTAMP:20260421T143629
CREATED:20180715T204345Z
LAST-MODIFIED:20180715T204345Z
UID:5270-1538784000-1538956799@nhccnm.org
SUMMARY:Mundos de Mestizaje
DESCRIPTION:12 pm to 5 pm \nA Vision of History through Fresco… \nMundos de Mestizaje by Frederico Vigil is a mural housed in the Torreón on the campus of the National Hispanic Cultural Center. This monumental fresco depicts thousands of years of Hispanic history highlighting diverse cultural connections between people and places from the Iberian Peninsula to the Americas. The 4\,000 square foot painting is one of the largest frescos in North America. \nThe digitized imagery of the painting ensures that this culturally significant work can be a sharing and learning experience for students and families anywhere. We invite you to explore the imagery\, history and complexities of the Mundos de Mestizaje mural. \nDiscover on your own by clicking the link HERE.\n(It may take a moment to load.  Microsoft Internet Explorer is NOT recommended.  Best experienced with Safari\, Firefox or Chrome.)\nFree
URL:https://nhccnm.org/event/mundos-de-mestizaje-39/
LOCATION:NHCC Torreón\, 1701 4th street SW\, Albuquerque\, NM\, 87102\, United States
CATEGORIES:Visual Arts
ATTACH;FMTTYPE=image/jpeg:https://nhccnm.org/wp-content/uploads/2017/08/Torreon.jpg
END:VEVENT
BEGIN:VEVENT
DTSTART;VALUE=DATE:20181009
DTEND;VALUE=DATE:20181110
DTSTAMP:20260421T143629
CREATED:20180917T211043Z
LAST-MODIFIED:20180917T211043Z
UID:5459-1539043200-1541807999@nhccnm.org
SUMMARY:Día de los Muertos Ofrenda Exhibit and Community Ofrenda
DESCRIPTION:10 am to 5 pm \nEach year the NHCC works with schools and community organizations to host an Ofrenda (altar) Installation\, in celebration of Día de los Muertos. Participants’ submissions will be on display in the Domenici Education Building and the Roy E. Disney Center for Performing Arts at the NHCC. You are welcome to contribute to our community ofrenda (please don’t bring valuables or irreplaceable photographs\, reproductions are encouraged). \nFor more information\, contact Elena Baca at elenad.baca@state.nm.us or 505-383-4734. \nFree Family Fun \nThank you to our Día de los Muertos presenting sponsor Western Sky Community Care and to our supporting partners Nusenda Credit Union and the Latin American & Iberian Institute.
URL:https://nhccnm.org/event/call-entries-dia-de-los-muertos-ofrenda-exhibit-community-ofrenda/
LOCATION:NHCC Campus\, 1701 4th Street SW\, Albuquerque\, NM\, 87102
CATEGORIES:Education,Seasonal Events
ATTACH;FMTTYPE=image/jpeg:https://nhccnm.org/wp-content/uploads/2016/08/Dia-de-los-Muertos-Skull.jpg
END:VEVENT
BEGIN:VEVENT
DTSTART;VALUE=DATE:20181018
DTEND;VALUE=DATE:20181019
DTSTAMP:20260421T143629
CREATED:20181001T205553Z
LAST-MODIFIED:20181001T205553Z
UID:5515-1539820800-1539907199@nhccnm.org
SUMMARY:Demetria Martinez\,  “Sanctuary: Readings & Recollections”
DESCRIPTION:6 pm \nThis talk is part of the educational programming related to People Powered: New Mexicans and Social Movements. \nMartinez will read from her novel\, Mother Tongue\, and talk about the 1988 conspiracy in connection with allegedly transporting two Salvadoran refugees into the United States. That historical moment speaks to conditions\, today\, in the struggle to stand with our immigrant brothers and sisters. Demetria Martinez has written poetry\, essays\, and novels. She co-authored a book on immigration reform with former Oklahoma Senator\, Fred Harris. She was honored with an international Latino book award and an American Book Award. In 2011\, she received the Luis Leal Award for Distinction in Chicana/Latino Literature.
URL:https://nhccnm.org/event/demetria-martinez-sanctuary-readings-recollections/
LOCATION:History and Literary Arts Building
CATEGORIES:History and Literary Arts,Speakers
ATTACH;FMTTYPE=image/jpeg:https://nhccnm.org/wp-content/uploads/2018/08/Demetria-6-1-scaled.jpg
END:VEVENT
BEGIN:VEVENT
DTSTART;VALUE=DATE:20181020
DTEND;VALUE=DATE:20181021
DTSTAMP:20260421T143629
CREATED:20181001T210155Z
LAST-MODIFIED:20181001T210155Z
UID:5518-1539993600-1540079999@nhccnm.org
SUMMARY:La Canoa: The Women of Local 890 and the Empire Mine Strike
DESCRIPTION:2 pm \nPlease join Professor Kells as she examines “embodied rhetoric” in the Local 890 chapter of the International Union of Mine\, Mill\, and Smelter Workers of Hanover\, New Mexico\, who staged one of the nation’s most effective groundbreaking strikes near Silver City from October 1950 to January 1952. The grievances of the Empire Zinc workers included racial discrimination in job duties and pay\, toxic work environments\, and inequitable power sharing between labor and management. The dramatic showdown\, resulting in incarceration of forty-five women\, seventeen children\, and a six-month-old baby\, shocked the nation. \nMichelle Hall Kells is Associate Professor in the Department of English at the University of New Mexico where she teaches graduate and undergraduate classes in Rhetoric and Writing. Kells received the Lyndon B. Johnson Presidential Library Research Fellowship in 2008. Her recent book is Vicente Ximenes\, LBJ’s “Great Society\,”and Mexican American Civil Rights Rhetoric (Southern Illinois University Press\, 2018). Kells is also lead editor of Latino/a Discourses: On Language\, Identity\, and Literacy Education (Heinemann\, 2004). \nThis event is part of the La Canoa lecture series\, presented in partnership with the UNM Center for Regional Studies.
URL:https://nhccnm.org/event/la-canoa-women-local-890-empire-mine-strike/
LOCATION:NHCC-Newsletter-August-26–September-7
CATEGORIES:History and Literary Arts,Speakers
ATTACH;FMTTYPE=image/png:https://nhccnm.org/wp-content/uploads/2018/10/KellsTryAGain.png
END:VEVENT
BEGIN:VEVENT
DTSTART;VALUE=DATE:20181020
DTEND;VALUE=DATE:20181022
DTSTAMP:20260421T143629
CREATED:20180715T205238Z
LAST-MODIFIED:20180715T205238Z
UID:5273-1539993600-1540166399@nhccnm.org
SUMMARY:Mundos de Mestizaje
DESCRIPTION:12 pm to 5 pm \nA Vision of History through Fresco… \nMundos de Mestizaje by Frederico Vigil is a mural housed in the Torreón on the campus of the National Hispanic Cultural Center. This monumental fresco depicts thousands of years of Hispanic history highlighting diverse cultural connections between people and places from the Iberian Peninsula to the Americas. The 4\,000 square foot painting is one of the largest frescos in North America. \nThe digitized imagery of the painting ensures that this culturally significant work can be a sharing and learning experience for students and families anywhere. We invite you to explore the imagery\, history and complexities of the Mundos de Mestizaje mural. \nDiscover on your own by clicking the link HERE.\n(It may take a moment to load.  Microsoft Internet Explorer is NOT recommended.  Best experienced with Safari\, Firefox or Chrome.)\nFree
URL:https://nhccnm.org/event/mundos-de-mestizaje-42/
LOCATION:NM
CATEGORIES:Visual Arts
ATTACH;FMTTYPE=image/jpeg:https://nhccnm.org/wp-content/uploads/2017/08/Torreon.jpg
END:VEVENT
BEGIN:VEVENT
DTSTART;VALUE=DATE:20181025
DTEND;VALUE=DATE:20181026
DTSTAMP:20260421T143629
CREATED:20180901T201000Z
LAST-MODIFIED:20180901T201000Z
UID:5422-1540425600-1540511999@nhccnm.org
SUMMARY:Reading & Booksigning and Walk Along the Bosque with  Michelle Otero\, Albuquerque Poet Laureate
DESCRIPTION:6 pm: Walk Along the Bosque \n7 pm: Poetry Reading \nPlease join us for a reading by Albuquerque’s fourth (and newest) Poet Laureate\, Michelle Otero. In addition\, Michelle is coordinating a series of walks along the Rio Grande Bosque\, “Walking with Poets\,” hosted by local poets\, highlighting the work of poets we love\,  and raising awareness of the need to conserve and preserve our beloved Rio. The walks will lead to a bosque  poetry anthology\, to be edited by Otero. “Walking With Poets” takes place on the fourth Thursday of each month from July through October. \nOtero is a tenth generation New Mexican. Her work has appeared in New Mexico Magazine\, Brevity\, Puerto del Sol\, and other literary journals and she is the author of Malinche’s Daughter (essays). \nOtero is Creative Director of El Valle Encantado\, an organization promoting sustainable development initiatives in Albuquerque’s Atrisco neighborhood. She holds a B.A. in History from Harvard and an M.F.A. in Creative Writing from Vermont College.\nFree
URL:https://nhccnm.org/event/reading-booksigning-michelle-otero-albuquerque-poet-laureate/
LOCATION:NHCC-Newsletter-August-11-–-24
CATEGORIES:Book Club,Education,History and Literary Arts,Speakers,Workshops
ATTACH;FMTTYPE=image/jpeg:https://nhccnm.org/wp-content/uploads/2018/09/MICHELLE-OTERO.jpg
END:VEVENT
BEGIN:VEVENT
DTSTART;VALUE=DATE:20181026
DTEND;VALUE=DATE:20181027
DTSTAMP:20260421T143629
CREATED:20180901T201600Z
LAST-MODIFIED:20180901T201600Z
UID:5424-1540512000-1540598399@nhccnm.org
SUMMARY:Dia de Los Muertos Art Show: "Lost Places"
DESCRIPTION:5:30 pm to 7:30 pm \nJoin us for a special Dia de los Muertos art show. New Mexico artists were invited to create 8” x 8” works of art with poetry or text that honor a place whose absence they mourn—whether a lost region of the Amazon\, Chaco Canyon\, or an abuela’s kitchen. Proceeds from sales of the works support the artists and NHCC History and Literary Arts programming.\nFree \nThank you to our Día de los Muertos presenting sponsor Western Sky Community Care and to our supporting partners Nusenda Credit Union and the Latin American & Iberian Institute.
URL:https://nhccnm.org/event/dia-de-los-muertos-art-show-lost-places/
LOCATION:NHCC-Newsletter-August-26–September-7
CATEGORIES:Education,History and Literary Arts,Speakers,Workshops
ATTACH;FMTTYPE=image/jpeg:https://nhccnm.org/wp-content/uploads/2016/08/Dia-de-los-Muertos-Skull.jpg
END:VEVENT
BEGIN:VEVENT
DTSTART;VALUE=DATE:20181026
DTEND;VALUE=DATE:20181028
DTSTAMP:20260421T143629
CREATED:20180825T162230Z
LAST-MODIFIED:20180825T162230Z
UID:5384-1540512000-1540684799@nhccnm.org
SUMMARY:Tricklock Company and the NHCC Presents Sur Oeste: Vuelo transoceánico
DESCRIPTION:10 am—Friday (student matinee)\n 2 pm—Saturday \nMexico City’s Sur Oeste is dedicated to the creation\, production\, and presentation of theatre\, dance\, audiovisual\, and/or multidisciplinary works\, focusing in recent years on the specific areas of theatre and dance. Their repertoire of over 20 productions has been presented in Mexico\, the U.S.\, Panama\, Argentina\, and Brazil. Vuelo transoceánico\, a show for younger audiences\, is the story of Charles Lindbergh’s historic solo flight across the Atlantic: triumphing over storms\, fog\, and ice to achieve his impossible dream and become the hero the world was waiting for.\nFriday free with reservation\n Saturday $10 and Kids 16 years and younger are free. Free kid tickets available at the door only. \nThank you to our event sponsor\, Home Instead Senior Care and to our Performing Arts Season Sponsors Heritage Hotels and Resorts\, the Albuquerque Journal and Southwest Airlines!
URL:https://nhccnm.org/event/tricklock-company-nhcc-present-sur-oeste-vuelo-transoceanico/
LOCATION:NHCC-Newsletter-November-2-30
CATEGORIES:Performing Arts,Theatre
ATTACH;FMTTYPE=image/jpeg:https://nhccnm.org/wp-content/uploads/2018/08/OesteFeaturedImage.jpg
END:VEVENT
BEGIN:VEVENT
DTSTART;VALUE=DATE:20181027
DTEND;VALUE=DATE:20181029
DTSTAMP:20260421T143629
CREATED:20180715T205357Z
LAST-MODIFIED:20180715T205357Z
UID:5274-1540598400-1540771199@nhccnm.org
SUMMARY:Mundos de Mestizaje
DESCRIPTION:12 pm to 5 pm \nA Vision of History through Fresco… \nMundos de Mestizaje by Frederico Vigil is a mural housed in the Torreón on the campus of the National Hispanic Cultural Center. This monumental fresco depicts thousands of years of Hispanic history highlighting diverse cultural connections between people and places from the Iberian Peninsula to the Americas. The 4\,000 square foot painting is one of the largest frescos in North America. \nThe digitized imagery of the painting ensures that this culturally significant work can be a sharing and learning experience for students and families anywhere. We invite you to explore the imagery\, history and complexities of the Mundos de Mestizaje mural. \nDiscover on your own by clicking the link HERE.\n(It may take a moment to load.  Microsoft Internet Explorer is NOT recommended.  Best experienced with Safari\, Firefox or Chrome.)\nFree
URL:https://nhccnm.org/event/mundos-de-mestizaje-43/
LOCATION:NHCC Torreón\, 1701 4th street SW\, Albuquerque\, NM\, 87102\, United States
CATEGORIES:Visual Arts
ATTACH;FMTTYPE=image/jpeg:https://nhccnm.org/wp-content/uploads/2017/08/Torreon.jpg
END:VEVENT
END:VCALENDAR