BEGIN:VCALENDAR
VERSION:2.0
PRODID:-// - ECPv6.15.14//NONSGML v1.0//EN
CALSCALE:GREGORIAN
METHOD:PUBLISH
X-ORIGINAL-URL:https://nhccnm.org
X-WR-CALDESC:Events for 
REFRESH-INTERVAL;VALUE=DURATION:PT1H
X-Robots-Tag:noindex
X-PUBLISHED-TTL:PT1H
BEGIN:VTIMEZONE
TZID:America/Denver
BEGIN:DAYLIGHT
TZOFFSETFROM:-0700
TZOFFSETTO:-0600
TZNAME:MDT
DTSTART:20180311T090000
END:DAYLIGHT
BEGIN:STANDARD
TZOFFSETFROM:-0600
TZOFFSETTO:-0700
TZNAME:MST
DTSTART:20181104T080000
END:STANDARD
BEGIN:DAYLIGHT
TZOFFSETFROM:-0700
TZOFFSETTO:-0600
TZNAME:MDT
DTSTART:20190310T090000
END:DAYLIGHT
BEGIN:STANDARD
TZOFFSETFROM:-0600
TZOFFSETTO:-0700
TZNAME:MST
DTSTART:20191103T080000
END:STANDARD
BEGIN:DAYLIGHT
TZOFFSETFROM:-0700
TZOFFSETTO:-0600
TZNAME:MDT
DTSTART:20200308T090000
END:DAYLIGHT
BEGIN:STANDARD
TZOFFSETFROM:-0600
TZOFFSETTO:-0700
TZNAME:MST
DTSTART:20201101T080000
END:STANDARD
END:VTIMEZONE
BEGIN:VEVENT
DTSTART;VALUE=DATE:20190110
DTEND;VALUE=DATE:20190111
DTSTAMP:20260420T161257
CREATED:20181217T174954Z
LAST-MODIFIED:20181217T174954Z
UID:5949-1547078400-1547164799@nhccnm.org
SUMMARY:Eric J. Garcia: Presentation & Book Signing
DESCRIPTION:6-8 pm \nKnown for mixing history with contemporary themes\, Eric J. Garcia always tries to create art that is much more than just aesthetics. Born and raised in Albuquerque’s South Valley\, Garcia received his BFA with a minor in Chicano studies from the University of New Mexico\, then went on to complete his MFA from the School of the Art Institute of Chicago. He has shown in numerous national exhibitions and his artwork can be found in the collections of The National Hispanic Cultural Center\, National Museum of Mexican Art\, The Art Institute of Chicago. Garcia is a versatile artist working in an assortment of media\, from murals\, to sculptural installations\, to his controversial political cartoon series El Machete Illustrated\, but all of his works have the common goal of educating and challenging. \nRead more about Eric’s book here. \nFree and open to the public
URL:https://nhccnm.org/event/eric-garcia-presentation-book-signing/
LOCATION:September-2019-Board-Meeting-Minutes
CATEGORIES:Speakers,Visual Arts
ATTACH;FMTTYPE=image/jpeg:https://nhccnm.org/wp-content/uploads/2018/12/Eric.Garcia.Web_.jpg
END:VEVENT
BEGIN:VEVENT
DTSTART;VALUE=DATE:20190116
DTEND;VALUE=DATE:20190117
DTSTAMP:20260420T161257
CREATED:20181221T164700Z
LAST-MODIFIED:20181221T164700Z
UID:5994-1547596800-1547683199@nhccnm.org
SUMMARY:Writing Workshop: Fiction (All Genres)
DESCRIPTION:6 pm\, Wednesdays (eight weeks between January 16 and March 6) \nDo you love reading good fiction—whether historical\, popular\, literary or sci-fi? Have you always wanted to write stories or novels? This eight week workshop is designed for writers who want to try writing fiction or those who need inspiration (and skills) to write more.  Inspired by fiction by Latinx writers\, you will write new work\, develop your narrative skills and receive valuable feedback for revision from your fellow writers. The workshop culminates with a public reading of your new work at the NHCC. \nInstructor:  Brenna Gomez is adjunct faculty at the University of New Mexico (UNM) where she teaches composition\, creative writing\, and in the freshmen learning community program. She received her MFA in fiction from UNM in 2016 and served as Editor in Chief of UNM’s national literary magazine\, Blue Mesa Review. Her fiction has appeared in Prairie Schooner and is forthcoming in StoryQuarterly. Brenna was the recipient of a 2017 Hedgebrook residency and the 2015 Hispanic writer award for the UNM Summer Writers’ Conference in Santa Fe. She is also a staff reader for Recommended Reading at Electric Literature and hosts author events Bookworks in Albuquerque. \nDeadline to register:  MONDAY\, JANUARY 14\, 2019 \nWorkshop Fee: $250 (Limit: 12 writers so register early!) \nThree Scholarships are available for $125 \nReserve your spot at the NHCC website: https://nhccnm.wufoo.com/forms/w8vb0wz09z746l/ \nInfo/Contact: valerie.martinez@state.nm.us \nDeadline to register: Monday\, January 14\, 2019. \nWorkshop Fee: $250 (about $30 per class). Limit: 12 writers so register early! \nThree Scholarships are available for $125 —first come-first served. \nRegister and pay here. \nAll fees must be paid prior to January 16th.
URL:https://nhccnm.org/event/writing-workshop-fiction-all-genres/
LOCATION:History and Literary Arts Building
CATEGORIES:History and Literary Arts,Workshops
ATTACH;FMTTYPE=image/jpeg:https://nhccnm.org/wp-content/uploads/2015/05/theme-details-fountain-pen-77924-scaled.jpeg
END:VEVENT
BEGIN:VEVENT
DTSTART;VALUE=DATE:20190118
DTEND;VALUE=DATE:20190119
DTSTAMP:20260420T161257
CREATED:20181208T213925Z
LAST-MODIFIED:20181208T213925Z
UID:5796-1547769600-1547855999@nhccnm.org
SUMMARY:Colcha Community Stitch-Along
DESCRIPTION:9:30 am – 12 pm \nJoin our monthly gathering for colcheras of all skill levels led by Annette Gutierrez Turk. If you are beginning or advanced in the traditional New Mexican style of embroidery\, bring your current colcha project along and enjoy these monthly\, informal\, community work sessions to share ideas\, resources and encouragement! \nFor more information\, call Elena at 505-246-2261 or e-mailing elenad.baca@state.nm.us.\nFree event \nFacilitated by Sandia Mountains Chapter-EGA
URL:https://nhccnm.org/event/colcha-community-stitch-along-18/
LOCATION:Domenici Education Building\, 1701 4th Street SW\, Albuquerque\, NM\, 87102
CATEGORIES:Education,Workshops
ATTACH;FMTTYPE=image/jpeg:https://nhccnm.org/wp-content/uploads/2016/02/Colcha-Embroidery-graphic.2-08-26-2015.jpg
END:VEVENT
BEGIN:VEVENT
DTSTART;VALUE=DATE:20190119
DTEND;VALUE=DATE:20190121
DTSTAMP:20260420T161257
CREATED:20181215T231634Z
LAST-MODIFIED:20181215T231634Z
UID:5934-1547856000-1548028799@nhccnm.org
SUMMARY:Mundos de Mestizaje
DESCRIPTION:12 pm to 5 pm \nA Vision of History through Fresco… \nMundos de Mestizaje by Frederico Vigil is a mural housed in the Torreón on the campus of the National Hispanic Cultural Center. This monumental fresco depicts thousands of years of Hispanic history highlighting diverse cultural connections between people and places from the Iberian Peninsula to the Americas. The 4\,000 square foot painting is one of the largest frescos in North America. \nThe digitized imagery of the painting ensures that this culturally significant work can be a sharing and learning experience for students and families anywhere. We invite you to explore the imagery\, history and complexities of the Mundos de Mestizaje mural. \nDiscover on your own by clicking the link HERE.(It may take a moment to load.  Microsoft Internet Explorer is NOT recommended.  Best experienced with Safari\, Firefox or Chrome.)Free
URL:https://nhccnm.org/event/mundos-de-mestizaje-51/
LOCATION:NHCC Torreón\, 1701 4th street SW\, Albuquerque\, NM\, 87102\, United States
CATEGORIES:Education,Visual Arts
ATTACH;FMTTYPE=image/jpeg:https://nhccnm.org/wp-content/uploads/2017/08/Torreon.jpg
END:VEVENT
BEGIN:VEVENT
DTSTART;VALUE=DATE:20190123
DTEND;VALUE=DATE:20190124
DTSTAMP:20260420T161257
CREATED:20181221T162651Z
LAST-MODIFIED:20181221T162651Z
UID:5988-1548201600-1548287999@nhccnm.org
SUMMARY:Inside Opera:  María de Buenos Aires
DESCRIPTION:5:30-7 pm\nNHCC Library\, History and Literary Arts Building \nOpera novices and aficionados are invited to three free interactive presentations about  “María de Buenos Aires\,” Astor Piazzola’s extraordinary tango-opera. Over three Wednesday evenings\, poet Valerie Martínez and conductor Oliver Prezant will lead you on a magical journey through the story\, the libretto\, the music\, and the staging of this evocative work\, which tells the story of María\, a prostitute born in a poor suburb of Buenos Aires\, who sleepwalks through life\, death\, the afterlife\, and is reborn into “innocence.” The music\, by tango legend Ástor Piazzolla\, is based on “nuevo tango\,” a genre that Piazzolla revolutionized by infusing Argentine tango with elements of jazz and classical music. Those who attend all three sessions will receive a 50% discount on tickets to a performance of the show\, which runs from February 17-24 in the Journal Theater. \nDates and Topics: \nJanuary 23: Story\, Text\, and Context\, with Valerie Martínez \n\n Maria’s Argentina: old tango bars\, duende\, crafting the libretto\, signs and symbols\, magical realism.\n\nJanuary 30: The Music\, with Oliver Prezant \n\nAstor Piazzola and Tango Nuevo\, singing the story-setting the text\, the music of character and situation.\n\nFebruary 6: Maria on Stage – “Operita” or Opera? with Oliver Prezant \n\nDirector’s choice: blocking\, lighting\, sets\, costumes. Maria in the land of musical theater and opera.\n\nRegister for the workshops HERE. \nValerie Martínez is currently the Director of History and Literary Arts at the National Hispanic Cultural Center. Santa Fe’s second Poet Laureate\, Valerie taught poetry and literature at the college/university level for 23 years. As a core artist and Executive Director of Littleglobe\, Valerie worked in collaboration with the Santa Fe Opera Community Engagement Program to co-create two community-based operas: Memorylines: Voces de Nuestras Jornadas (2008) and the Santa Fe Bus Opera (2010). \nOliver Prezant has presented lectures and education programs for The Santa Fe Opera and Opera Southwest. He is the Music Director and conductor of the Santa Fe Community Orchestra\, and the Artistic Advisor to the ArtWorks Program\, which provides arts education workshops for Santa Fe Public Schools students and teachers. He was on the faculty of the Contemporary Music Program at the College of Santa Fe and Santa Fe University of Art and Design.
URL:https://nhccnm.org/event/inside-opera-maria-de-buenos-aires/
LOCATION:History and Literary Arts Building
CATEGORIES:History and Literary Arts
ATTACH;FMTTYPE=image/jpeg:https://nhccnm.org/wp-content/uploads/2018/12/Maria_IDcomposer1000.jpg
END:VEVENT
BEGIN:VEVENT
DTSTART;VALUE=DATE:20190123
DTEND;VALUE=DATE:20190124
DTSTAMP:20260420T161257
CREATED:20181221T170459Z
LAST-MODIFIED:20181221T170459Z
UID:6000-1548201600-1548287999@nhccnm.org
SUMMARY:Writing Workshop: Fiction (All Genres)
DESCRIPTION:6 pm\, Wednesdays (eight weeks between January 16 and March 6) \nThe NHCC is committed to cultivating local writers and celebrating their work. In this workshop\, writers read excerpts from books by Latinx authors\, engage in a variety of writing exercises that build skills and generate new writing\,. Each class gives a public reading as a culminating event. Instructor:  Brenna Gomez (UNM). \nDeadline to register: Monday\, January 14\, 2019. \nWorkshop Fee: $250 (about $30 per class). Limit: 12 writers so register early! \nThree Scholarships are available for $125 —first come-first served. \nRegister and pay here. \nAll fees must be paid prior to January 16th.
URL:https://nhccnm.org/event/writing-workshop-fiction-all-genres-2/
LOCATION:History and Literary Arts Building
CATEGORIES:History and Literary Arts,Workshops
ATTACH;FMTTYPE=image/jpeg:https://nhccnm.org/wp-content/uploads/2018/06/theme-details-fountain-pen-77924-scaled.jpeg
END:VEVENT
BEGIN:VEVENT
DTSTART;VALUE=DATE:20190125
DTEND;VALUE=DATE:20190701
DTSTAMP:20260420T161257
CREATED:20181221T161512Z
LAST-MODIFIED:20181221T161512Z
UID:5983-1548374400-1561939199@nhccnm.org
SUMMARY:Braceros Exhibit
DESCRIPTION:This exhibition features more than 30 black and white photographs of braceros taken by the photojournalist collective known as the Hermanos Mayo. It also uses narratives\, video and artifacts to tell the story of the Bracero Program. The program grew out of a series of bi-lateral agreements between Mexico and the United States\, bringing Mexican men to the United States as guest-workers on short-term\, primarily agricultural labor contracts. In 1942\, these workers came to remedy wartime production shortages by supplying much-needed labor during the early years of World War II.  The Bracero Program\, which derived its name from the Spanish word for a manual laborer\, “bracero” continued uninterrupted until 1964. During this extensive program\, 4.6 million contracts were signed\, with many individuals returning several times on different contracts\, making it the largest United States contract labor program. An examination of the exhibition images\, documents\, and artifacts contributes to our understanding of the lives of migrant workers in Mexico and the United States\, as well as our knowledge of immigration\, nationalism\, labor practices\, and race relations.\nThis exhibit is free and open to the public 
URL:https://nhccnm.org/event/braceros-exhibit/
LOCATION:History and Literary Arts Building
CATEGORIES:Exhibitions,History and Literary Arts
ATTACH;FMTTYPE=image/jpeg:https://nhccnm.org/wp-content/uploads/2018/12/Featured-Image.jpg
END:VEVENT
BEGIN:VEVENT
DTSTART;VALUE=DATE:20190125
DTEND;VALUE=DATE:20190518
DTSTAMP:20260420T161257
CREATED:20190125T145520Z
LAST-MODIFIED:20190125T145520Z
UID:6399-1548374400-1558137599@nhccnm.org
SUMMARY:Voces Summer Institute: Accepting Applications
DESCRIPTION:Voces is a FREE month-long summer writing institute for teens (ages 15-18) presented each summer by the National Hispanic Cultural Center. Teens spend 4 WEEKS IN JUNE writing\, creating art\, writing\, learning from guest artists\, writing\,  sharing\, writing\, collaborating\, writing\, and reading/performing for peers and the public at two celebratory events. The program runs each weekend day in June from 9:30 am- 4 pm with a free lunch included. Voces is FREE.  Register by May 17: https://nhccnm.wufoo.com/forms/w150mzfo087z6fn/.  Limited to 15 students so grab your spot! #writingislife #voces2019 #keepwriting \n \nDuring WEEK ONE (June 3-7) Voces students tour the NHCC’s art museum’s inspiring new exhibit “Qué Chola” and our breathtaking 4\,000 square foot fresco\, “Mundos de Mestizaje.”  Voces writers write in response to what they see\, think and feel.  Then mural artist Helen Atkins takes the teens through visioning and creating a  mural at the NHCC. #quechola #muralart #writingislife #voces2019 #keepwriting \nIt’s all about monologues in WEEK TWO (June 10-14). Playwright Monica Sanchez will be the guest instructor who will help Voces writers create their own monologues and rehearse them for staged readings. #ilovemonolgue  #writingislife #voces2019 #keepwriting \nABQ Poet Laureate Michelle Otero will join Voces students in WEEK THREE (June 17-22) for a Bosque walk and to provide training for Voces teens in how to engage the elderly in poetry.  Voces writers also tour the NHCC’s Braceros exhibit and create a devised dance movement piece with the students from Manos under the guidance of artist-in-residence Yvonne Montoya and Safos Dance Theater. This week ends with a very cool Saturday\, 2 pm performance and FLASH MOB with audience\, led by Voces and Safos. @safosdance #dancedance #poetry #writingislife #voces2019 #keepwriting \nDuring WEEK FOUR (June 24-28) Voces teens work with Faustino Villa to get ready for their public reading/performance on June 28th.  They’ll also screen their original Voces t-shirts and create/produce chapbooks of their writing. Chapbooks will be produced to give as gifts and to sell at the reading. Writers will also be finishing their prose and poetry for a Voces publication\, which will be published in July.  For all four weeks\, Voces writers receive feedback about their writing from their peers and guest writers. #publishedauthor #writingislife #voces2019 #keepwriting \nFRIDAY\, JUNE 28  – VOCES CELEBRATION will take place at 6 pm in the NHCC Bank of America Theatre. #performance #nostagefright #writingislife #voces2019 #keepwriting \nREGISTER: https://nhccnm.wufoo.com/forms/w150mzfo087z6fn/   Apply early to secure your place! \nQuestions?  Contact Valerie Martínez at valerie.martinez@state.nm.us
URL:https://nhccnm.org/event/voces-summer-institute-accepting-applications/
LOCATION:History and Literary Arts Building
CATEGORIES:History and Literary Arts,School and Youth Programs,Workshops
ATTACH;FMTTYPE=image/jpeg:https://nhccnm.org/wp-content/uploads/2016/06/Voces-photo-1.jpg
END:VEVENT
BEGIN:VEVENT
DTSTART;VALUE=DATE:20190126
DTEND;VALUE=DATE:20190127
DTSTAMP:20260420T161257
CREATED:20181221T164302Z
LAST-MODIFIED:20181221T164302Z
UID:5992-1548460800-1548547199@nhccnm.org
SUMMARY:La Canoa: Outside the Recipes: the Sustenance of Story
DESCRIPTION:2 pm \nQuerencia as defined by Nuevomexicano scholar Juan Estevan Arellano is “love of place.”  Please join Dr. Patricia Perea as she presents a talk on the articulation of querencia to speak directly with the writings and experiences discussed in this lecture. These writings include Fabiola Cabeza de Baca’s The Good Life: New Mexico Traditions and Food (2005)\, Denise Chávez’s A Taco Testimony (2006) and The Pueblo Food Experience: Whole Food of Our Ancestors (2016).  Each of these works connect the texture of food\, the complex ties of family\, and the starkness of geography to the experience of ancestral memory and belonging. In addition to discussing these narratives\, Dr. Perea will also include her own experiences on the road home through community and story. \nDr. Patricia M. Perea currently teaches at the University of New Mexico in the Department of Chicana and Chicano Studies. She completed Ph.D. in American Studies in 2010. Her dissertation and graduate work focused on Mexican American autobiography and visual culture. She is a published poet and continues familial traditions that include weaving and traditional colcha embroidery. Her most recent project was the publication of the cookbook: The Pueblo Food Experience Cookbook: Whole Foods of Our Ancestors. Her future projects include continuing work on recent Mexican American autobiography and the histories and experiences of Mexican Americans in the Texas Panhandle. \nLa Canoa is a monthly series (August-May) that features talks by Hispanic/Latino academic and community researchers with long-standing and distinguished records of research and teaching about New Mexico and the region. \nThis event is free and open to the public \n 
URL:https://nhccnm.org/event/la-canoa-patricia-perea-the-sustenance-of-story/
LOCATION:NM
CATEGORIES:History and Literary Arts,Speakers
ATTACH;FMTTYPE=image/jpeg:https://nhccnm.org/wp-content/uploads/2015/11/Fountain-Beauty-Shot-scaled.jpg
END:VEVENT
BEGIN:VEVENT
DTSTART;VALUE=DATE:20190126
DTEND;VALUE=DATE:20190128
DTSTAMP:20260420T161257
CREATED:20181215T231808Z
LAST-MODIFIED:20181215T231808Z
UID:5936-1548460800-1548633599@nhccnm.org
SUMMARY:Mundos de Mestizaje
DESCRIPTION:12 pm to 5 pm \nA Vision of History through Fresco… \nMundos de Mestizaje by Frederico Vigil is a mural housed in the Torreón on the campus of the National Hispanic Cultural Center. This monumental fresco depicts thousands of years of Hispanic history highlighting diverse cultural connections between people and places from the Iberian Peninsula to the Americas. The 4\,000 square foot painting is one of the largest frescos in North America. \nThe digitized imagery of the painting ensures that this culturally significant work can be a sharing and learning experience for students and families anywhere. We invite you to explore the imagery\, history and complexities of the Mundos de Mestizaje mural. \nDiscover on your own by clicking the link HERE.(It may take a moment to load.  Microsoft Internet Explorer is NOT recommended.  Best experienced with Safari\, Firefox or Chrome.)Free
URL:https://nhccnm.org/event/mundos-de-mestizaje-52/
LOCATION:NHCC Torreón\, 1701 4th street SW\, Albuquerque\, NM\, 87102\, United States
CATEGORIES:Education,Visual Arts
ATTACH;FMTTYPE=image/jpeg:https://nhccnm.org/wp-content/uploads/2017/08/Torreon.jpg
END:VEVENT
BEGIN:VEVENT
DTSTART;VALUE=DATE:20190130
DTEND;VALUE=DATE:20190131
DTSTAMP:20260420T161257
CREATED:20181221T170632Z
LAST-MODIFIED:20181221T170632Z
UID:6002-1548806400-1548892799@nhccnm.org
SUMMARY:Writing Workshop: Fiction (All Genres)
DESCRIPTION:6 pm\, Wednesdays (eight weeks between January 16 and March 6) \nThe NHCC is committed to cultivating local writers and celebrating their work. In this workshop\, writers read excerpts from books by Latinx authors\, engage in a variety of writing exercises that build skills and generate new writing\,. Each class gives a public reading as a culminating event. Instructor:  Brenna Gomez (UNM). \nDeadline to register: Monday\, January 14 2019. \nWorkshop Fee: $250 (about $30 per class). Limit: 12 writers so register early! \nThree Scholarships are available for $125 —first come-first served. \nRegister and pay here. \nAll fees must be paid prior to January 16th.
URL:https://nhccnm.org/event/writing-workshop-fiction-all-genres-3/
LOCATION:History and Literary Arts Building
CATEGORIES:History and Literary Arts,Workshops
ATTACH;FMTTYPE=image/jpeg:https://nhccnm.org/wp-content/uploads/2018/06/theme-details-fountain-pen-77924-scaled.jpeg
END:VEVENT
BEGIN:VEVENT
DTSTART;VALUE=DATE:20190130
DTEND;VALUE=DATE:20190131
DTSTAMP:20260420T161257
CREATED:20181221T183746Z
LAST-MODIFIED:20181221T183746Z
UID:6019-1548806400-1548892799@nhccnm.org
SUMMARY:Inside Opera:  María de Buenos Aires
DESCRIPTION:5:30-7 pm\nNHCC Library\, History and Literary Arts Building \nOpera novices and aficionados are invited to three free interactive presentations about  “María de Buenos Aires\,” Astor Piazzolla’s extraordinary tango-opera. Over three Wednesday evenings\, poet Valerie Martínez and conductor Oliver Prezant will lead you on a magical journey through the story\, the libretto\, the music\, and the staging of this evocative work\, which tells the story of María\, a prostitute born in a poor suburb of Buenos Aires\, who sleepwalks through life\, death\, the afterlife\, and is reborn into “innocence.” The music\, by tango legend Ástor Piazzolla\, is based on “nuevo tango\,” a genre that Piazzolla revolutionized by infusing Argentine tango with elements of jazz and classical music. Those who attend all three sessions will receive a 50% discount on tickets to a performance of the show\, which runs from February 17-24 in the Journal Theater. \nDates and Topics: \nJanuary 23: Story\, Text\, and Context\, with Valerie Martínez \n\n Maria’s Argentina: old tango bars\, duende\, crafting the libretto\, signs and symbols\, magical realism.\n\nJanuary 30: The Music\, with Oliver Prezant \n\nAstor Piazzola and Tango Nuevo\, singing the story-setting the text\, the music of character and situation.\n\nFebruary 6: Maria on Stage – “Operita” or Opera? with Oliver Prezant \n\nDirector’s choice: blocking\, lighting\, sets\, costumes. Maria in the land of musical theater and opera.\n\nRegister for the workshops HERE. \nValerie Martínez is currently the Director of History and Literary Arts at the National Hispanic Cultural Center. Santa Fe’s second Poet Laureate\, Valerie taught poetry and literature at the college/university level for 23 years. As a core artist and Executive Director of Littleglobe\, Valerie worked in collaboration with the Santa Fe Opera Community Engagement Program to co-create two community-based operas: Memorylines: Voces de Nuestras Jornadas (2008) and the Santa Fe Bus Opera (2010). \nOliver Prezant has presented lectures and education programs for The Santa Fe Opera and Opera Southwest. He is the Music Director and conductor of the Santa Fe Community Orchestra\, and the Artistic Advisor to the ArtWorks Program\, which provides arts education workshops for Santa Fe Public Schools students and teachers. He was on the faculty of the Contemporary Music Program at the College of Santa Fe and Santa Fe University of Art and Design.
URL:https://nhccnm.org/event/inside-opera-maria-de-buenos-aires-2/
LOCATION:History and Literary Arts Building
CATEGORIES:History and Literary Arts,Workshops
ATTACH;FMTTYPE=image/jpeg:https://nhccnm.org/wp-content/uploads/2018/12/Maria_IDcomposer1000.jpg
END:VEVENT
END:VCALENDAR