BEGIN:VCALENDAR
VERSION:2.0
PRODID:-// - ECPv6.15.14//NONSGML v1.0//EN
CALSCALE:GREGORIAN
METHOD:PUBLISH
X-ORIGINAL-URL:https://nhccnm.org
X-WR-CALDESC:Events for 
REFRESH-INTERVAL;VALUE=DURATION:PT1H
X-Robots-Tag:noindex
X-PUBLISHED-TTL:PT1H
BEGIN:VTIMEZONE
TZID:America/Denver
BEGIN:DAYLIGHT
TZOFFSETFROM:-0700
TZOFFSETTO:-0600
TZNAME:MDT
DTSTART:20180311T090000
END:DAYLIGHT
BEGIN:STANDARD
TZOFFSETFROM:-0600
TZOFFSETTO:-0700
TZNAME:MST
DTSTART:20181104T080000
END:STANDARD
BEGIN:DAYLIGHT
TZOFFSETFROM:-0700
TZOFFSETTO:-0600
TZNAME:MDT
DTSTART:20190310T090000
END:DAYLIGHT
BEGIN:STANDARD
TZOFFSETFROM:-0600
TZOFFSETTO:-0700
TZNAME:MST
DTSTART:20191103T080000
END:STANDARD
BEGIN:DAYLIGHT
TZOFFSETFROM:-0700
TZOFFSETTO:-0600
TZNAME:MDT
DTSTART:20200308T090000
END:DAYLIGHT
BEGIN:STANDARD
TZOFFSETFROM:-0600
TZOFFSETTO:-0700
TZNAME:MST
DTSTART:20201101T080000
END:STANDARD
END:VTIMEZONE
BEGIN:VEVENT
DTSTART;VALUE=DATE:20190125
DTEND;VALUE=DATE:20190701
DTSTAMP:20260420T101316
CREATED:20181221T161512Z
LAST-MODIFIED:20181221T161512Z
UID:5983-1548374400-1561939199@nhccnm.org
SUMMARY:Braceros Exhibit
DESCRIPTION:This exhibition features more than 30 black and white photographs of braceros taken by the photojournalist collective known as the Hermanos Mayo. It also uses narratives\, video and artifacts to tell the story of the Bracero Program. The program grew out of a series of bi-lateral agreements between Mexico and the United States\, bringing Mexican men to the United States as guest-workers on short-term\, primarily agricultural labor contracts. In 1942\, these workers came to remedy wartime production shortages by supplying much-needed labor during the early years of World War II.  The Bracero Program\, which derived its name from the Spanish word for a manual laborer\, “bracero” continued uninterrupted until 1964. During this extensive program\, 4.6 million contracts were signed\, with many individuals returning several times on different contracts\, making it the largest United States contract labor program. An examination of the exhibition images\, documents\, and artifacts contributes to our understanding of the lives of migrant workers in Mexico and the United States\, as well as our knowledge of immigration\, nationalism\, labor practices\, and race relations.\nThis exhibit is free and open to the public 
URL:https://nhccnm.org/event/braceros-exhibit/
LOCATION:History and Literary Arts Building
CATEGORIES:Exhibitions,History and Literary Arts
ATTACH;FMTTYPE=image/jpeg:https://nhccnm.org/wp-content/uploads/2018/12/Featured-Image.jpg
END:VEVENT
BEGIN:VEVENT
DTSTART;VALUE=DATE:20190125
DTEND;VALUE=DATE:20190518
DTSTAMP:20260420T101316
CREATED:20190125T145520Z
LAST-MODIFIED:20190125T145520Z
UID:6399-1548374400-1558137599@nhccnm.org
SUMMARY:Voces Summer Institute: Accepting Applications
DESCRIPTION:Voces is a FREE month-long summer writing institute for teens (ages 15-18) presented each summer by the National Hispanic Cultural Center. Teens spend 4 WEEKS IN JUNE writing\, creating art\, writing\, learning from guest artists\, writing\,  sharing\, writing\, collaborating\, writing\, and reading/performing for peers and the public at two celebratory events. The program runs each weekend day in June from 9:30 am- 4 pm with a free lunch included. Voces is FREE.  Register by May 17: https://nhccnm.wufoo.com/forms/w150mzfo087z6fn/.  Limited to 15 students so grab your spot! #writingislife #voces2019 #keepwriting \n \nDuring WEEK ONE (June 3-7) Voces students tour the NHCC’s art museum’s inspiring new exhibit “Qué Chola” and our breathtaking 4\,000 square foot fresco\, “Mundos de Mestizaje.”  Voces writers write in response to what they see\, think and feel.  Then mural artist Helen Atkins takes the teens through visioning and creating a  mural at the NHCC. #quechola #muralart #writingislife #voces2019 #keepwriting \nIt’s all about monologues in WEEK TWO (June 10-14). Playwright Monica Sanchez will be the guest instructor who will help Voces writers create their own monologues and rehearse them for staged readings. #ilovemonolgue  #writingislife #voces2019 #keepwriting \nABQ Poet Laureate Michelle Otero will join Voces students in WEEK THREE (June 17-22) for a Bosque walk and to provide training for Voces teens in how to engage the elderly in poetry.  Voces writers also tour the NHCC’s Braceros exhibit and create a devised dance movement piece with the students from Manos under the guidance of artist-in-residence Yvonne Montoya and Safos Dance Theater. This week ends with a very cool Saturday\, 2 pm performance and FLASH MOB with audience\, led by Voces and Safos. @safosdance #dancedance #poetry #writingislife #voces2019 #keepwriting \nDuring WEEK FOUR (June 24-28) Voces teens work with Faustino Villa to get ready for their public reading/performance on June 28th.  They’ll also screen their original Voces t-shirts and create/produce chapbooks of their writing. Chapbooks will be produced to give as gifts and to sell at the reading. Writers will also be finishing their prose and poetry for a Voces publication\, which will be published in July.  For all four weeks\, Voces writers receive feedback about their writing from their peers and guest writers. #publishedauthor #writingislife #voces2019 #keepwriting \nFRIDAY\, JUNE 28  – VOCES CELEBRATION will take place at 6 pm in the NHCC Bank of America Theatre. #performance #nostagefright #writingislife #voces2019 #keepwriting \nREGISTER: https://nhccnm.wufoo.com/forms/w150mzfo087z6fn/   Apply early to secure your place! \nQuestions?  Contact Valerie Martínez at valerie.martinez@state.nm.us
URL:https://nhccnm.org/event/voces-summer-institute-accepting-applications/
LOCATION:History and Literary Arts Building
CATEGORIES:History and Literary Arts,School and Youth Programs,Workshops
ATTACH;FMTTYPE=image/jpeg:https://nhccnm.org/wp-content/uploads/2016/06/Voces-photo-1.jpg
END:VEVENT
BEGIN:VEVENT
DTSTART;VALUE=DATE:20190401
DTEND;VALUE=DATE:20190501
DTSTAMP:20260420T101316
CREATED:20190125T181546Z
LAST-MODIFIED:20190125T181546Z
UID:6403-1554076800-1556668799@nhccnm.org
SUMMARY:National Poetry Month
DESCRIPTION:Join the NHCC’s History and Literary Arts program for a month of events including widely distributed pocket-size poems (in English and Spanish)\, poetry readings and book signings (including those associated with the Children’s Bilingual Book Festival)\, displays\, and other events celebrating Latinx poets.  In 2019\, for the 100th birthday of Walt Whitman\, we will pair several Whitman poems with poems by Latinx writers\, creating a “conversation” between poets who never met\, but who talk to each other across time. \n \nA Night of Poetry\nApril 10\, 6 pm\nNHCC Library | Free \nJoin us to celebrate new poetry by writers completing an 8-week workshop at the NHCC. In 2018 the NHCC launched a series of community writing workshops in memoir\, fiction and poetry. Each culminates with a reading of new work created by local authors. \nNHCC Children’s Bilingual Book Festival\nApril 27\, 9 am – 5 pm\nNHCC Campus |FREE ($5 suggested donation) \nThis free festival will celebrate children’s books written in Spanish and English and Native languages and English. The festival will emphasize books for readers in grades K-6\, though there are activities for kids of all ages\, including families. \nFeatured authors include Pat Mora (keynote)\, Nancy Bo Flood\, Native Realities authors/artists\, Nasario Garcia\, Kathleen Contreras\, Ana Baca\, Anna Nogar\, Paul and Carlos Meyer\, Enrique Lamadrid\, student storytellers Deja\, Diego\, Isabela and Gabriela (Diné\, Spanish\, Enlish)\, Poesía eres tú winners\, and more. Look here for the full schedule. There will also be a full-day Book Fair/Emporium\, workshops for teachers and parents\, and kids’ art/creative activities throughout the day. All events take place at the NHCC. \nWe are grateful to the City of Albuquerque\, BNSF Railway Foundation\, French’s Funerals and Cremations\, and Artful Life for funding this exciting new initiative. Festival partners include Children’s Day/Book Day\, ABQ Reads\, Bookworks\, Native Realities\, Duende District\, the UNM Latin American and Iberian Institute\, and UNM Press. \nInfo/Contact:\nvalerie.martinez@state.nm.us
URL:https://nhccnm.org/event/national-poetry-month/
LOCATION:History and Literary Arts Building
CATEGORIES:Education,History and Literary Arts,Speakers,Workshops
ATTACH;FMTTYPE=image/jpeg:https://nhccnm.org/wp-content/uploads/2019/01/POETRY-WRITING-WORKSHOP-graphic-2019-tall.jpg
END:VEVENT
BEGIN:VEVENT
DTSTART;VALUE=DATE:20190404
DTEND;VALUE=DATE:20190405
DTSTAMP:20260420T101316
CREATED:20181215T225931Z
LAST-MODIFIED:20181215T225931Z
UID:5925-1554336000-1554422399@nhccnm.org
SUMMARY:¡HAH! Happy Arte Hour
DESCRIPTION:5:30 pm to 7:30 pm \nOn the first Thursday of the month\, NHCC invites adults for artistic fun in a relaxed social setting\, which includes snacks\, refreshments\, and beer & wine for sale from Pop Fizz. This is a great opportunity for friends to hang out\, a unique date night option\, or a place to come solo and connect with fellow art enthusiasts. \nThis month\, work with artist Jocelyn Salas and make a small painting\, explore patterns\, and learn how to work with gold leaf. \nPlease pre-register using the link HERE (so we know how many materials to prepare) \nFor more information please call or email Elena Baca at 505-246-2261 or ElenaD.Baca@state.nm.us \nFree\, $5 donations are encouraged to support the artists & purchase supplies
URL:https://nhccnm.org/event/hah-happy-arte-hour-32/
LOCATION:Domenici Education Building\, 1701 4th Street SW\, Albuquerque\, NM\, 87102
CATEGORIES:Education,Food,Visual Arts,Workshops
ATTACH;FMTTYPE=image/jpeg:https://nhccnm.org/wp-content/uploads/2016/12/HAH-2017-WebsiteBanner.jpg
END:VEVENT
BEGIN:VEVENT
DTSTART;VALUE=DATE:20190405
DTEND;VALUE=DATE:20190406
DTSTAMP:20260420T101316
CREATED:20181206T225046Z
LAST-MODIFIED:20181206T225046Z
UID:5778-1554422400-1554508799@nhccnm.org
SUMMARY:First Friday: Volunteer Education and Conversation
DESCRIPTION:9:00 am – 11 am \nOn the first Friday of each month\, NHCC docents and core volunteers meet for coffee and conversation along with monthly presentations on topics that build the knowledge and skills of the docent core to give tours\, educate the NHCC visitors and share the NHCC mission and programs.\nFor location and more information on the NHCC Docent and Volunteer program\, Please call Annette Lujan at 505-383-4783 or email her at Annette.Lujan@state.nm.us for more information.\nFree event
URL:https://nhccnm.org/event/first-friday-volunteer-education-and-conversation-3/
LOCATION:Domenici Education Building\, 1701 4th Street SW\, Albuquerque\, NM\, 87102
CATEGORIES:Education,Workshops
ATTACH;FMTTYPE=image/jpeg:https://nhccnm.org/wp-content/uploads/2016/10/Vol-Photo-3.jpg
END:VEVENT
BEGIN:VEVENT
DTSTART;VALUE=DATE:20190406
DTEND;VALUE=DATE:20190407
DTSTAMP:20260420T101316
CREATED:20181214T215353Z
LAST-MODIFIED:20181214T215353Z
UID:5908-1554508800-1554595199@nhccnm.org
SUMMARY:¡Vamos al Museo!
DESCRIPTION:10:30 am to 12 pm \nA great morning of art-making for children of all ages and families of all sizes. A visit to the museum is included in this artist-led workshop. We will meet in the Creative Classroom in the Pete V. Domenici Building. \nThis month\, join Jocelyn Salas and Elena in a slight museum takeover. We were anticipating construction and a section of the museum does not have artwork. We will search for clues and use our imaginations to recreate the missing artwork. \nPlease pre-register HERE (so we know how many materials to prepare) \nFor more information please call or email Elena Baca at 505-246-2261 or ElenaD.Baca@state.nm.us\nFree\, $5 donations are encouraged to support the artists & purchase supplies
URL:https://nhccnm.org/event/vamos-al-museo-28/
LOCATION:Domenici Education Building\, 1701 4th Street SW\, Albuquerque\, NM\, 87102
CATEGORIES:Education,School and Youth Programs,Visual Arts,Workshops
ATTACH;FMTTYPE=image/jpeg:https://nhccnm.org/wp-content/uploads/2018/05/VAM-2017-BannerLogo.jpg
END:VEVENT
BEGIN:VEVENT
DTSTART;VALUE=DATE:20190406
DTEND;VALUE=DATE:20190407
DTSTAMP:20260420T101316
CREATED:20201212T213854Z
LAST-MODIFIED:20201212T213854Z
UID:11661-1554508800-1554595199@nhccnm.org
SUMMARY:Art Making: Try this at home!
DESCRIPTION:In April 2019\, we made lemonade out of lemons in the Art Museum. Not real lemonade\, because food and drink aren’t allowed in the Museum! \nWe were expecting construction\, and to keep the art safe\, it had to be put in storage. We took the families participating in our Saturday program\, Vamos al Museo into the Museum to look at blank walls. Crazy right?!  It turned in to one of our favorite art making experiences during this program. Our source for art making inspiration were the wall labels that accompany the art\, written by our curators  which often include statements from the artists. Art makers from age 2 – 80 years old participated.\n \n \nClick HERE and find three wall labels from popular art pieces in the museum. What clues do these labels give you about the art? \nWe hope artists of all ages will participate by creating art inspired by this text. Please use what ever you have at home. Post your art and tag us on Facebook\, Instagram or Twitter @nhccnm #nhccnmart or snap a pic and email to elenad.baca@state.nm.us Include the name and age of the artist. All ages\, experience and styles are encouraged. \nWe will repost your creations on our social media platforms and reveal what the pieces in the collection look like soon\, so check back! No google searches\, only imagination required! \n#newmexicoculture #nhccnmart #nhccnm #make #createathome #artisforeveryone
URL:https://nhccnm.org/event/art-making-try-this-at-home/
LOCATION:Domenici Education Building\, 1701 4th Street SW\, Albuquerque\, NM\, 87102
CATEGORIES:Education,School and Youth Programs,Visual Arts,Workshops
ATTACH;FMTTYPE=image/jpeg:https://nhccnm.org/wp-content/uploads/2018/05/VAM-2017-BannerLogo.jpg
END:VEVENT
BEGIN:VEVENT
DTSTART;VALUE=DATE:20190411
DTEND;VALUE=DATE:20190412
DTSTAMP:20260420T101316
CREATED:20190330T005237Z
LAST-MODIFIED:20190330T005237Z
UID:6888-1554940800-1555027199@nhccnm.org
SUMMARY:Film: The Way
DESCRIPTION:7 pm \nTom\, an irascible American doctor\, comes to France to deal with the tragic loss of his son. Rather than return home\, he decides to embark on the historical pilgrimage El Camino de Santiago (“The Way of Saint James”) to honor his son’s desire to finish the journey. What Tom doesn’t plan on is the profound impact this trip will have on him\, as\, through unexpected and oftentimes amusing experiences along “The Way\,” he discovers the difference between “the life we live and the life we choose.” Written and directed by Emilio Estevez and starring his father\, Martin Sheen\, The Way was filmed entirely in France and Spain along El Camino de Santiago. Presented in partnership with Instituto Cervantes as part of the Bank of America Free Thursday Film Series. \n2010; Emilio Estevez; English; 123 minutes; rated PG-13.\nFree ticketed event; tickets available one hour before show \n \nThe Camino de Santiago (“Way of St. James”) is a large network of ancient pilgrimage routes that stretch across Europe and come together at the tomb of the apostle St. James (Santiago) in Santiago de Compostela in northwest Spain. Since the beginning of the 9th century\, when the tomb was discovered\, Santiago de Compostela has been a pan-European place of peregrination. The city’s Old Town was designated a UNESCO World Heritage Site in 1985\, and the European Union declared the Camino de Santiago to be the first European Cultural Itinerary in 1987. According to Catholic tradition\, completing a pilgrimage on the Camino\, some 500 miles along the major routes\, assures forgiveness of one’s sins. The walk now attracts people of all faiths and backgrounds\, and over 200\,000 contemporary pilgrims embark on the journey each year. \nThe April films\, as well as the first May film\, in the Bank of America Free Thursday Film Series\, presented in partnership with Instituto Cervantes and the Spanish Resource Center\, have been selected for their insights into different elements of the Way\, capturing the spiritual significance and the rich history of this iconic pilgrimage.
URL:https://nhccnm.org/event/film-the-way/
LOCATION:NHCC-BOD-January-2020-Meeting
CATEGORIES:Film,Performing Arts,Theatre
ATTACH;FMTTYPE=image/jpeg:https://nhccnm.org/wp-content/uploads/2019/03/The-Way-poster.jpg
END:VEVENT
BEGIN:VEVENT
DTSTART;VALUE=DATE:20190413
DTEND;VALUE=DATE:20190414
DTSTAMP:20260420T101316
CREATED:20190221T191829Z
LAST-MODIFIED:20190221T191829Z
UID:6555-1555113600-1555199999@nhccnm.org
SUMMARY:La Canoa: Valerie Rangel "Environmental Policies\, Planning\, and Cultural Connections of Nuevo México"
DESCRIPTION:2 pm \nPlease join Valerie Rangel\, community planner and environmental planning consultant\, as she shares historical research\, land use planning\, and policy frameworks that shed light on issues of environmental contamination and public health while uplifting the voices of immigrant farm workers\, tribal members\, environmental and social activists from the communities of Nuevo México. She will focus on the history and contributions of the communities of Albuquerque\, Santa Fe\, Pueblo of Isleta as well as sacred sites\, the Gila River and Rio Grande. \nValerie Rangel earned a Master’s Degree in Community Regional Planning with an emphasis in environmental and natural resource management\, indigenous planning and public health. Her education involved environmental science\, southwest history\, Native American studies and cultural anthropology. Having taught college science courses\, she presently works as an environmental planning and public health assessment consultant and community program manager for the New Mexico Community Foundation (NMCF) and volunteers as a river steward and social justice activist. \nThis event is free and open to the public
URL:https://nhccnm.org/event/la-canoa-valerie-rangel-environmental-policies-planning-and-cultural-connections-of-nuevo-mexico/
LOCATION:History and Literary Arts Building
CATEGORIES:History and Literary Arts,Speakers
ATTACH;FMTTYPE=image/jpeg:https://nhccnm.org/wp-content/uploads/2019/02/Rangel-Valerie-scaled.jpg
END:VEVENT
BEGIN:VEVENT
DTSTART;VALUE=DATE:20190419
DTEND;VALUE=DATE:20190420
DTSTAMP:20260420T101316
CREATED:20181208T214523Z
LAST-MODIFIED:20181208T214523Z
UID:5802-1555632000-1555718399@nhccnm.org
SUMMARY:Colcha Community Stitch-Along
DESCRIPTION:April’s Colcha Community Stitch-Along is cancelled! Please join us in May \n9:30 am – 12 pm \nJoin our monthly gathering for colcheras of all skill levels led by Annette Gutierrez Turk. If you are beginning or advanced in the traditional New Mexican style of embroidery\, bring your current colcha project along and enjoy these monthly\, informal\, community work sessions to share ideas\, resources and encouragement! \nFor more information\, call Elena at 505-246-2261 or e-mailing elenad.baca@state.nm.us.\nFree event \nFacilitated by Sandia Mountains Chapter-EGA
URL:https://nhccnm.org/event/colcha-community-stitch-along-21/
LOCATION:Domenici Education Building\, 1701 4th Street SW\, Albuquerque\, NM\, 87102
CATEGORIES:Education,Workshops
ATTACH;FMTTYPE=image/jpeg:https://nhccnm.org/wp-content/uploads/2016/02/Colcha-Embroidery-graphic.2-08-26-2015.jpg
END:VEVENT
BEGIN:VEVENT
DTSTART;VALUE=DATE:20190423
DTEND;VALUE=DATE:20190424
DTSTAMP:20260420T101316
CREATED:20190326T192856Z
LAST-MODIFIED:20190326T192856Z
UID:6814-1555977600-1556063999@nhccnm.org
SUMMARY:Semana Cervantina: Lecture and Discussion “Spain and the Independence of the United States” by Tom Chavez
DESCRIPTION:7 pm \nOrganized by Instituto Cervantes Albuquerque in collaboration with the National Hispanic Cultural Center and the Spanish Resource Center to commemorate the “International Day of the Book” and the “Day of the Spanish Language.” \n“Spain and the Independence of the United States” is a Lecture and discussion group. Historian Dr. Tom Chavez will discuss the making of early U.S. history from Spanish resources\, the language of Cervantes. \nDr. Chavez will give a 45-minute lecture and there will be a group discussion to talk in detail about his research and further opportunities for researching in Cervantes’ language. Assistants will need to sign up for the discussion group limited to 20. Contact adx2abq@cervantes.es to register. \nBook signing – bring your own book. \nFree and open to the public; donations welcome
URL:https://nhccnm.org/event/semana-cervantina-lecture-and-discussion-spain-and-the-independence-of-the-united-states-by-tom-chavez/
LOCATION:NHCC-BOD-January-2020-Meeting
CATEGORIES:Instituto Cervantes,Speakers
ATTACH;FMTTYPE=image/jpeg:https://nhccnm.org/wp-content/uploads/2019/03/Spain-and-the-Independence-of-the-United-States-by-Tom-Chavez-Book-Cover.jpg
END:VEVENT
END:VCALENDAR