BEGIN:VCALENDAR
VERSION:2.0
PRODID:-// - ECPv6.15.14//NONSGML v1.0//EN
CALSCALE:GREGORIAN
METHOD:PUBLISH
X-ORIGINAL-URL:https://nhccnm.org
X-WR-CALDESC:Events for 
REFRESH-INTERVAL;VALUE=DURATION:PT1H
X-Robots-Tag:noindex
X-PUBLISHED-TTL:PT1H
BEGIN:VTIMEZONE
TZID:America/Denver
BEGIN:DAYLIGHT
TZOFFSETFROM:-0700
TZOFFSETTO:-0600
TZNAME:MDT
DTSTART:20180311T090000
END:DAYLIGHT
BEGIN:STANDARD
TZOFFSETFROM:-0600
TZOFFSETTO:-0700
TZNAME:MST
DTSTART:20181104T080000
END:STANDARD
BEGIN:DAYLIGHT
TZOFFSETFROM:-0700
TZOFFSETTO:-0600
TZNAME:MDT
DTSTART:20190310T090000
END:DAYLIGHT
BEGIN:STANDARD
TZOFFSETFROM:-0600
TZOFFSETTO:-0700
TZNAME:MST
DTSTART:20191103T080000
END:STANDARD
BEGIN:DAYLIGHT
TZOFFSETFROM:-0700
TZOFFSETTO:-0600
TZNAME:MDT
DTSTART:20200308T090000
END:DAYLIGHT
BEGIN:STANDARD
TZOFFSETFROM:-0600
TZOFFSETTO:-0700
TZNAME:MST
DTSTART:20201101T080000
END:STANDARD
END:VTIMEZONE
BEGIN:VEVENT
DTSTART;VALUE=DATE:20190719
DTEND;VALUE=DATE:20200101
DTSTAMP:20260419T234113
CREATED:20190411T141013Z
LAST-MODIFIED:20190411T141013Z
UID:5985-1563494400-1577836799@nhccnm.org
SUMMARY:Camina el Autor: The Iconography of Felipe Guamán Poma de Ayala\, Peruvian/Quechuan Chronicler
DESCRIPTION:Camina el Autor showcases the extraordinary work of Guaman Poma; explores the history of the indigenous people of Peru\, Andean civilization\, and Spanish conquest; and broadens our understanding of Peruvian culture and history.The digital images and accompanying texts have been provided to the NHCC by the Peruvian Ministry of Foreign Affairs\, with assistance from the Consulate General of Peru in Denver. The NHCC has curated these (398 fullpage drawings) to present a vibrant and informative exhibit that encourages learning\, discovery\, and contemplation. Exhibit programming will include talks and lectures; book readings; graphic novel\, zine\, and animation workshops for teens; bilingual story hours; and more. \nFor more information\, contact: Cassandra Osterloh\, NHCC Librarian\, cassandra.osterloh@state.nm.us\, (505) 383-4708. \nThis exhibit is free and open to the public during hours of operation.
URL:https://nhccnm.org/event/the-iconography-of-felipe-huaman-poma-de-ayala-peruvian-quechuan-chronicler/
LOCATION:History and Literary Arts Building
CATEGORIES:History and Literary Arts
ATTACH;FMTTYPE=image/jpeg:https://nhccnm.org/wp-content/uploads/2019/04/FeaturedImage.jpg
END:VEVENT
BEGIN:VEVENT
DTSTART;VALUE=DATE:20190801
DTEND;VALUE=DATE:20190802
DTSTAMP:20260419T234113
CREATED:20181229T212435Z
LAST-MODIFIED:20181229T212435Z
UID:6067-1564617600-1564703999@nhccnm.org
SUMMARY:¡HAH! Happy Arte Hour
DESCRIPTION:5:30 pm to 7:30 pm \nOn the first Thursday of the month\, NHCC invites adults for artistic fun in a relaxed social setting\, which includes snacks\, refreshments\, and beer & wine for sale from Pop Fizz. This is a great opportunity for friends to hang out\, a unique date night option\, or a place to come solo and connect with fellow art enthusiasts.\nPlease pre-register using the link HERE (so we know how many materials to prepare). \nThis month\, work with guest artist Sean Wells who will discuss working in the contemporary style inspired by traditional Spanish Colonial Art forms. She will lead us in a painting workshop using acrylic paints on canvas. Paintings created during this month’s HAH or Vamos will be voluntarily included in an exhibition in the education building. \n \nAbout Sean Wells: \nSean’s artwork has been featured on internationally distributed beer labels (Cerveza de los Muertos)\, nationally distributed wine labels (La Catrina Vino) and New Mexico Lottery Scratchers for which she received a national award for top scratcher design. She is an award-winning 5th generation Spanish Colonial artist and juried member of the Spanish Colonial Arts Society in the retablo category\, promoting the traditional arts through her television show\, New Mexican Santera.  Sean received “Best Visual Artist 2016” and “Top 5 Artists” 2017 and 2018 from the readers of Albuquerque the Magazine. Through art\, Sean aspires to bring an appreciation for the Hispanic traditions and culture of Northern New Mexico to a broader audience. \nSean’s art has been featured on the following posters: \n\n2015 Day of the Tread Bike Ride\, Albuquerque NM\n2016 Day of the Tread Bike Ride\, Albuquerque NM\n2017 Barelas Festival\, Albuquerque\, NM\n2017 Day of the Tread Bike Ride\, Albuquerque NM\n2017 La Cosecha International Dual Language Conference\, Albuquerque\, NM\n2017 Run for the Zoo Poster\, Albuquerque\, NM\n2018 Barelas Festival\, Albuquerque\, NM\n2018 Blue Ball Poster\, Frozen Dead Guy Days\, Nederland CO\n2018 Day of the Tread Bike Ride\, Albuquerque NM\n2018 Gypsy Festival\, Madrid\, NM\n2018 Lincoln County Days\, Lincoln County\, NM\n\nFor more information please call or email Elena Baca at 505-246-2261 or ElenaD.Baca@state.nm.us \nFree\, $5 donations are encouraged to support the artists & purchase supplies
URL:https://nhccnm.org/event/hah-happy-arte-hour-36/
LOCATION:Domenici Education Building\, 1701 4th Street SW\, Albuquerque\, NM\, 87102
CATEGORIES:Education,Food,Visual Arts,Workshops
ATTACH;FMTTYPE=image/jpeg:https://nhccnm.org/wp-content/uploads/2016/12/HAH-2017-WebsiteBanner.jpg
END:VEVENT
BEGIN:VEVENT
DTSTART;VALUE=DATE:20190803
DTEND;VALUE=DATE:20190804
DTSTAMP:20260419T234113
CREATED:20181229T210625Z
LAST-MODIFIED:20181229T210625Z
UID:6051-1564790400-1564876799@nhccnm.org
SUMMARY:¡Vamos al Museo!
DESCRIPTION:10:30 am to 12 pm \nA great morning of art-making for children of all ages and families of all sizes. A visit to the museum is included in this artist-led workshop. We will meet in the Creative Classroom in the Pete V. Domenici Building. \nPlease pre-register HERE (so we know how many materials to prepare) \nThis month\, work with guest artist Sean Wells who will discuss working in the contemporary style inspired by traditional Spanish Colonial Art forms. She will lead us in a painting workshop using acrylic paints on canvas. Paintings created during this month’s HAH or Vamos will be voluntarily included in an exhibition in the education building. \n \nAbout Sean Wells: \nSean’s artwork has been featured on internationally distributed beer labels (Cerveza de los Muertos)\, nationally distributed wine labels (La Catrina Vino) and New Mexico Lottery Scratchers for which she received a national award for top scratcher design. She is an award-winning 5th generation Spanish Colonial artist and juried member of the Spanish Colonial Arts Society in the retablo category\, promoting the traditional arts through her television show\, New Mexican Santera.  Sean received “Best Visual Artist 2016” and “Top 5 Artists” 2017 and 2018 from the readers of Albuquerque the Magazine. Through art\, Sean aspires to bring an appreciation for the Hispanic traditions and culture of Northern New Mexico to a broader audience. \nSean’s art has been featured on the following posters: \n\n2015 Day of the Tread Bike Ride\, Albuquerque NM\n2016 Day of the Tread Bike Ride\, Albuquerque NM\n2017 Barelas Festival\, Albuquerque\, NM\n2017 Day of the Tread Bike Ride\, Albuquerque NM\n2017 La Cosecha International Dual Language Conference\, Albuquerque\, NM\n2017 Run for the Zoo Poster\, Albuquerque\, NM\n2018 Barelas Festival\, Albuquerque\, NM\n2018 Blue Ball Poster\, Frozen Dead Guy Days\, Nederland CO\n2018 Day of the Tread Bike Ride\, Albuquerque NM\n2018 Gypsy Festival\, Madrid\, NM\n2018 Lincoln County Days\, Lincoln County\, NM\n\nFor more information please call or email Elena Baca at 505-246-2261 or ElenaD.Baca@state.nm.us \nFree\, $5 donations are encouraged to support the artists & purchase supplies \nFor more information please call or email Elena Baca at 505-246-2261 or ElenaD.Baca@state.nm.us\nFree\, $5 donations are encouraged to support the artists & purchase supplies
URL:https://nhccnm.org/event/vamos-al-museo-31/
LOCATION:Domenici Education Building\, 1701 4th Street SW\, Albuquerque\, NM\, 87102
CATEGORIES:Education,School and Youth Programs,Visual Arts,Workshops
ATTACH;FMTTYPE=image/jpeg:https://nhccnm.org/wp-content/uploads/2018/05/VAM-2017-BannerLogo.jpg
END:VEVENT
BEGIN:VEVENT
DTSTART;VALUE=DATE:20190810
DTEND;VALUE=DATE:20190811
DTSTAMP:20260419T234113
CREATED:20190517T215153Z
LAST-MODIFIED:20190517T215153Z
UID:7199-1565395200-1565481599@nhccnm.org
SUMMARY:Salud y Sabor Celebrates Venezuela: Strength in Culture
DESCRIPTION:11:30 am to 2:00 pm \nSalud y Sabor is a free late morning/early afternoon of food\, art\, health\, culture\, and entertainment that celebrates our communities and connects families with nutrition\, cooking\, healthy lifestyles\, and play. Once a month\, community members gather for cooking demonstrations using fresh\, locally grown ingredients\, fun art and movement activities for kids and adults\, health screenings\, cultural exchange\, and live entertainment.  Join us for free samples of local produce and special recipes. All activities emphasize traditional Latin American and Indigenous food and culture\, basic information/free screenings from local Western and alternative health practitioners\, and a vibrant atmosphere with art activities\, storytelling\, and live music. \nThis event is presented as a partnership between the NHCC\, Agri-Cultura Network and Street Food Institute. \nThank you to our presenting sponsor UNM-Health Sciences Center! \nThis event is free and open to the public
URL:https://nhccnm.org/event/salud-y-sabor-celebrates-venezuela-strength-in-culture/
LOCATION:Domenici Education Building – Grand Hall
CATEGORIES:Education,History and Literary Arts
ATTACH;FMTTYPE=image/jpeg:https://nhccnm.org/wp-content/uploads/2019/05/Sys2019.Solid_.jpg
END:VEVENT
BEGIN:VEVENT
DTSTART;VALUE=DATE:20190810
DTEND;VALUE=DATE:20190811
DTSTAMP:20260419T234113
CREATED:20190702T171829Z
LAST-MODIFIED:20190702T171829Z
UID:7556-1565395200-1565481599@nhccnm.org
SUMMARY:POSTPONED: Who We Are\, Together: NM Families Project Presentation for Torres & Urioste
DESCRIPTION:This event has been postponed to a date TBD. Please check back here for further information. \n2-4 pm \nThis project engaged 2-3 generations of seven NM families in testing their DNA and researching their family lineage with the help of the NHCC and experts in the field. For seven Sundays these families will present what they learned about who they are\, where they are\, where they came from\, and from whom they descend\, followed by dialogue. Join us to explore the diverse heritage and history of NM through our families: who we are\, together. \nFor this presentation\, hear more about the histories of the families Torres and Urioste. \nOther presentation dates below: \nAug. 25\, 2-4 pm: Sanchez\, Martinez\, Tovar and Begley\nSept. 15\, 2-4 pm: Romero and Martinez\nSept. 22\, 2-4 pm: Madrid and Padilla\nOct. 6\, 2-4 pm: C De Baca\nOct. 20\, 2-4 pm: Lopez\, Fraga\, Liomas and Gomez\nNov. 3\, 2-4 pm: Martinez and Tafoya \nPlease RSVP as space is limited: http://bit.ly/2WFltQa
URL:https://nhccnm.org/event/who-we-are-together-nm-families-project-presentation-for-torres-yurioste/
LOCATION:History and Literary Arts Building
CATEGORIES:History and Literary Arts
ATTACH;FMTTYPE=image/jpeg:https://nhccnm.org/wp-content/uploads/2019/07/FeatureImage.DNA_.Tree_.jpg
END:VEVENT
BEGIN:VEVENT
DTSTART;VALUE=DATE:20190825
DTEND;VALUE=DATE:20190826
DTSTAMP:20260419T234113
CREATED:20190715T170550Z
LAST-MODIFIED:20190715T170550Z
UID:7618-1566691200-1566777599@nhccnm.org
SUMMARY:Who We Are\, Together: NM Families Project Presentation for Sanchez\, Martinez\, Tovar and Begley
DESCRIPTION:2-4 pm \nThis project engaged 2-3 generations of seven NM families in testing their DNA and researching their family lineage with the help of the NHCC and experts in the field. For seven Sundays these families will present what they learned about who they are\, where they are\, where they came from\, and from whom they descend\, followed by dialogue. Join us to explore the diverse heritage and history of NM through our families: who we are\, together. \nFor this presentation\, hear more about the histories of the families Sanchez\, Martinez\, Tovar and Begley. \nOther presentation dates below: \nSept. 15\, 2-4 pm: Romero and Martinez\nSept. 22\, 2-4 pm: Madrid and Padilla\nOct. 6\, 2-4 pm: C De Baca\nOct. 20\, 2-4 pm: Lopez\, Fraga\, Liomas and Gomez\nNov. 3\, 2-4 pm: Martinez and Tafoya \nPlease RSVP as space is limited: http://bit.ly/2WFltQa
URL:https://nhccnm.org/event/who-we-are-together-nm-families-project-presentation-for-sanchez-martinez-tovar-and-begley/
LOCATION:History and Literary Arts Building
CATEGORIES:History and Literary Arts
ATTACH;FMTTYPE=image/jpeg:https://nhccnm.org/wp-content/uploads/2019/07/FeatureImage.DNA_.Tree_.jpg
END:VEVENT
END:VCALENDAR