BEGIN:VCALENDAR
VERSION:2.0
PRODID:-// - ECPv6.15.14//NONSGML v1.0//EN
CALSCALE:GREGORIAN
METHOD:PUBLISH
X-ORIGINAL-URL:https://nhccnm.org
X-WR-CALDESC:Events for 
REFRESH-INTERVAL;VALUE=DURATION:PT1H
X-Robots-Tag:noindex
X-PUBLISHED-TTL:PT1H
BEGIN:VTIMEZONE
TZID:America/Denver
BEGIN:DAYLIGHT
TZOFFSETFROM:-0700
TZOFFSETTO:-0600
TZNAME:MDT
DTSTART:20180311T090000
END:DAYLIGHT
BEGIN:STANDARD
TZOFFSETFROM:-0600
TZOFFSETTO:-0700
TZNAME:MST
DTSTART:20181104T080000
END:STANDARD
BEGIN:DAYLIGHT
TZOFFSETFROM:-0700
TZOFFSETTO:-0600
TZNAME:MDT
DTSTART:20190310T090000
END:DAYLIGHT
BEGIN:STANDARD
TZOFFSETFROM:-0600
TZOFFSETTO:-0700
TZNAME:MST
DTSTART:20191103T080000
END:STANDARD
BEGIN:DAYLIGHT
TZOFFSETFROM:-0700
TZOFFSETTO:-0600
TZNAME:MDT
DTSTART:20200308T090000
END:DAYLIGHT
BEGIN:STANDARD
TZOFFSETFROM:-0600
TZOFFSETTO:-0700
TZNAME:MST
DTSTART:20201101T080000
END:STANDARD
BEGIN:DAYLIGHT
TZOFFSETFROM:-0700
TZOFFSETTO:-0600
TZNAME:MDT
DTSTART:20210314T090000
END:DAYLIGHT
BEGIN:STANDARD
TZOFFSETFROM:-0600
TZOFFSETTO:-0700
TZNAME:MST
DTSTART:20211107T080000
END:STANDARD
BEGIN:DAYLIGHT
TZOFFSETFROM:-0700
TZOFFSETTO:-0600
TZNAME:MDT
DTSTART:20220313T090000
END:DAYLIGHT
BEGIN:STANDARD
TZOFFSETFROM:-0600
TZOFFSETTO:-0700
TZNAME:MST
DTSTART:20221106T080000
END:STANDARD
END:VTIMEZONE
BEGIN:VEVENT
DTSTART;VALUE=DATE:20190517
DTEND;VALUE=DATE:20211018
DTSTAMP:20260419T210724
CREATED:20190409T141831Z
LAST-MODIFIED:20190409T141831Z
UID:6963-1558051200-1634515199@nhccnm.org
SUMMARY:Southwest of Eden:  The Art of Adam and Eve
DESCRIPTION:This exciting exhibit features approximately fifty works of art from the Joyce Kaser Collection. Southwest of Eden: The Art of Adam and Eve examines the various ways in which New Mexican artists and others visually portray these two famous figures as well as the flora and fauna in their surroundings.  For example\, how many apples are featured\, or are they pomegranates? Is the serpent male or female? Is it animal or human\, or half and half? Is Eve always the instigator or is Adam assuming some responsibility? Situated in the NHCC Art Museum’s highly popular community gallery\, Southwest of Eden invites the visitor to take a closer look at the imagery\, symbolism and story of what happened in the garden.
URL:https://nhccnm.org/event/southwest-of-eden-the-art-of-adam-and-eve/
LOCATION:September-2019-Board-Meeting-Minutes
CATEGORIES:Exhibitions,Visual Arts
ATTACH;FMTTYPE=image/jpeg:https://nhccnm.org/wp-content/uploads/2018/12/HomeBanner.AdamEve-featured-image.jpg
END:VEVENT
BEGIN:VEVENT
DTSTART;VALUE=DATE:20200515
DTEND;VALUE=DATE:20211022
DTSTAMP:20260419T210725
CREATED:20200822T183200Z
LAST-MODIFIED:20200822T183200Z
UID:10151-1589500800-1634860799@nhccnm.org
SUMMARY:Incubation: Art Created in the COVID-19 Era
DESCRIPTION:Incubation: Art Created in the COVID-19 Era\, is an online exhibit of artwork created by Albuquerque High School students under the direction of four teachers. The work was created at the end of the spring semester\, after schools closed across New Mexico in response to the COVID-19 crisis. \n \nPrior to school closures and the closure of the NHCC campus\, the AHS students and teachers were scheduled to hang an exhibit in the Pete Domenici Education Building on the NHCC. The students were working on completely different projects at that time and what you see here reflects their transition into online art instruction and the students’ reflections on this dramatic and sudden shift. Many artworks were submitted for this online exhibit and what is presented here is just a small sampling of the creativity that has taken place since March.\, \nDuring this time\, the teachers focused intently on how to continue supporting their students through these new challenges. There were many emotions about how the school year ended so abruptly and about the continued need for social distancing. Yet\, something magical also happened. The students created so much artwork in their homes that it needed to be shared and shown to others. The artwork demonstrates resourcefulness and creativity that is inspiring. There was so much artwork\, that we were only able to show a portion of it. \nIMPORTANT message to all the students!  All of the art created\, whether shown here or not\, is amazing! Please\, don’t stop creating. You are teaching the rest of the world about resilience and resourcefulness. \nTo all the teachers\, thank you! You all have been challenged in many ways. Your dedication to your students is evident in the honesty of your statements and the varied projects shown. You have not only taught craftsmanship but life skills. Through the lengthy and complicated process of transitioning to an online exhibit\, it is evident that your capacity for care and hard work is unwavering. Again\, thank you. \nPlease click HERE and leave a comment for Teachers\, Artists or NHCC staff\, about this exhibit.
URL:https://nhccnm.org/event/incubation-art-created-in-the-covid-19-era/
LOCATION:NM
CATEGORIES:Education,Exhibitions,School and Youth Programs,Virtual Exhibitions,Virtual Exhibitions,Visual Arts
ATTACH;FMTTYPE=image/png:https://nhccnm.org/wp-content/uploads/2020/08/Incubation-box.png
END:VEVENT
BEGIN:VEVENT
DTSTART;VALUE=DATE:20201014
DTEND;VALUE=DATE:20211022
DTSTAMP:20260419T210725
CREATED:20201014T161514Z
LAST-MODIFIED:20201014T161514Z
UID:11000-1602633600-1634860799@nhccnm.org
SUMMARY:Virtual Exhibition: Qué Chola
DESCRIPTION:Qué Chola was an exhibition at the National Hispanic Cultural Center Art Museum that opened on March 8\, 2019 and closed on August 4\, 2019. The exhibition celebrated Cholas and homegirls in art and popular culture as symbols of feminine strength and resilience in the face of racial\, gender\, and economic adversity. \nThe exhibition was popular and inspired many meaningful moments of connection. Visitors came from across the nation to show their love and respect for the figure of La Chola and all the powerful women she represents. \n \nQué Chola Slideshow\nThis slideshow presents snapshots of the exhibition and its events. We continue to honor the contributions of the artists in the exhibition\, those who visited the museum\, and those who participated in the programs. \n \nPlease share your thoughts\, feedback\, and memories in the virtual comment book!\nQué Chola Virtual Comment Book Link Here \nArtists\nAdriana Avila and Benjamin Avila\nAll Chola\nAmy Martinez\, Kari Orvik\, and Vero Majano\nAndrew Montoya\nAntonia Fernandez\nArthur López\nBlackout Theater\nJesús “Chuy” Rangel\nCrystal Galindo\nDavid Gonzales\nDelilah Montoya\nEddyrose\nGaspar Enríquez\niLash\nJudith F. Baca\nMiguel Gandert\nNancy Camacho\nNanibah Chacon\nPamela Enriquez-Courts\nPóla López\nRebekah Miles\nShizu Saldamando\nValerie J. Bower\nVibiana Aparicio-Chamberlin\nVicko Alvarez Vega\nZeke Peña \n¡Gracias!\nThank you to W.K. Kellogg Foundation\, Marble Brewery\, Rude Boy Cookies\, Roybal-Mack & Cordova\, P.C. and the NHCC Foundation Board for their generous support of this exhibit.
URL:https://nhccnm.org/event/virtual-exhibition-que-chola/
LOCATION:NM
CATEGORIES:Exhibitions,Virtual Exhibitions,Virtual Exhibitions,Visual Arts
ATTACH;FMTTYPE=image/jpeg:https://nhccnm.org/wp-content/uploads/2018/12/FeatureImage.QueCola.jpg
END:VEVENT
BEGIN:VEVENT
DTSTART;VALUE=DATE:20201204
DTEND;VALUE=DATE:20211022
DTSTAMP:20260419T210725
CREATED:20200303T222953Z
LAST-MODIFIED:20200303T222953Z
UID:9106-1607040000-1634860799@nhccnm.org
SUMMARY:Mira\, Mira On the Wall: Reflecting on 20 Years of Exhibitions - Virtual Edition
DESCRIPTION:The National Hispanic Cultural Center (NHCC) turns twenty years old in 2020 and the museum now has twenty years of exhibitions to reflect on and learn from. Mira Mira On the Wall: Reflecting on 20 Years of Exhibitions – Virtual Edition recounts a selection of exhibits that have been presented over the last two decades. It examines their impact on the permanent collection\, the importance of the stories that have been told\, and celebrates the artists that have participated in shaping the identity of the museum over the years. These exhibitions have worked to expand a collective understanding of American art and identity through the lens of Hispanic\, Chicana/o\, Latinx\, and Latin American creative expression. \nView Exhibit Here
URL:https://nhccnm.org/event/mira-mira-on-the-wall-reflecting-on-20-years-of-exhibitions/
LOCATION:NM
CATEGORIES:Virtual Exhibitions,Virtual Exhibitions,Visual Arts
ATTACH;FMTTYPE=image/jpeg:https://nhccnm.org/wp-content/uploads/2020/03/400x600.MMOTW_.jpg
END:VEVENT
BEGIN:VEVENT
DTSTART;VALUE=DATE:20210331
DTEND;VALUE=DATE:20210411
DTSTAMP:20260419T210725
CREATED:20210317T224958Z
LAST-MODIFIED:20210317T224958Z
UID:12308-1617148800-1618099199@nhccnm.org
SUMMARY:César Chávez Day Celebration
DESCRIPTION:Times TBD\nRecuerda César Chávez Committee Facebook page HERE \nSince 2007\, the National Hispanic Cultural Center has collaborated with Albuquerque’s Recuerda a César Chávez Committee (RCCC) to celebrate the life and legacy of the renowned American civil rights leader César Estrada Chávez\, co-founder\, with Dolores Huerta\, of the National Farmworkers Association and subsequently president of the United Farmworkers of America. In previous years\, the annual Marcha de Justicia  has departed from the NHCC to begin the day’s activities\, returning to the Center for an afternoon community Fiesta. In 2021\, we will celebrate with a week of virtual events\, taking place from March 31 (César Chávez’ birthday) through April 10 (Dolores Huerta’s birthday). Please join us on the Recuerda a César Chávez Committee’s Facebook page for the 29th Annual César Chávez Day Celebration. \nFree Community Event \n \nClick on thumbnail for a larger version:
URL:https://nhccnm.org/event/cesar-chavez-celebration/
LOCATION:NM
CATEGORIES:Dance,Music,Performing Arts,Seasonal Events,Speakers,Theatre
ATTACH;FMTTYPE=image/jpeg:https://nhccnm.org/wp-content/uploads/2017/02/Cesar-Chavez-Logo.1.jpg
END:VEVENT
BEGIN:VEVENT
DTSTART;VALUE=DATE:20210429
DTEND;VALUE=DATE:20210430
DTSTAMP:20260419T210725
CREATED:20210415T211931Z
LAST-MODIFIED:20210415T211931Z
UID:12474-1619654400-1619740799@nhccnm.org
SUMMARY:On-Line Albuquerque Premiere: Conjunto Blues
DESCRIPTION:7 pm (MST) \nThe premiere performance will be on our Foundation YouTube page HERE \nThis performance\, the Albuquerque premiere of Valdez’ critically acclaimed work\, is made possible through the generous sponsorship of AARP. \nIn Conjunto Blues\, playwright\, actor\, and musician Nicolás Valdez explores the social and historical conditions that led to the development of conjunto music as an expression of cultural resistance and liberation. Centering on Valdez’ personal experience growing up in the conjunto music scene\, the work is loosely based on his relationship with his grandfather\, also an aficionado of the music. Audiences are taken through a shifting landscape of memory and reflection that is highlighted throughout by traditional music performed live by Valdez and accompanied by musicians Luis Gonzalez on bajo sexto (12-string Mexican guitar)\, Sarah Rocha on tololoche (upright bass)\, and Joaquin Abrego on batería (drums). With a cast of colorfully poignant characters\, Conjunto Blues is a deeply personal performance for viewers of all ages and backgrounds\, and one that is sure to entertain as well as educate. \n \nJoin us for three members only/donors webinars in association with the premiere of Conjunto Blues. \nFollowing the opening night performance at 7 pm on April 29\, Valdez will host a live question-and-answer session via Zoom\, during which audience members can discuss the show and ask questions about conjunto music in general. \nOn Saturday\, May 1 at 2 pm\, Valdez will present an hour-long workshop and discussion live from his home\, revolving around specific themes drawn from pre-recorded interviews and historical documentary footage that he has compiled. \nOn Sunday\, May 2 at 2 pm\, Conjunto Blues\, performance sponsor\, AARP will offer a live webinar on brain health and the arts\, including the intrinsic connection between music and memory\, the lasting effects of music on the brain\, and tools to assist in boosting brain health and wellness. \nPlease register\, with donations suggested HERE through 9 pm on Sunday\, May 2\, 2021. You may also email marmijo@nhccfoundation.org to register for any of these events. We will send you the link to the performance. \nThe world premiere of Conjunto Blues took place in Denver in 2013 with the support of Su Teatro\, the National Endowment for the Arts\, and the National Performance Network.  The work has also been performed at venues including Tucson’s Fox Theater and San Antonio’s Guadalupe Cultural Arts Center (GCAC)\, and as part of the Los Angeles Theater Company’s Encuentro de las Américas. Conjunto Blues was adapted for online viewing in November of 2020 through collaborations with the GCAC and Teatro Vivo of Austin\, Texas. \nThis performance\, the Albuquerque premiere of Valdez’ critically acclaimed work\, is made possible through the generous sponsorship of AARP.  Access to the artist’s live workshop on May 1 and to an AARP webinar on May 2\, both described below\, is free to members of the NHCC Foundation and AARP members\, as well as to donors contributing $50 or more.
URL:https://nhccnm.org/event/on-line-albuquerque-premiere-conjunto-blues/
LOCATION:NM
CATEGORIES:Music,Performing Arts,Theatre
ATTACH;FMTTYPE=image/jpeg:https://nhccnm.org/wp-content/uploads/2021/04/400x600.ConjuntoBlues.jpg
END:VEVENT
END:VCALENDAR