BEGIN:VCALENDAR
VERSION:2.0
PRODID:-// - ECPv6.15.14//NONSGML v1.0//EN
CALSCALE:GREGORIAN
METHOD:PUBLISH
X-ORIGINAL-URL:https://nhccnm.org
X-WR-CALDESC:Events for 
REFRESH-INTERVAL;VALUE=DURATION:PT1H
X-Robots-Tag:noindex
X-PUBLISHED-TTL:PT1H
BEGIN:VTIMEZONE
TZID:America/Denver
BEGIN:DAYLIGHT
TZOFFSETFROM:-0700
TZOFFSETTO:-0600
TZNAME:MDT
DTSTART:20190310T090000
END:DAYLIGHT
BEGIN:STANDARD
TZOFFSETFROM:-0600
TZOFFSETTO:-0700
TZNAME:MST
DTSTART:20191103T080000
END:STANDARD
BEGIN:DAYLIGHT
TZOFFSETFROM:-0700
TZOFFSETTO:-0600
TZNAME:MDT
DTSTART:20200308T090000
END:DAYLIGHT
BEGIN:STANDARD
TZOFFSETFROM:-0600
TZOFFSETTO:-0700
TZNAME:MST
DTSTART:20201101T080000
END:STANDARD
BEGIN:DAYLIGHT
TZOFFSETFROM:-0700
TZOFFSETTO:-0600
TZNAME:MDT
DTSTART:20210314T090000
END:DAYLIGHT
BEGIN:STANDARD
TZOFFSETFROM:-0600
TZOFFSETTO:-0700
TZNAME:MST
DTSTART:20211107T080000
END:STANDARD
END:VTIMEZONE
BEGIN:VEVENT
DTSTART;VALUE=DATE:20201024
DTEND;VALUE=DATE:20201025
DTSTAMP:20260423T093713
CREATED:20200818T224151Z
LAST-MODIFIED:20200818T224151Z
UID:10058-1603497600-1603583999@nhccnm.org
SUMMARY:Tertulia Histórica Albuquerque: Famous Suffragists and Hidden Figures
DESCRIPTION:2 pm (MTS)\nLive via Zoom \nRegister in advance for this meeting HERE. \nThe campaign for woman suffrage in New Mexico is rich and deep. The struggle took 46 years\, from 1874 to 1920. As with other aspects of women’s lives\, most of the stories—political\, economic\, social—are not found in history books. They are still being unearthed in family lore\, memoirs\, songs\, newspapers\, and a few scholarly works. Join us to learn about the famous protagonists in this story\, such as Adelina Otero Warren and Octaviano A. Larrazolo\, as well as the less well-known\, Ada McPherson Morley\, Isabella Selmes Ferguson\, Cora Armstrong Kellam and Margaret Green Cartwright. \nFree\, Registration Required \n \nAfter registering\, you will receive a confirmation email containing information about joining the meeting. \n\nThis event is part of the 2020-2021 Tertulia Histórica Albuquerque Lecture Series. \nMark your calendars for the rest of the fall season. \n11/21 – Masks On! Pandemics and Epidemics in New Mexico History.\nState Historian Rob Martinez explores how viruses and disease shaped New Mexico history. \n12/19 – Illuminating New Mexico: A History of Luminarias and Farolitos.\nState Historian Rob Martinez examines the fascinating origins of these uniquely New Mexican cultural expressions.
URL:https://nhccnm.org/event/tertulia-historica-albuquerque-famous-suffragists-and-hidden-figures/
LOCATION:Live via Zoom or in-person
CATEGORIES:History and Literary Arts,Speakers
ATTACH;FMTTYPE=image/jpeg:https://nhccnm.org/wp-content/uploads/2020/08/400x600.Tertulia.jpg
END:VEVENT
BEGIN:VEVENT
DTSTART;VALUE=DATE:20201029
DTEND;VALUE=DATE:20201030
DTSTAMP:20260423T093713
CREATED:20201020T162753Z
LAST-MODIFIED:20201020T162753Z
UID:11137-1603929600-1604015999@nhccnm.org
SUMMARY:Virtual Lunch with Josefa Gonzalez Mariscal
DESCRIPTION:12 pm (MTS) \nLive via Zoom\nAttendance is free with registration. Register HERE  \nJosefa Gonzalez Mariscal\, the executive director of the NHCC\, will share her leadership story in a virtual lunch hosted by the Young Professionals of Albuquerque. In May 2020\, the New Mexico Department of Cultural Affairs (DCA) named Josefa Gonzalez Mariscal the executive director of the NHCC\, and she has an incredible leadership story! She grew up and studied art history in Mexico City. She has dual citizenship (Mexican and American)\, and speaks several languages. Josefa is an alumna of the NYU Fine and Decorative Arts Appraisal Studies Program and has lectured and published both in the USA and abroad. \n \nYoung Professionals of Albuquerque is not your standard networking group. YPA is constantly seeking to build a community that offers professional development\, social\, and civic opportunities to help empower Albuquerque’s future leaders. Professionals under 40 unite for events and activities dedicated to Professional Development\, Community Engagement\, and Social/Networking. YPA members are Albuquerque natives as well as transplants who are seeking to connect with young professional peers\, develop leadership skills\, and get plugged in to the community. \nFor more information about the Young Professionals of Albuquerque check out their website:\nwww.ypabq.org
URL:https://nhccnm.org/event/virtual-lunch-with-josefa-gonzalez-mariscal/
LOCATION:NM
CATEGORIES:Education,Speakers
ATTACH;FMTTYPE=image/jpeg:https://nhccnm.org/wp-content/uploads/2020/10/B1CDA699-DE1F-4B0B-8C5D-F5D452640FDE.jpeg
END:VEVENT
END:VCALENDAR