BEGIN:VCALENDAR
VERSION:2.0
PRODID:-// - ECPv6.15.14//NONSGML v1.0//EN
CALSCALE:GREGORIAN
METHOD:PUBLISH
X-ORIGINAL-URL:https://nhccnm.org
X-WR-CALDESC:Events for 
REFRESH-INTERVAL;VALUE=DURATION:PT1H
X-Robots-Tag:noindex
X-PUBLISHED-TTL:PT1H
BEGIN:VTIMEZONE
TZID:America/Denver
BEGIN:DAYLIGHT
TZOFFSETFROM:-0700
TZOFFSETTO:-0600
TZNAME:MDT
DTSTART:20190310T090000
END:DAYLIGHT
BEGIN:STANDARD
TZOFFSETFROM:-0600
TZOFFSETTO:-0700
TZNAME:MST
DTSTART:20191103T080000
END:STANDARD
BEGIN:DAYLIGHT
TZOFFSETFROM:-0700
TZOFFSETTO:-0600
TZNAME:MDT
DTSTART:20200308T090000
END:DAYLIGHT
BEGIN:STANDARD
TZOFFSETFROM:-0600
TZOFFSETTO:-0700
TZNAME:MST
DTSTART:20201101T080000
END:STANDARD
BEGIN:DAYLIGHT
TZOFFSETFROM:-0700
TZOFFSETTO:-0600
TZNAME:MDT
DTSTART:20210314T090000
END:DAYLIGHT
BEGIN:STANDARD
TZOFFSETFROM:-0600
TZOFFSETTO:-0700
TZNAME:MST
DTSTART:20211107T080000
END:STANDARD
END:VTIMEZONE
BEGIN:VEVENT
DTSTART;VALUE=DATE:20200925
DTEND;VALUE=DATE:20201003
DTSTAMP:20260421T070120
CREATED:20200925T165519Z
LAST-MODIFIED:20200925T165519Z
UID:10560-1600992000-1601683199@nhccnm.org
SUMMARY:Podcast: Globalquerque 2020: World Music
DESCRIPTION:Listen to La Hilacha Podcast Here \nIn episode 11 of History and Literary Arts’ popular new podcast\, La Hilacha\, ¡Globalquerque!’s Tom Frouge joins Valerie Martinez\, Director of History & Literary Arts ¡Escuchar! \n“La Hilacha: Words and Memories” is the title of the NHCC podcast because we understand history and literature as an unraveling thread\, from the richness of our individual and collective stories into the writing that tells these stories to the world.  New episodes of the podcast appear every three weeks. \nFree
URL:https://nhccnm.org/event/podcast-globalquerque-2020-world-music/
CATEGORIES:History and Literary Arts,Music
ATTACH;FMTTYPE=image/png:https://nhccnm.org/wp-content/uploads/2020/04/Hilacha-photo.4.png
END:VEVENT
END:VCALENDAR